BEGIN:VCALENDAR
VERSION:2.0
PRODID:-//chikkutakku.com//RDFCal 1.0//EN
X-WR-CALDESC:GoogleカレンダーやiCalendar形式情報を共有シェ
 アしましょう。近所のイベントから全国のイベントま
 で今日のイベント検索やスケジュールを決めるならち
 っくたっく
X-WR-CALNAME:ちっくたっく
X-WR-TIMEZONE:UTC
BEGIN:VEVENT
SUMMARY:รองนพ.สสจ.ด้านบริการทาง
 วิชาการร่วมออกหน่วยแพทย์
 เคลื่อนที่ พอ.สว. จังหวัดเพ
 ชรบูรณ์ ประจำเดือนเมษายน 256
 9
DTSTART;VALUE=DATE-TIME:20260424T020000Z
DTEND;VALUE=DATE-TIME:20260424T050000Z
UID:127473838175
DESCRIPTION:รองนพ.สสจ.ด้านบริการทา
 งวิชาการร่วมออกหน่วยแพทย
 ์เคลื่อนที่ พอ.สว. จังหวัดเ
 พชรบูรณ์ ประจำเดือนเมษายน 
 2569
LOCATION:ศาลาประชาคม หมู่14 บ้านค
 ลองวังเกวียน ต.คลองกระจัง 
 อ.ศรีเทพ
END:VEVENT
BEGIN:VEVENT
SUMMARY:นพ.สสจ.ร่วมออกหน่วยแพทย
 ์เคลื่อนที่ พอ.สว. จังหวัดเ
 พชรบูรณ์ ประจำเดือนเมษายน 
 2569
DTSTART;VALUE=DATE-TIME:20260424T020000Z
DTEND;VALUE=DATE-TIME:20260424T080000Z
UID:115227153325
DESCRIPTION:นพ.สสจ.ร่วมออกหน่วยแพท
 ย์เคลื่อนที่ พอ.สว. จังหวัด
 เพชรบูรณ์ ประจำเดือนเมษาย
 น 2569
LOCATION:วัดวังขอน\nต.คลองกระจัง 
 อ.ศรีเทพ
END:VEVENT
BEGIN:VEVENT
SUMMARY:นพ.สสจ.ประชุมประเมินเพื
 ่อเลื่อนให้ดำรงตำแหน่งปร
 ะเภททั่วไป ระดับอาวุโส ในส
 ังกัดสำนักงานสาธารณสุขจั
 งหวัดเพชรบูรณ์
DTSTART;VALUE=DATE-TIME:20260424T070000Z
DTEND;VALUE=DATE-TIME:20260424T093000Z
UID:965850349777
DESCRIPTION:นพ.สสจ.ประชุมประเมินเพ
 ื่อเลื่อนให้ดำรงตำแหน่งป
 ระเภททั่วไป ระดับอาวุโส ใน
 สังกัดสำนักงานสาธารณสุขจ
 ังหวัดเพชรบูรณ์
LOCATION:ห้องสุขสำราญ ชั้น4 อาคา
 รเพชรปุระ\nถนนนิกรบำรุง\nจ.เ
 พชรบูรณ์\nเพชรบูรณ์ 67000\nประเ
 ทศไทย
END:VEVENT
BEGIN:VEVENT
SUMMARY:นพ.สสจ.เป็นประธานกล่าวใ
 ห้โอวาทแก่ข้าราชการดำเนิ
 นการทำสัญญาอนุญาตให้ข้าร
 าชการไปศึกษาภายในประเทศ ป
 ี2569
DTSTART;VALUE=DATE-TIME:20260427T020000Z
DTEND;VALUE=DATE-TIME:20260427T030000Z
UID:241995099814
DESCRIPTION:นพ.สสจ.เป็นประธานกล่าว
 ให้โอวาทแก่ข้าราชการดำเน
 ินการทำสัญญาอนุญาตให้ข้า
 ราชการไปศึกษาภายในประเทศ 
 ปี2569
LOCATION:ห้องสุขฤทัย สสจ.เพชรบูร
 ณ์
END:VEVENT
BEGIN:VEVENT
SUMMARY:นพ.สสจ.ประชุมพิจารณาตัด
 สินชี้ขาดของคณะกรรมการชั
 ้นสูง(กรณีเกณฑ์ทหาร)
DTSTART;VALUE=DATE-TIME:20260428T063000Z
DTEND;VALUE=DATE-TIME:20260428T093000Z
UID:135582488780
DESCRIPTION:นพ.สสจ.ประชุมพิจารณาตั
 ดสินชี้ขาดของคณะกรรมการช
 ั้นสูง(กรณีเกณฑ์ทหาร)
LOCATION:ห้องประชุมขันตี ศาลากล
 างจังหวัดเพชรบูรณ์ อาคาร1 
 ชั้น2
END:VEVENT
BEGIN:VEVENT
SUMMARY:นพ.สสจ.ร่วมอบรมการใช้งา
 นระบบ e-Office สำหรับผู้บริหารใ
 นหน่วยงานส่วนภูมิภาค หลัก
 สูตรผู้ดูแลระบบ (Admin)ผู้ใช้ง
 าน(User) และผู้บริหาร/ผู้ลงนาม
DTSTART;VALUE=DATE-TIME:20260428T020000Z
DTEND;VALUE=DATE-TIME:20260428T093000Z
UID:100715914338
DESCRIPTION:นพ.สสจ.ร่วมอบรมการใช้ง
 านระบบ e-Office สำหรับผู้บริหาร
 ในหน่วยงานส่วนภูมิภาค หลั
 กสูตรผู้ดูแลระบบ (Admin)ผู้ใช้
 งาน(User) และผู้บริหาร/ผู้ลงนา
 ม
LOCATION:ห้องพ่อขุนผาเมือง ชั้น6
  อาคารเพชบุระ สสจ.เพชรบูรณ
 ์\nถนนนิกรบำรุง\nจ.เพชรบูรณ์
 \nเพชรบูรณ์ 67000\nประเทศไทย
END:VEVENT
BEGIN:VEVENT
SUMMARY:นพ.สสจ.ประชุมสรุปผลการต
 รวจราชการและนิเทศงานสาธา
 รณสุข กรณีปกติ รอบที่1/2569 เข
 ตสุขภาพที่2
DTSTART;VALUE=DATE-TIME:20260430T020000Z
DTEND;VALUE=DATE-TIME:20260430T093000Z
UID:726088692690
DESCRIPTION:นพ.สสจ.ประชุมสรุปผลการ
 ตรวจราชการและนิเทศงานสาธ
 ารณสุข กรณีปกติ รอบที่1/2569 เ
 ขตสุขภาพที่2
LOCATION:ห้องประชุมสรวงสองแคว ช
 ั้น3 อาคารอำนวยการ ศูนย์วิ
 ทยาศาสตร์การแพทย์ที่2 พิษณ
 ุโลก
END:VEVENT
BEGIN:VEVENT
SUMMARY:นพ.สสจ.เป็นประธานเปิดกา
 รอบรมหลักสูตรพนักงานฉุกเ
 ฉินการแพทย์(พฉพ.)(Emergency Medical Techicine 
 Basic(EMT-B) หลักสูตร120ชั่วโมง จังห
 วัดเพชรบูรณ์
DTSTART;VALUE=DATE-TIME:20260505T020000Z
DTEND;VALUE=DATE-TIME:20260505T030000Z
UID:112023335927
DESCRIPTION:นพ.สสจ.เป็นประธานเปิดก
 ารอบรมหลักสูตรพนักงานฉุก
 เฉินการแพทย์(พฉพ.)(Emergency Medical Techici
 ne Basic(EMT-B) หลักสูตร120ชั่วโมง จัง
 หวัดเพชรบูรณ์
LOCATION:ห้องบุษราคัม ชั้น3 โรงแ
 รมบูรพา
END:VEVENT
BEGIN:VEVENT
SUMMARY:นพ.สสจ.ประชุมคณะกรรมการ
 ขับเคลื่อนการพัฒนาประสิท
 ธิภาพระบบบริการสุขภาพ One Region
  One Province One Hospital เขตสุขภาพที่2 ผ่า
 นCisco Webex
DTSTART;VALUE=DATE-TIME:20260505T060000Z
DTEND;VALUE=DATE-TIME:20260505T093000Z
UID:274973802278
DESCRIPTION:นพ.สสจ.ประชุมคณะกรรมกา
 รขับเคลื่อนการพัฒนาประสิ
 ทธิภาพระบบบริการสุขภาพ One Reg
 ion One Province One Hospital เขตสุขภาพที่2 ผ่
 านCisco Webex
LOCATION:ห้องสุขสันต์ ชั้น2 อาคา
 รเมืองราด สสจ.เพชรบูรณ์\nถน
 นนิกรบำรุง\nจ.เพชรบูรณ์\nเพช
 รบูรณ์ 67000\nประเทศไทย
END:VEVENT
BEGIN:VEVENT
SUMMARY:นพ.สสจ.ร่วมงานสัมมนาเคร
 ือข่าย TO BE NUMBER ONE ปี2569
DTSTART;VALUE=DATE:20260510
DTEND;VALUE=DATE:20260512
UID:327658941013
DESCRIPTION:นพ.สสจ.ร่วมงานสัมมนาเค
 รือข่าย TO BE NUMBER ONE ปี2569
LOCATION:โรงแรมเอเซียแอร์พอต
END:VEVENT
BEGIN:VEVENT
SUMMARY:นพ.สสจ.ร่วมประชุมคณะกรร
 มการอำนวยการดูแลผู้ป่วยใ
 นพระบรมราชานุเคราะห์ พระร
 าชานุเคราะห์ และผู้ด้อยโอ
 กาสในสังคม จังหวัดเพชรบูร
 ณ์ ครั้งที่1/2569
DTSTART;VALUE=DATE-TIME:20260519T020000Z
DTEND;VALUE=DATE-TIME:20260519T050000Z
UID:114655283028
DESCRIPTION:นพ.สสจ.ร่วมประชุมคณะกร
 รมการอำนวยการดูแลผู้ป่วย
 ในพระบรมราชานุเคราะห์ พระ
 ราชานุเคราะห์ และผู้ด้อยโ
 อกาสในสังคม จังหวัดเพชรบู
 รณ์ ครั้งที่1/2569
LOCATION:ห้องพ่อขุนผาเมือง ชั้น6
  อาคารเพชบุระ สสจ.เพชรบูรณ
 ์\nถนนนิกรบำรุง\nจ.เพชรบูรณ์
 \nเพชรบูรณ์ 67000\nประเทศไทย
END:VEVENT
END:VCALENDAR
