BEGIN:VCALENDAR
VERSION:2.0
PRODID:-//chikkutakku.com//RDFCal 1.0//EN
X-WR-CALDESC:GoogleカレンダーやiCalendar形式情報を共有シェ
 アしましょう。近所のイベントから全国のイベントま
 で今日のイベント検索やスケジュールを決めるならち
 っくたっく
X-WR-CALNAME:ちっくたっく
X-WR-TIMEZONE:UTC
BEGIN:VEVENT
SUMMARY:川のある街
DTSTART;VALUE=DATE:20260506
DTEND;VALUE=DATE:20260507
UID:136394588522
DESCRIPTION:2026-05-07川のある街江國香織朝日新聞出版
LOCATION:
END:VEVENT
BEGIN:VEVENT
SUMMARY:こころげそう
DTSTART;VALUE=DATE:20260510
DTEND;VALUE=DATE:20260511
UID:285439768210
DESCRIPTION:2026-05-11こころげそう畠中 恵PHP研究所
LOCATION:
END:VEVENT
BEGIN:VEVENT
SUMMARY:最後の晩餐
DTSTART;VALUE=DATE:20260514
DTEND;VALUE=DATE:20260515
UID:224915026343
DESCRIPTION:2026-05-15最後の晩餐江國 香織/金原 ひとみ/角田
  光代/寺地 はるな/原田 ひ香/藤野 千夜角川春樹事務所
LOCATION:
END:VEVENT
BEGIN:VEVENT
SUMMARY:七人怪談（1）
DTSTART;VALUE=DATE:20260524
DTEND;VALUE=DATE:20260525
UID:226498796653
DESCRIPTION:2026-05-25七人怪談（1）加門 七海/菊地 秀行/澤
 村伊智/霜島 ケイ/名梁 和泉/福澤 徹三KADOKAWA
LOCATION:
END:VEVENT
END:VCALENDAR
