BEGIN:VCALENDAR
VERSION:2.0
PRODID:-//chikkutakku.com//RDFCal 1.0//EN
X-WR-CALDESC:GoogleカレンダーやiCalendar形式情報を共有シェ
 アしましょう。近所のイベントから全国のイベントま
 で今日のイベント検索やスケジュールを決めるならち
 っくたっく
X-WR-CALNAME:ちっくたっく
X-WR-TIMEZONE:UTC
BEGIN:VEVENT
SUMMARY:春日井 HIDEAWAY
DTSTART;VALUE=DATE-TIME:20260425T080000Z
DTEND;VALUE=DATE-TIME:20260425T130000Z
UID:568413772347
DESCRIPTION:4/25（土）春日井　HIDEAWAY\nopen18:30 start19:00\nチ
 ャージ3000円\n1ドリンクのオーダーお願い致します。\n
 駐車場は予約制\n愛知県春日井市小野町2丁目186-1\n080-782
 0-4891\nhideaway.piano@gmail.com
LOCATION:
END:VEVENT
BEGIN:VEVENT
SUMMARY:弁天島 マルガリータ
DTSTART;VALUE=DATE-TIME:20260427T110000Z
DTEND;VALUE=DATE-TIME:20260427T130000Z
UID:199021447273
DESCRIPTION:4/27（月）弁天島 マルガリータ\nop19:00 st20:00 250
 0円1D付\n共演：ノズエモン軍団\n静岡県浜松市中央区舞
 阪町\n弁天島３２８５−１５
LOCATION:
END:VEVENT
BEGIN:VEVENT
SUMMARY:富士吉原 喫茶&スナックNeo HEAVEN
DTSTART;VALUE=DATE-TIME:20260428T100000Z
DTEND;VALUE=DATE-TIME:20260428T140000Z
UID:200784343942
DESCRIPTION:4/28（火）富士吉原 喫茶&スナックNeo HEAVEN\nop18:
 30 st19:00\n3000円d別\n出演：ムラノマツリ、Mr.K、森香\n富
 士市吉原4-2-7\nアラビアンナイトビルライカⅢ1-D
LOCATION:
END:VEVENT
BEGIN:VEVENT
SUMMARY:茅ヶ崎市 STUDIO ONE
DTSTART;VALUE=DATE-TIME:20260429T090000Z
DTEND;VALUE=DATE-TIME:20260429T122000Z
UID:131402011239
DESCRIPTION:4/29（水）茅ヶ崎市　STUDIO ONE\nスタジオワンフ
 ェス\n出演：ペコ、森香、ほか\nopen18:00 start19:00\nMC2000円
 \n神奈川県茅ヶ崎市元町4-10 元町ビル B1F
LOCATION:
END:VEVENT
BEGIN:VEVENT
SUMMARY:静岡 Live bar 風の街
DTSTART;VALUE=DATE-TIME:20260430T100000Z
DTEND;VALUE=DATE-TIME:20260430T140000Z
UID:333140342648
DESCRIPTION:4/30（木）静岡　Live bar 風の街\nop18:30 st19:00\n300
 0円d別\n静岡市葵区七間町13-10\nアトランタビル5F\n080-5481
 -4359（黒川）
LOCATION:
END:VEVENT
BEGIN:VEVENT
SUMMARY:蒲郡 VOODOO LOUNGE
DTSTART;VALUE=DATE-TIME:20260501T100000Z
DTEND;VALUE=DATE-TIME:20260501T130000Z
UID:231609648899
DESCRIPTION:5/1（金）蒲郡 VOODOO LOUNGE\nVOODOO LOUNGE presents ★ L
 OVE YOU LIVE \n森香『でらハッピィ♡ライブ』\n【出演】森
 香、ほか\n開場 19:00 / 開演 19:30\n料金 / ￥3\,000（＋別途1
 ドリンク ￥500）\n※２杯目からはキャッシュオン\n@ Chot
  Bar VOODOO LOUNGE（蒲郡）\nhttps://chotbar-voodoo-lounge.amebaownd.co
 m/\n愛知県蒲郡市港町１０−２０ \n新世界ビル 3F
LOCATION:
END:VEVENT
BEGIN:VEVENT
SUMMARY:黒川 もくきんどう
DTSTART;VALUE=DATE-TIME:20260502T090000Z
DTEND;VALUE=DATE-TIME:20260502T130000Z
UID:230904168552
DESCRIPTION:5/2（土）黒川 もくきんどう\n20:00〜　投げ銭\n
 出演：森香\n〒462-0843 愛知県名古屋市北区田幡２丁目１
 ４−２\n0528709548
LOCATION:
END:VEVENT
BEGIN:VEVENT
SUMMARY:富田ジャズストリート
DTSTART;VALUE=DATE-TIME:20260503T070000Z
DTEND;VALUE=DATE-TIME:20260503T074000Z
UID:193138998993
DESCRIPTION:5/3（日）富田ジャズストリート\n16:00〜 apericena
  Caseiro\n〒569-0814 大阪府高槻市富田町１丁目１４−８ ア
 ネックス中谷
LOCATION:
END:VEVENT
BEGIN:VEVENT
SUMMARY:彦根 Bar貴園
DTSTART;VALUE=DATE-TIME:20260504T000000Z
DTEND;VALUE=DATE-TIME:20260504T010000Z
UID:305161461061
DESCRIPTION:5/4（祝）彦根 Bar貴園\nopen18:30 start19:00\n通常営
 業＋投げ銭よろしく！\n出演：黄昏brothers、森香\n〒522-0
 083 滋賀県彦根市河原２丁目４−２４
LOCATION:
END:VEVENT
BEGIN:VEVENT
SUMMARY:お休み
DTSTART;VALUE=DATE-TIME:20260505T000000Z
DTEND;VALUE=DATE-TIME:20260505T010000Z
UID:310526919522
DESCRIPTION:お休み
LOCATION:
END:VEVENT
BEGIN:VEVENT
SUMMARY:岡崎 BURNY
DTSTART;VALUE=DATE-TIME:20260506T090000Z
DTEND;VALUE=DATE-TIME:20260506T140000Z
UID:289461713038
DESCRIPTION:5/6（祝）岡崎 BURNY\nオープンマイクに参加\n〒4
 44-0057 愛知県岡崎市材木町1丁目18\n第一高木ビル 3階\n070
 -3830-7980\n公式サイト: burny-live-bar.com
LOCATION:
END:VEVENT
BEGIN:VEVENT
SUMMARY:仲田 Coffee Break
DTSTART;VALUE=DATE-TIME:20260507T100000Z
DTEND;VALUE=DATE-TIME:20260507T140000Z
UID:154253651254
DESCRIPTION:5/7（木）仲田 Coffee Braek\nopen19:00 start19:30 2500円d
 別\n出演\nジャズアミーゴ\nだま　　　　Trumpet\n児玉 健
 人　　Guitar\n赤瀬 淳一　　Hammond Organ\n日比野 清一　Drum
 s\n森香\n第三部は森香を囲むセッション！\n参加希望者
 大募集！\n名古屋市千種区仲田二丁目19-8\nサンシャイン
 仲田B1-B
LOCATION:
END:VEVENT
BEGIN:VEVENT
SUMMARY:刈谷 サンダンス
DTSTART;VALUE=DATE-TIME:20260508T100000Z
DTEND;VALUE=DATE-TIME:20260508T130000Z
UID:989423514866
DESCRIPTION:5/8（金）刈谷 サンダンス\n19時開始\nおひねり
 制\n刈谷市恩田町4-154-15\n0566-26-7733
LOCATION:
END:VEVENT
BEGIN:VEVENT
SUMMARY:恵那 Live BAR Stage64
DTSTART;VALUE=DATE-TIME:20260509T083000Z
DTEND;VALUE=DATE-TIME:20260509T123000Z
UID:145562046530
DESCRIPTION:5/9（土）恵那市 Live BAR Stage64\nOPEN 18:00 START 19:00
 \nLIVE CHARGE ·2\,000+ORDER\n出演：森香、モリヒデヤ、他\nOta
 ge64 090-4214-0069\n岐阜県恵那市長島町正家２丁目2-11
LOCATION:
END:VEVENT
BEGIN:VEVENT
SUMMARY:岩倉市  おさや糸店二階かがよひ
DTSTART;VALUE=DATE-TIME:20260510T080000Z
DTEND;VALUE=DATE-TIME:20260510T110000Z
UID:251925747041
DESCRIPTION:5/10（日）愛知県岩倉市  おさや糸店二階かが
 よひ\n【森香 華麗に加齢、カレーライブ】\nカレー持ち
 寄り！歌持ち寄り！感動お持ち帰り！\n　カレーライブ
 ！\nカレーを持ち寄って自慢し合いましょう。\n演奏ご
 希望の方大歓迎。\n\n17：00　開場\n　　開場と受付、ド
 リンクお渡し。\n17：10～17：20　いきなりちょっとだけ
 森香ライブ\n　　作ったカレーと記念撮影。\n　　その
 後カレーを食べたい人は食べる。\n　　カレーを持ち込
 んでいただける方も、募集中。\n17：45～　オープニン
 グアクト\n　　ただ今、出演者募集中。\n19：00～　森香
 ライブ\n20：30　　ライブ終了\nそのまま、飲み会。\n\n
 ライブチャージ　投げ銭お願いします。←大切なこと\n
 　（ワンドリンクはご注文ください。）\nご飯代（ご飯
 を食べる人）　２００円\nカレー代（カレーを持ち込ま
 ずにカレーを食べる人）\n　そのカレーを作った人に２
 ００円。\n　カレーを持込んだ方は、他者のカレーを食
 べてもお互い様無料\nスプーンと器はご用意しますが、
 できればお持ちください。\n\nカレーを持ち込まれる方
 へ\n　おたまじゃくし・鍋敷きまたはポータブルコンロ
 などお忘れなく。\n　コンロなどない場合は、冷えたら
 こちらで温めます。\n\nアルコール類、食べ物の持ち込
 み可。\n　ただしその場合もワンドリンクは、ご注文く
 ださい。\n　持ち込んだものは、皆さんが飲み食いでき
 るようにしてください。\n\n持込のドリンクを飲む場合\
 n　紙コップはご用意します。片づけ、氷の用意など結
 構手間がかかりますので、１００円お店にお支払いく
 ださい。\n　持込ドリンクタイムは、森香ライブが始ま
 ってから、それまでは、お店のドリンクをご注文くだ
 さい。\n　持ち込んだドリンクの保冷・保管はお店側で
 は致しません。必要な場合は、各自クーラーなどお持
 ちください。\n　冷えたビールは、かがよひでも販売し
 ています。\n\n　演奏ご希望の方、カレーを持ち込まれ
 る方、メールまたは、お電話で。\n　お友達のカレー好
 き、音楽好き、演奏したい人、皆様、お誘いください
 。\n\n　演奏される方は、なるべく17：00にはご来場くだ
 さい。\n\n楽しいライブです。
LOCATION:
END:VEVENT
BEGIN:VEVENT
SUMMARY:奄美 ムーンチャイルド
DTSTART;VALUE=DATE-TIME:20260512T110000Z
DTEND;VALUE=DATE-TIME:20260512T140000Z
UID:201144094374
DESCRIPTION:5/12（火）奄美 ムーンチャイルド\nopen18:00 start1
 9:00\n2000円（要ドリンクオーダー）\n出演：全宇宙フォ
 ーク保存協会/ならびや和田＆タナＰ/森香\n鹿児島県奄
 美市名瀬入舟町１０−１
LOCATION:
END:VEVENT
BEGIN:VEVENT
SUMMARY:奄美 MAYASCO
DTSTART;VALUE=DATE-TIME:20260513T103000Z
DTEND;VALUE=DATE-TIME:20260513T133000Z
UID:241646608567
DESCRIPTION:5/13（水）奄美 MAYASCO\n19:30open  20:00start\n2500円要
 ドリンクオーダー\n出演：森香、他\n鹿児島県奄美市名
 瀬入舟町２２−９
LOCATION:
END:VEVENT
BEGIN:VEVENT
SUMMARY:古仁屋 JUICE
DTSTART;VALUE=DATE-TIME:20260514T100000Z
DTEND;VALUE=DATE-TIME:20260514T130000Z
UID:165396290741
DESCRIPTION:5/14（木）古仁屋 JUICE\nオープンマイクに参加
 します。\n894-1504 \n鹿児島県大島郡瀬戸内町古仁屋春日
 ５−１\n0997-72-4814
LOCATION:
END:VEVENT
BEGIN:VEVENT
SUMMARY:御器所 なんや vsキヨマロガンプラとんとん相撲
DTSTART;VALUE=DATE-TIME:20260516T093000Z
DTEND;VALUE=DATE-TIME:20260516T123000Z
UID:236960750079
DESCRIPTION:5/16（土）御器所　なんや\nでらハッピィ
 ♡ジョイント \n白根キヨマロvs.六本木ブギーズ！（
 森香&森田和信）\nガンプラとんとん相撲御器所場所開
 催\n18:00open 19:00start \n2500円（d別）\n白根キヨマロ/鬼熊
 敦朗/森田和信（大阪）/森香、他\n名古屋市昭和区塩付
 通1-47-4\n052-762-9289\n\n\nガンダムとんとん相撲ルールブッ
 ク\n\n"使用プラモは1/144"\n"｢機動戦士ガンダム｣シリー
 ズのプラモを使用"\n"足の付いた機体である事"\n"人型の
 モビルスーツ"（2023/02/05改定）\n\nこれを守っていただ
 ければ何をして戴いても構いません。　\n\n只"昨今の原
 材料不足""転売屋等の台頭"なんかで暫く"ガンプラの手
 に入りにくい状況"が続いております。『まだ時間ある
 からぁ………』と余裕こいて当日前に『ガンプラが無
 い ！』なんて事にもなりかねません。\nそして最近の
 プラモデルは"素組でも綺麗に出来る"程簡単に組み立て
 られますが、"合わせ目消して、色塗って…キレイに組
 み立てたい…"なんてやると数週間〜数ヶ月かかります
 。\n早めに取りかかりましょう
LOCATION:
END:VEVENT
BEGIN:VEVENT
SUMMARY:西尾 きーずハウス
DTSTART;VALUE=DATE-TIME:20260517T050000Z
DTEND;VALUE=DATE-TIME:20260517T070000Z
UID:670902540313
DESCRIPTION:5/17（日）西尾 きーずハウス\nop13:30 st14:00 3000
 円D付\n出演：MASATO、森香\n〒444-0516 愛知県西尾市吉良町
 吉田宮腰34\n0563-32-0657
LOCATION:
END:VEVENT
BEGIN:VEVENT
SUMMARY:お休み
DTSTART;VALUE=DATE:20260517
DTEND;VALUE=DATE:20260518
UID:258776518925
DESCRIPTION:お休み
LOCATION:
END:VEVENT
BEGIN:VEVENT
SUMMARY:お休み
DTSTART;VALUE=DATE:20260518
DTEND;VALUE=DATE:20260519
UID:269926035031
DESCRIPTION:お休み
LOCATION:
END:VEVENT
BEGIN:VEVENT
SUMMARY:お休み
DTSTART;VALUE=DATE-TIME:20260520T030000Z
DTEND;VALUE=DATE-TIME:20260520T040000Z
UID:212013286426
DESCRIPTION:休み
LOCATION:
END:VEVENT
BEGIN:VEVENT
SUMMARY:岩倉市　かがよひ
DTSTART;VALUE=DATE-TIME:20260521T103000Z
DTEND;VALUE=DATE-TIME:20260521T130000Z
UID:283135327760
DESCRIPTION:5/21（木）岩倉市　コミュニティカフェかがよ
 ひ\n〈森栄・一生に一度の主役ライブ〉\n19:00open  19:30sta
 rt\n2500円（要オーダー）\n森栄/上地gacha一也/ダイオン小
 林/森香\n愛知県岩倉市昭和町一丁目２３\nおさやビル２
 階\n連絡先　090-3562-0479　きし\n　　または、メッセージ
 にて
LOCATION:
END:VEVENT
BEGIN:VEVENT
SUMMARY:御器所 なんや
DTSTART;VALUE=DATE-TIME:20260522T090000Z
DTEND;VALUE=DATE-TIME:20260522T120000Z
UID:699964036760
DESCRIPTION:5/22（金）御器所 なんや\nopen19:00 start19:30 3000円
 d別\n「ふたりのうちゅう」\nうたとギターとベースでど
 こまで翔べるか？\n出演：上地gacha一也（UprightBass）、
 森香（ギターと歌）\n世界中のありとあらゆる音楽家と
 宇宙をつくりづづけるベーシスト通称ガチャピンを名
 古屋に招いてのライブです。\n466-0022\n名古屋市昭和区
 塩付通１-４７-４
LOCATION:
END:VEVENT
BEGIN:VEVENT
SUMMARY:関 THE GUITARMAN
DTSTART;VALUE=DATE-TIME:20260523T100000Z
DTEND;VALUE=DATE-TIME:20260523T120000Z
UID:136962336819
DESCRIPTION:5/23（土）関 THE GUITARMAN\nopen18:30 start19:00\n3500円d
 付\n「ふたりのうちゅう」\nうたとギターとベースでど
 こまで翔べるか？\n世界中のありとあらゆる音楽家と宇
 宙をつくりづづけるベーシスト通称ガチャピンを名古
 屋に招いてのライブです。\n出演：Cheers、上地gacha一也
 、森香\n岐阜県関市本町８丁目８\nラ・スォードビル１F
LOCATION:
END:VEVENT
BEGIN:VEVENT
SUMMARY:安城 papa cafe
DTSTART;VALUE=DATE-TIME:20260524T080000Z
DTEND;VALUE=DATE-TIME:20260524T110000Z
UID:146966574128
DESCRIPTION:5/24（日）安城 papa cafe\n沖縄の最高のベースと
 森香によるでらハッピィな音楽を楽しむ会。\nゲスト：
 めぐ&けんご\nopen14:30 start15:00\n2500円1d付\n愛知県安城市
 住吉町７丁目7−５\n0566-55-1977
LOCATION:
END:VEVENT
END:VCALENDAR
