BEGIN:VCALENDAR
VERSION:2.0
PRODID:-//chikkutakku.com//RDFCal 1.0//EN
X-WR-CALDESC:GoogleカレンダーやiCalendar形式情報を共有シェ
 アしましょう。近所のイベントから全国のイベントま
 で今日のイベント検索やスケジュールを決めるならち
 っくたっく
X-WR-CALNAME:ちっくたっく
X-WR-TIMEZONE:UTC
BEGIN:VEVENT
SUMMARY:聖闘士星矢THE LOST CANVAS冥王神話 番外編 2
DTSTART;VALUE=DATE:20260419
DTEND;VALUE=DATE:20260420
UID:973555442056
DESCRIPTION:2026-04-20聖闘士星矢THE LOST CANVAS冥王神話 番外編
  2車田正美/手代木史織秋田書店
LOCATION:
END:VEVENT
BEGIN:VEVENT
SUMMARY:都市ではじめる自給自足 野菜＆お米＆果樹 ガイ
 ドブック
DTSTART;VALUE=DATE:20260419
DTEND;VALUE=DATE:20260420
UID:208289650628
DESCRIPTION:2026-04-20都市ではじめる自給自足 野菜＆お米＆
 果樹 ガイドブックはたあきひろ内外出版社
LOCATION:
END:VEVENT
BEGIN:VEVENT
SUMMARY:しぜん
DTSTART;VALUE=DATE:20260421
DTEND;VALUE=DATE:20260422
UID:828959663419
DESCRIPTION:2026-04-22しぜんかしわら あきおポプラ社
LOCATION:
END:VEVENT
BEGIN:VEVENT
SUMMARY:たべもの
DTSTART;VALUE=DATE:20260421
DTEND;VALUE=DATE:20260422
UID:178408303787
DESCRIPTION:2026-04-22たべものかしわら あきおポプラ社
LOCATION:
END:VEVENT
BEGIN:VEVENT
SUMMARY:くだもの・やさい
DTSTART;VALUE=DATE:20260421
DTEND;VALUE=DATE:20260422
UID:161877827962
DESCRIPTION:2026-04-22くだもの・やさいかしわら あきおポプ
 ラ社
LOCATION:
END:VEVENT
BEGIN:VEVENT
SUMMARY:ねこ
DTSTART;VALUE=DATE:20260421
DTEND;VALUE=DATE:20260422
UID:231834287133
DESCRIPTION:2026-04-22ねこかしわら あきおポプラ社
LOCATION:
END:VEVENT
BEGIN:VEVENT
SUMMARY:いぬ
DTSTART;VALUE=DATE:20260421
DTEND;VALUE=DATE:20260422
UID:163425206459
DESCRIPTION:2026-04-22いぬかしわら あきおポプラ社
LOCATION:
END:VEVENT
BEGIN:VEVENT
SUMMARY:どうぶつ
DTSTART;VALUE=DATE:20260421
DTEND;VALUE=DATE:20260422
UID:149469681147
DESCRIPTION:2026-04-22どうぶつかしわら あきお/小宮 輝之ポ
 プラ社
LOCATION:
END:VEVENT
BEGIN:VEVENT
SUMMARY:新装版 もやしもん（13）
DTSTART;VALUE=DATE:20260422
DTEND;VALUE=DATE:20260423
UID:705208481738
DESCRIPTION:2026-04-23新装版 もやしもん（13）石川 雅之講談
 社
LOCATION:
END:VEVENT
BEGIN:VEVENT
SUMMARY:百姓貴族（9）アニメ3rd Season DVD付き 特装版
DTSTART;VALUE=DATE:20260423
DTEND;VALUE=DATE:20260424
UID:219929301593
DESCRIPTION:2026-04-24百姓貴族（9）アニメ3rd Season DVD付き 特
 装版荒川 弘新書館
LOCATION:
END:VEVENT
BEGIN:VEVENT
SUMMARY:百姓貴族（9）
DTSTART;VALUE=DATE:20260423
DTEND;VALUE=DATE:20260424
UID:121377483905
DESCRIPTION:2026-04-24百姓貴族（9）荒川 弘新書館
LOCATION:
END:VEVENT
BEGIN:VEVENT
SUMMARY:ゆびから ぐいーん
DTSTART;VALUE=DATE:20260423
DTEND;VALUE=DATE:20260424
UID:257560802589
DESCRIPTION:2026-04-24ゆびから ぐいーんかしわら あきおワ
 ニブックス
LOCATION:
END:VEVENT
BEGIN:VEVENT
SUMMARY:流刑地公爵妻の魔法改革 ハズレ光属性だけど前
 世知識でお役立ち（2）
DTSTART;VALUE=DATE:20260423
DTEND;VALUE=DATE:20260424
UID:281107977085
DESCRIPTION:2026-04-24流刑地公爵妻の魔法改革 ハズレ光属性
 だけど前世知識でお役立ち（2）笠木あき/富士とまと双
 葉社
LOCATION:
END:VEVENT
BEGIN:VEVENT
SUMMARY:了巷説百物語
DTSTART;VALUE=DATE:20260423
DTEND;VALUE=DATE:20260424
UID:203374319647
DESCRIPTION:2026-04-24了巷説百物語京極 夏彦KADOKAWA
LOCATION:
END:VEVENT
BEGIN:VEVENT
SUMMARY:絵本百物語
DTSTART;VALUE=DATE:20260423
DTEND;VALUE=DATE:20260424
UID:312702127588
DESCRIPTION:2026-04-24絵本百物語京極 夏彦/竹原 春泉/桃山人
 KADOKAWA
LOCATION:
END:VEVENT
BEGIN:VEVENT
SUMMARY:パーム（45）TASK 10
DTSTART;VALUE=DATE:20260423
DTEND;VALUE=DATE:20260424
UID:796439289609
DESCRIPTION:2026-04-24パーム（45）TASK 10獸木野生新書館
LOCATION:
END:VEVENT
BEGIN:VEVENT
SUMMARY:怪と幽 vol.022 2026年5月
DTSTART;VALUE=DATE:20260426
DTEND;VALUE=DATE:20260427
UID:104026536675
DESCRIPTION:2026-04-27怪と幽 vol.022 2026年5月京極 夏彦/綿矢 
 りさ/小川 洋子/澤村伊智/乙 一/山白 朝子KADOKAWA
LOCATION:
END:VEVENT
BEGIN:VEVENT
SUMMARY:ファミリー・ショー 5
DTSTART;VALUE=DATE:20260429
DTEND;VALUE=DATE:20260430
UID:337264212670
DESCRIPTION:2026-04-30ファミリー・ショー 5松尾 あきCygames
LOCATION:
END:VEVENT
BEGIN:VEVENT
SUMMARY:人外姫様、始めました 〜Free Life Fantasy Online〜（17
 ）
DTSTART;VALUE=DATE:20260507
DTEND;VALUE=DATE:20260508
UID:665887487827
DESCRIPTION:2026-05-08人外姫様、始めました 〜Free Life Fantasy 
 Online〜（17）園原 アオ/割田 コマ/子日 あきすず/Sherry講
 談社
LOCATION:
END:VEVENT
BEGIN:VEVENT
SUMMARY:ファイブスター物語 19
DTSTART;VALUE=DATE:20260508
DTEND;VALUE=DATE:20260509
UID:104246319158
DESCRIPTION:2026-05-09ファイブスター物語 19永野 護KADOKAWA
LOCATION:
END:VEVENT
BEGIN:VEVENT
SUMMARY:CLAMP PREMIUM COLLECTION ANGELIC LAYER （1）
DTSTART;VALUE=DATE:20260508
DTEND;VALUE=DATE:20260509
UID:336921671583
DESCRIPTION:2026-05-09CLAMP PREMIUM COLLECTION ANGELIC LAYER （1）CLAMPK
 ADOKAWA
LOCATION:
END:VEVENT
BEGIN:VEVENT
SUMMARY:後宮の蝶は妖しく舞う
DTSTART;VALUE=DATE:20260510
DTEND;VALUE=DATE:20260511
UID:326060082050
DESCRIPTION:2026-05-11後宮の蝶は妖しく舞う白川 紺子/小野 
 はるか/三川 みり/天花寺 さやか/伊勢村 朱音PHP研究所
LOCATION:
END:VEVENT
BEGIN:VEVENT
SUMMARY:うちの若殿は化け猫なので2
DTSTART;VALUE=DATE:20260511
DTEND;VALUE=DATE:20260512
UID:243958267740
DESCRIPTION:2026-05-12うちの若殿は化け猫なので2三川みり光
 文社
LOCATION:
END:VEVENT
BEGIN:VEVENT
SUMMARY:妖精国の騎士 Ballad 〜継ぐ視の守護者〜 11
DTSTART;VALUE=DATE:20260514
DTEND;VALUE=DATE:20260515
UID:190268054271
DESCRIPTION:2026-05-15妖精国の騎士 Ballad 〜継ぐ視の守護者
 〜 11中山星香秋田書店
LOCATION:
END:VEVENT
BEGIN:VEVENT
SUMMARY:9番目のムサシ ゴースト アンド グレイ 21
DTSTART;VALUE=DATE:20260514
DTEND;VALUE=DATE:20260515
UID:116403004435
DESCRIPTION:2026-05-159番目のムサシ ゴースト アンド グレイ
  21高橋美由紀秋田書店
LOCATION:
END:VEVENT
BEGIN:VEVENT
SUMMARY:オヤサイリベリオン（1）
DTSTART;VALUE=DATE:20260514
DTEND;VALUE=DATE:20260515
UID:982196238799
DESCRIPTION:2026-05-15オヤサイリベリオン（1）あきときたい
 きヒーローズ
LOCATION:
END:VEVENT
BEGIN:VEVENT
SUMMARY:Smoke
DTSTART;VALUE=DATE:20260514
DTEND;VALUE=DATE:20260515
UID:126013481678
DESCRIPTION:2026-05-15Smoke大暮 維人講談社
LOCATION:
END:VEVENT
BEGIN:VEVENT
SUMMARY:灰仭巫覡（8）
DTSTART;VALUE=DATE:20260514
DTEND;VALUE=DATE:20260515
UID:234697064556
DESCRIPTION:2026-05-15灰仭巫覡（8）大暮 維人講談社
LOCATION:
END:VEVENT
BEGIN:VEVENT
SUMMARY:慰謝料狩り 5
DTSTART;VALUE=DATE:20260518
DTEND;VALUE=DATE:20260519
UID:222658413227
DESCRIPTION:2026-05-19慰謝料狩り 5きづきあきら＋サトウナ
 ンキ集英社
LOCATION:
END:VEVENT
BEGIN:VEVENT
SUMMARY:復讐を希う最強勇者は、闇の力で殲滅無双する 18
DTSTART;VALUE=DATE:20260518
DTEND;VALUE=DATE:20260519
UID:147116868003
DESCRIPTION:2026-05-19復讐を希う最強勇者は、闇の力で殲滅
 無双する 18坂本 あきら/斧名田 マニマニ/半次/荒野集英
 社
LOCATION:
END:VEVENT
END:VCALENDAR
