BEGIN:VCALENDAR
VERSION:2.0
PRODID:-//chikkutakku.com//RDFCal 1.0//EN
X-WR-CALDESC:GoogleカレンダーやiCalendar形式情報を共有シェ
 アしましょう。近所のイベントから全国のイベントま
 で今日のイベント検索やスケジュールを決めるならち
 っくたっく
X-WR-CALNAME:ちっくたっく
X-WR-TIMEZONE:UTC
BEGIN:VEVENT
SUMMARY:青の祓魔師 34
DTSTART;VALUE=DATE:20260430
DTEND;VALUE=DATE:20260501
UID:168947041442
DESCRIPTION:2026-05-01青の祓魔師 34加藤和恵集英社
LOCATION:
END:VEVENT
BEGIN:VEVENT
SUMMARY:呪術廻戦 ファントムパレード 公式ビジュアルブ
 ック
DTSTART;VALUE=DATE:20260430
DTEND;VALUE=DATE:20260501
UID:282748085412
DESCRIPTION:2026-05-01呪術廻戦 ファントムパレード 公式ビ
 ジュアルブック芥見下々集英社
LOCATION:
END:VEVENT
BEGIN:VEVENT
SUMMARY:呪術廻戦≡（モジュロ） 3
DTSTART;VALUE=DATE:20260430
DTEND;VALUE=DATE:20260501
UID:155795531903
DESCRIPTION:2026-05-01呪術廻戦≡（モジュロ） 3芥見下々/岩
 崎優次集英社
LOCATION:
END:VEVENT
BEGIN:VEVENT
SUMMARY:青の祓魔師 カラー版 9
DTSTART;VALUE=DATE:20260430
DTEND;VALUE=DATE:20260501
UID:151062330111
DESCRIPTION:2026-05-01青の祓魔師 カラー版 9加藤和恵集英社
LOCATION:
END:VEVENT
BEGIN:VEVENT
SUMMARY:Shrink～精神科医ヨワイ～ 18
DTSTART;VALUE=DATE:20260518
DTEND;VALUE=DATE:20260519
UID:246899664620
DESCRIPTION:2026-05-19Shrink～精神科医ヨワイ～ 18七海仁/月子
 集英社
LOCATION:
END:VEVENT
BEGIN:VEVENT
SUMMARY:サキヨミ！【おまけ描き下ろし付き】　5巻
DTSTART;VALUE=DATE:20260519
DTEND;VALUE=DATE:20260520
UID:338842398010
DESCRIPTION:2026-05-20サキヨミ！【おまけ描き下ろし付き】
 　5巻山口美由紀/七海　まち白泉社
LOCATION:
END:VEVENT
END:VCALENDAR
