BEGIN:VCALENDAR
VERSION:2.0
PRODID:-//chikkutakku.com//RDFCal 1.0//EN
X-WR-CALDESC:GoogleカレンダーやiCalendar形式情報を共有シェ
 アしましょう。近所のイベントから全国のイベントま
 で今日のイベント検索やスケジュールを決めるならち
 っくたっく
X-WR-CALNAME:ちっくたっく
X-WR-TIMEZONE:UTC
BEGIN:VEVENT
SUMMARY:第五皇女の成り上がり！（4）
DTSTART;VALUE=DATE:20260421
DTEND;VALUE=DATE:20260422
UID:209013939113
DESCRIPTION:2026-04-22第五皇女の成り上がり！（4）清家未森
 アルファポリス
LOCATION:
END:VEVENT
BEGIN:VEVENT
SUMMARY:もののふっ!!（3）
DTSTART;VALUE=DATE:20260422
DTEND;VALUE=DATE:20260423
UID:148918174182
DESCRIPTION:2026-04-23もののふっ!!（3）琥狗ハヤテ幻冬舎コ
 ミックス
LOCATION:
END:VEVENT
BEGIN:VEVENT
SUMMARY:あなたのマ王さま
DTSTART;VALUE=DATE:20260422
DTEND;VALUE=DATE:20260423
UID:500834473506
DESCRIPTION:2026-04-23あなたのマ王さま九重シャム幻冬舎コ
 ミックス
LOCATION:
END:VEVENT
BEGIN:VEVENT
SUMMARY:STAYGOLD それから。（4）
DTSTART;VALUE=DATE:20260423
DTEND;VALUE=DATE:20260424
UID:457816689754
DESCRIPTION:2026-04-24STAYGOLD それから。（4）秀 良子祥伝社
LOCATION:
END:VEVENT
BEGIN:VEVENT
SUMMARY:ありふれた家を建てる
DTSTART;VALUE=DATE:20260423
DTEND;VALUE=DATE:20260424
UID:331102428410
DESCRIPTION:2026-04-24ありふれた家を建てる椹野 道流U-NEXT
LOCATION:
END:VEVENT
BEGIN:VEVENT
SUMMARY:推し様の仰せのままに
DTSTART;VALUE=DATE:20260423
DTEND;VALUE=DATE:20260424
UID:597873916389
DESCRIPTION:2026-04-24推し様の仰せのままに水名瀬雅良徳間
 書店
LOCATION:
END:VEVENT
BEGIN:VEVENT
SUMMARY:アイ・ウォント・トゥ・ホールド・ユア・ハンド
  東京バンドワゴン
DTSTART;VALUE=DATE:20260423
DTEND;VALUE=DATE:20260424
UID:159078320023
DESCRIPTION:2026-04-24アイ・ウォント・トゥ・ホールド・ユ
 ア・ハンド 東京バンドワゴン小路 幸也集英社
LOCATION:
END:VEVENT
BEGIN:VEVENT
SUMMARY:コンプエース 2026年 6月号 [雑誌]
DTSTART;VALUE=DATE:20260423
DTEND;VALUE=DATE:20260424
UID:116608441966
DESCRIPTION:2026-04-24コンプエース 2026年 6月号 [雑誌]KADOKAWA
LOCATION:
END:VEVENT
BEGIN:VEVENT
SUMMARY:Disney Twisted-Wonderland The Comic Episode of Savanaclaw（3）(
 完)
DTSTART;VALUE=DATE:20260426
DTEND;VALUE=DATE:20260427
UID:134053913016
DESCRIPTION:2026-04-27Disney Twisted-Wonderland The Comic Episode of Savan
 aclaw（3）(完)枢やな/小田すずかスクウェア・エニック
 ス
LOCATION:
END:VEVENT
BEGIN:VEVENT
SUMMARY:【新装版】クレバテスー魔獣の王と赤子と屍の勇
 者ー 12
DTSTART;VALUE=DATE:20260427
DTEND;VALUE=DATE:20260428
UID:474713363048
DESCRIPTION:2026-04-28【新装版】クレバテスー魔獣の王と赤
 子と屍の勇者ー 12岩原 裕二KADOKAWA
LOCATION:
END:VEVENT
BEGIN:VEVENT
SUMMARY:オリジナルボーイズラブアンソロジーCanna Vol.107 
 （仮）
DTSTART;VALUE=DATE:20260427
DTEND;VALUE=DATE:20260428
UID:158005830559
DESCRIPTION:2026-04-28オリジナルボーイズラブアンソロジーC
 anna Vol.107 （仮）青井 秋/朝田 ねむい/天嗣 さんる/いと
 う ぎりこ/久間 よよよ/米田 おゆプランタン出版
LOCATION:
END:VEVENT
BEGIN:VEVENT
SUMMARY:死ぬ覚悟で人食い魔王の森に入ります
DTSTART;VALUE=DATE:20260427
DTEND;VALUE=DATE:20260428
UID:310878475150
DESCRIPTION:2026-04-28死ぬ覚悟で人食い魔王の森に入ります
 中原一也/笠井あゆみ徳間書店
LOCATION:
END:VEVENT
BEGIN:VEVENT
SUMMARY:倫敦スコーンの謎
DTSTART;VALUE=DATE:20260429
DTEND;VALUE=DATE:20260430
UID:132470943144
DESCRIPTION:2026-04-30倫敦スコーンの謎米澤穂信東京創元社
LOCATION:
END:VEVENT
BEGIN:VEVENT
SUMMARY:世界一初恋 〜小野寺律の場合21〜小冊子付き特装
 版
DTSTART;VALUE=DATE:20260429
DTEND;VALUE=DATE:20260430
UID:486663827965
DESCRIPTION:2026-04-30世界一初恋 〜小野寺律の場合21〜小冊
 子付き特装版中村 春菊KADOKAWA
LOCATION:
END:VEVENT
BEGIN:VEVENT
SUMMARY:世界一初恋 〜小野寺律の場合21〜
DTSTART;VALUE=DATE:20260429
DTEND;VALUE=DATE:20260430
UID:628319503954
DESCRIPTION:2026-04-30世界一初恋 〜小野寺律の場合21〜中村 
 春菊KADOKAWA
LOCATION:
END:VEVENT
BEGIN:VEVENT
SUMMARY:婚約破棄されたりされなかったりですが、不幸令
 嬢になりました。〜ざまぁしなくても幸せです〜 アン
 ソロジーコミック（3）
DTSTART;VALUE=DATE:20260429
DTEND;VALUE=DATE:20260430
UID:420874985212
DESCRIPTION:2026-04-30婚約破棄されたりされなかったりです
 が、不幸令嬢になりました。〜ざまぁしなくても幸せ
 です〜 アンソロジーコミック（3）翁 よん/櫻井 しゅし
 ゅしゅ/佐木田 すい/麦畑 茶々子/紀ノこっぱ/櫻野 くる
 み講談社
LOCATION:
END:VEVENT
BEGIN:VEVENT
SUMMARY:まるさんかくしかく（6）
DTSTART;VALUE=DATE:20260429
DTEND;VALUE=DATE:20260430
UID:124377349194
DESCRIPTION:2026-04-30まるさんかくしかく（6）東村 アキコ
 小学館
LOCATION:
END:VEVENT
BEGIN:VEVENT
SUMMARY:まるさんかくしかく＋
DTSTART;VALUE=DATE:20260429
DTEND;VALUE=DATE:20260430
UID:335583168865
DESCRIPTION:2026-04-30まるさんかくしかく＋東村 アキコ小学
 館
LOCATION:
END:VEVENT
BEGIN:VEVENT
SUMMARY:極道さんは愛を貫くパパで愛妻家 上
DTSTART;VALUE=DATE:20260430
DTEND;VALUE=DATE:20260501
UID:227310821336
DESCRIPTION:2026-05-01極道さんは愛を貫くパパで愛妻家 上佐
 倉 温/桜城 ややKADOKAWA
LOCATION:
END:VEVENT
BEGIN:VEVENT
SUMMARY:ドーナツ屋の夜のつれづれ 01（1）
DTSTART;VALUE=DATE:20260430
DTEND;VALUE=DATE:20260501
UID:162502306844
DESCRIPTION:2026-05-01ドーナツ屋の夜のつれづれ 01（1）煮込
 みそ/古池 ねじ/青井 秋KADOKAWA
LOCATION:
END:VEVENT
BEGIN:VEVENT
SUMMARY:愛の巣へ還れ！
DTSTART;VALUE=DATE:20260430
DTEND;VALUE=DATE:20260501
UID:610391719491
DESCRIPTION:2026-05-01愛の巣へ還れ！樋口 美沙緒/街子 マド
 カ白泉社
LOCATION:
END:VEVENT
BEGIN:VEVENT
SUMMARY:東島丹三郎は仮面ライダーになりたい（18）
DTSTART;VALUE=DATE:20260506
DTEND;VALUE=DATE:20260507
UID:318943256415
DESCRIPTION:2026-05-07東島丹三郎は仮面ライダーになりたい
 （18）柴田 ヨクサルヒーローズ
LOCATION:
END:VEVENT
BEGIN:VEVENT
SUMMARY:本屋さんのある街で
DTSTART;VALUE=DATE:20260507
DTEND;VALUE=DATE:20260508
UID:186802765688
DESCRIPTION:2026-05-08本屋さんのある街で凪良 ゆう/瀬尾 ま
 いこ/坂木 司/一穂 ミチ/三浦 しをん文藝春秋
LOCATION:
END:VEVENT
BEGIN:VEVENT
SUMMARY:黒薔薇アリスD．C．al fine（6）
DTSTART;VALUE=DATE:20260507
DTEND;VALUE=DATE:20260508
UID:746298339207
DESCRIPTION:2026-05-08黒薔薇アリスD．C．al fine（6）水城 せ
 とな小学館
LOCATION:
END:VEVENT
BEGIN:VEVENT
SUMMARY:失踪人
DTSTART;VALUE=DATE:20260511
DTEND;VALUE=DATE:20260512
UID:244684707591
DESCRIPTION:2026-05-12失踪人小路幸也光文社
LOCATION:
END:VEVENT
BEGIN:VEVENT
SUMMARY:花の王国 向日葵のアルファと白薔薇のオメガ
DTSTART;VALUE=DATE:20260512
DTEND;VALUE=DATE:20260513
UID:326265592235
DESCRIPTION:2026-05-13花の王国 向日葵のアルファと白薔薇の
 オメガ犬飼のの/奈良千春竹書房
LOCATION:
END:VEVENT
BEGIN:VEVENT
SUMMARY:心霊探偵八雲 FILE1 開かずの間
DTSTART;VALUE=DATE:20260513
DTEND;VALUE=DATE:20260514
UID:315449011078
DESCRIPTION:2026-05-14心霊探偵八雲 FILE1 開かずの間神永 学/K
 U講談社
LOCATION:
END:VEVENT
BEGIN:VEVENT
SUMMARY:あめつちだれかれそこかしこ（11）
DTSTART;VALUE=DATE:20260514
DTEND;VALUE=DATE:20260515
UID:208223759680
DESCRIPTION:2026-05-15あめつちだれかれそこかしこ（11）青
 桐ナツマッグガーデン
LOCATION:
END:VEVENT
BEGIN:VEVENT
SUMMARY:元ヒロイン、モブになる 3
DTSTART;VALUE=DATE:20260514
DTEND;VALUE=DATE:20260515
UID:209854961150
DESCRIPTION:2026-05-15元ヒロイン、モブになる 3有生青春シ
 ュークリーム
LOCATION:
END:VEVENT
BEGIN:VEVENT
SUMMARY:離婚しやがれ、α様 melty nest
DTSTART;VALUE=DATE:20260517
DTEND;VALUE=DATE:20260518
UID:247338052322
DESCRIPTION:2026-05-18離婚しやがれ、α様 melty nest紺色ルナ彗
 星社
LOCATION:
END:VEVENT
BEGIN:VEVENT
SUMMARY:理想郷女子図鑑 3 〜私の結婚生活、とっても幸せ
 です〜
DTSTART;VALUE=DATE:20260518
DTEND;VALUE=DATE:20260519
UID:286205748818
DESCRIPTION:2026-05-19理想郷女子図鑑 3 〜私の結婚生活、と
 っても幸せです〜山田 シロ彦/江坂 純集英社
LOCATION:
END:VEVENT
BEGIN:VEVENT
SUMMARY:異世界で王家の専属パティシエになりました
DTSTART;VALUE=DATE:20260519
DTEND;VALUE=DATE:20260520
UID:481053271374
DESCRIPTION:2026-05-20異世界で王家の専属パティシエになり
 ました安曇ひかる/タカツキノボル三交社
LOCATION:
END:VEVENT
END:VCALENDAR
