BEGIN:VCALENDAR
VERSION:2.0
PRODID:-//chikkutakku.com//RDFCal 1.0//EN
X-WR-CALDESC:GoogleカレンダーやiCalendar形式情報を共有シェ
 アしましょう。近所のイベントから全国のイベントま
 で今日のイベント検索やスケジュールを決めるならち
 っくたっく
X-WR-CALNAME:ちっくたっく
X-WR-TIMEZONE:UTC
BEGIN:VEVENT
SUMMARY:NCCC FT4 Sprint
DTSTART;VALUE=DATE-TIME:20260424T010000Z
DTEND;VALUE=DATE-TIME:20260424T013000Z
UID:193253141373
DESCRIPTION:https://ncccsprint.com/ft4ns.html
LOCATION:
END:VEVENT
BEGIN:VEVENT
SUMMARY:NCCC RTTY Sprint
DTSTART;VALUE=DATE-TIME:20260424T014500Z
DTEND;VALUE=DATE-TIME:20260424T021500Z
UID:176204755010
DESCRIPTION:https://ncccsprint.com/rttyns.html
LOCATION:
END:VEVENT
BEGIN:VEVENT
SUMMARY:お花好き　美女の会　Aルーム
DTSTART;VALUE=DATE-TIME:20260424T043000Z
DTEND;VALUE=DATE-TIME:20260424T070000Z
UID:161263736956
DESCRIPTION:お花好き　美女の会　Aルーム
LOCATION:
END:VEVENT
BEGIN:VEVENT
SUMMARY:川崎市　第25回川崎ハーモニカ音楽祭
DTSTART;VALUE=DATE-TIME:20260425T043000Z
DTEND;VALUE=DATE-TIME:20260425T080000Z
UID:216497012517
DESCRIPTION:第25回川崎ハーモニカ音楽祭エポックなかはら
  (川崎市総合福祉センター)入場無料◆お問合せuhh57637@ni
 fty.com（小山）
LOCATION:エポックなかはら (川崎市総合福祉センター)\, 
 日本、〒211-0053 神奈川県川崎市中原区上小田中６丁目
 ２２−５ 川崎市総合福祉センター ５階
END:VEVENT
BEGIN:VEVENT
SUMMARY:FT4 FAST
DTSTART;VALUE=DATE-TIME:20260425T070000Z
DTEND;VALUE=DATE-TIME:20260425T090000Z
UID:326441591173
DESCRIPTION:https://www.rdrclub.ru/ft4-sprint/1154-ft4-sprint-rules
LOCATION:
END:VEVENT
BEGIN:VEVENT
SUMMARY: 開所24周年記念★春の山菜まつり
DTSTART;VALUE=DATE:20260424
DTEND;VALUE=DATE:20260425
UID:365242829122
DESCRIPTION:お陰様で24周年o(^o^)o日頃のご愛顧に感謝して
 、豪華な山菜メニューで大盤振る舞い？里山の春の恵
 みにも感謝して、一緒にワイワイお祝いしてください
 ☆春の山菜まつりと銘打っていますが山菜以外のメニ
 ューも多少あります。美味しいお酒やおつまみ、おや
 つの差し入れ大歓迎です♪(於:YH内食堂／参加費　通常
 宿泊料金のみ／★宿泊者のみ)
LOCATION:小千谷ふるさとの丘ユースホステル\, 日本、〒94
 7-0211 新潟県小千谷市小栗山２０６３
END:VEVENT
BEGIN:VEVENT
SUMMARY:KANHAMコンテスト2026
DTSTART;VALUE=DATE:20260424
DTEND;VALUE=DATE:20260425
UID:321318293378
DESCRIPTION:KANHAMコンテスト2026
LOCATION:
END:VEVENT
BEGIN:VEVENT
SUMMARY:さくら市　栃木県ハーモニカ交流コンサート
DTSTART;VALUE=DATE-TIME:20260426T030000Z
DTEND;VALUE=DATE-TIME:20260426T030000Z
UID:630177605189
DESCRIPTION:栃木県ハーモニカ交流コンサートさくら市 氏
 家公民館入場無料◆お問合せ080-3593-6119（木村）
LOCATION:さくら市 氏家公民館\, 日本、〒329-1312 栃木県さ
 くら市櫻野１３２２−８
END:VEVENT
BEGIN:VEVENT
SUMMARY:SP DX RTTY Contest
DTSTART;VALUE=DATE-TIME:20260425T120000Z
DTEND;VALUE=DATE-TIME:20260426T120000Z
UID:338022134462
DESCRIPTION:締切：5月3日（終了後7日以内）\nhttps://www.pkrvg.
 org/strona\,spdxrttyen.html
LOCATION:
END:VEVENT
BEGIN:VEVENT
SUMMARY:Helvetia Contest
DTSTART;VALUE=DATE-TIME:20260425T130000Z
DTEND;VALUE=DATE-TIME:20260426T125900Z
UID:337736170875
DESCRIPTION:締切：5月4日（終了後8日以内）\nhttps://uska.ch/en
 /contest/schweizer-contest-kw/
LOCATION:
END:VEVENT
BEGIN:VEVENT
SUMMARY:オール茨城コンテスト 第1部（ALL JAに併設）
DTSTART;VALUE=DATE:20260424
DTEND;VALUE=DATE:20260426
UID:682414620305
DESCRIPTION:オール茨城コンテスト 第1部（ALL JAに併設）
LOCATION:
END:VEVENT
BEGIN:VEVENT
SUMMARY:第68回 ALL JAコンテスト
DTSTART;VALUE=DATE:20260424
DTEND;VALUE=DATE:20260426
UID:109668157679
DESCRIPTION:第68回 ALL JAコンテスト
LOCATION:
END:VEVENT
BEGIN:VEVENT
SUMMARY:わたしとちきゅうフェス＠沖縄
DTSTART;VALUE=DATE:20260424
DTEND;VALUE=DATE:20260426
UID:233355159930
DESCRIPTION:https://fes2026.watashitochikyu.com/https://wcfes2026.peatix.c
 om/
LOCATION:EMウェルネス 暮らしの発酵ライフスタイルリゾ
 ート\, 日本、〒901-2311 沖縄県中頭郡北中城村喜舎場１
 ４７８
END:VEVENT
BEGIN:VEVENT
SUMMARY:BARTG SPRINT75 Contest
DTSTART;VALUE=DATE-TIME:20260426T170000Z
DTEND;VALUE=DATE-TIME:20260426T205900Z
UID:151258439512
DESCRIPTION:締切：5月3日（終了後7日以内）\nhttps://bartg.org.
 uk/wp-content/uploads/2026/02/bartg-sprint75-rules-2026-v1.pdf
LOCATION:
END:VEVENT
BEGIN:VEVENT
SUMMARY:RSGB FT4 Contest Series
DTSTART;VALUE=DATE-TIME:20260427T200000Z
DTEND;VALUE=DATE-TIME:20260427T220000Z
UID:161812430179
DESCRIPTION:https://www.rsgbcc.org/hf/rules/2026/r80m_ft4.shtml
LOCATION:
END:VEVENT
BEGIN:VEVENT
SUMMARY:川崎市　かわさきハーモニカプチコンVol19
DTSTART;VALUE=DATE-TIME:20260429T050000Z
DTEND;VALUE=DATE-TIME:20260429T050000Z
UID:314587112921
DESCRIPTION:かわさきハーモニカプチコンVol19\n\n川崎市総
 合自治会館ホール\n\n出演者　1曲1500円\n\n◆お問合せ\n04
 4-711-6971(川崎ハーモニカ協議会浅井)
LOCATION:川崎市総合自治会館\, 日本、〒211-0063 神奈川県
 川崎市中原区小杉町３丁目６００ コスギ サード アヴ
 ェニュ 4階
END:VEVENT
BEGIN:VEVENT
SUMMARY:𝐑𝐞𝐧𝐚𝐫𝐝 𝐅𝐥𝐞𝐚 𝐌𝐚𝐫𝐤𝐞𝐭
  🕯️
DTSTART;VALUE=DATE-TIME:20260429T073000Z
DTEND;VALUE=DATE-TIME:20260429T093000Z
UID:112382736336
DESCRIPTION:𝐑𝐞𝐧𝐚𝐫𝐝 𝐅𝐥𝐞𝐚 𝐌𝐚𝐫𝐤𝐞
 𝐭 🕯️レナードが主催するとびきりかわいい夜のフ
 リマ🧺かわいい子たちの私物と、ちょっと特別な夜☽ 
 𓈒𓏸お洋服・小物・ハンドメイド作品・チェキなど、
 好きなものだけ集めたナイトマーケットで、あなたの
 宝物を見つけにきませんか？🎪✩⡱4月29日（水）🕓 16
 :30〜18:30📍atelier renard 渋谷出展：まなこ／みゆちー／
 かしわぎつきこ／エナ（無愛想）／やみちゃん健康ラ
 ンド♡チェキ会も同時開催♡
LOCATION:atelier renard （アトリエ レナード）CAFE\, 日本、〒
 150-0047 東京都渋谷区神山町１６−４ 堀内ビル 1F
END:VEVENT
BEGIN:VEVENT
SUMMARY:A1CLUB Weekly Test（AWT）
DTSTART;VALUE=DATE-TIME:20260429T114500Z
DTEND;VALUE=DATE-TIME:20260429T130000Z
UID:192866508612
DESCRIPTION:スコア提出：翌週月曜日までに3830Scores（https:/
 /www.3830scores.com/）にて自己申告\nhttps://a1club.org/
LOCATION:
END:VEVENT
BEGIN:VEVENT
SUMMARY:牛の角突きプレイベント(山古志)
DTSTART;VALUE=DATE:20260428
DTEND;VALUE=DATE:20260429
UID:150202804092
DESCRIPTION:初場所前の牛の角突きプレイベント！\n\n1\,000
 年の歴史！\n山上にこだまする牛の咆哮と大歓声！\n\n
 闘牛場に歴史紹介のギャラリーあり。\n闘牛開催日以外
 は自由見学できます。\n\n【牛の角突きとは…】\n1t級の
 巨体がぶつかり合い迫力満点！\n国の重要無形民俗文化
 財にも指定。\n勝敗を決めず原則引分けが大きな特徴。
 \n興奮した闘牛を止める「勢子」たちの\n勇壮な活躍も
 見どころのひとつです。 \n\n午後1時より取り組み開始
 　雨天決行\n観覧料　2\,500円　※中学生以下無料\n※4/29
 はシャトルバスの運行はありません\n\n山古志 牛の角突
 き公式ページ\nhttp://tsunotsuki.main.jp/
LOCATION:新潟県長岡市山古志南平９６０
END:VEVENT
BEGIN:VEVENT
SUMMARY:多摩市　アンサンブル・トライアル2026　田邊教
 室合同アンサンブル・ライブ
DTSTART;VALUE=DATE-TIME:20260430T040000Z
DTEND;VALUE=DATE-TIME:20260430T040000Z
UID:868170996434
DESCRIPTION:アンサンブル・トライアル2026　田邊教室合同
 アンサンブル・ライブ\n\nゲスト：ハーモニカ・ライナ
 ーズ\n\nベルブ永山5階　多目的ホール\n\n入場無料\n\n※
 開演時間についてはご確認ください。\n\n◆お問合せ\n09
 0-3523-2216(田邊)
LOCATION:ベルブ永山\, 日本、〒206-0025 東京都多摩市永山
 １丁目５
END:VEVENT
BEGIN:VEVENT
SUMMARY:ランちゃん
DTSTART;VALUE=DATE-TIME:20260429T150000Z
DTEND;VALUE=DATE-TIME:20260430T150000Z
UID:301750881038
DESCRIPTION:ランちゃん
LOCATION:
END:VEVENT
BEGIN:VEVENT
SUMMARY:定休日
DTSTART;VALUE=DATE:20260429
DTEND;VALUE=DATE:20260430
UID:321743140104
DESCRIPTION:定休日
LOCATION:
END:VEVENT
BEGIN:VEVENT
SUMMARY:ランちゃん
DTSTART;VALUE=DATE-TIME:20260429T150000Z
DTEND;VALUE=DATE-TIME:20260430T150000Z
UID:238282352962
DESCRIPTION:ランちゃん
LOCATION:
END:VEVENT
BEGIN:VEVENT
SUMMARY:NCCC FT4 Sprint
DTSTART;VALUE=DATE-TIME:20260501T010000Z
DTEND;VALUE=DATE-TIME:20260501T013000Z
UID:595740134814
DESCRIPTION:https://ncccsprint.com/ft4ns.html
LOCATION:
END:VEVENT
BEGIN:VEVENT
SUMMARY:NCCC RTTY Sprint
DTSTART;VALUE=DATE-TIME:20260501T014500Z
DTEND;VALUE=DATE-TIME:20260501T021500Z
UID:617026996854
DESCRIPTION:https://ncccsprint.com/rttyns.html
LOCATION:
END:VEVENT
BEGIN:VEVENT
SUMMARY:特別園芸教室　Bルーム
DTSTART;VALUE=DATE-TIME:20260501T010000Z
DTEND;VALUE=DATE-TIME:20260501T030000Z
UID:171561632120
DESCRIPTION:特別園芸教室　Bルーム
LOCATION:
END:VEVENT
BEGIN:VEVENT
SUMMARY:定期寄せ植え教室Ｂルーム
DTSTART;VALUE=DATE-TIME:20260502T010000Z
DTEND;VALUE=DATE-TIME:20260502T020000Z
UID:102345787445
DESCRIPTION:定期寄せ植え教室Ｂルーム
LOCATION:
END:VEVENT
BEGIN:VEVENT
SUMMARY:特別園芸教室　Bルーム
DTSTART;VALUE=DATE-TIME:20260502T023000Z
DTEND;VALUE=DATE-TIME:20260502T033000Z
UID:622873746346
DESCRIPTION:特別園芸教室　Bルーム
LOCATION:
END:VEVENT
BEGIN:VEVENT
SUMMARY:特別園芸教室　Bルーム
DTSTART;VALUE=DATE-TIME:20260502T060000Z
DTEND;VALUE=DATE-TIME:20260502T070000Z
UID:995351456363
DESCRIPTION:特別園芸教室　Bルーム
LOCATION:
END:VEVENT
BEGIN:VEVENT
SUMMARY:川越市　第15回小江戸ハーモニカコンサート
DTSTART;VALUE=DATE-TIME:20260503T043000Z
DTEND;VALUE=DATE-TIME:20260503T043000Z
UID:651488359328
DESCRIPTION:第15回小江戸ハーモニカコンサートゲスト：水
 野隆元入場無料◆お問い合わせ049-242-7408（ヤナイ）
LOCATION:ウェスタ川越\, 日本、〒350-1124 埼玉県川越市新
 宿町１丁目１７−１７
END:VEVENT
BEGIN:VEVENT
SUMMARY:アーティフィシャルアレンジ　Bルーム
DTSTART;VALUE=DATE-TIME:20260503T010000Z
DTEND;VALUE=DATE-TIME:20260503T070000Z
UID:553185850775
DESCRIPTION:アーティフィシャルアレンジ　Bルーム
LOCATION:
END:VEVENT
BEGIN:VEVENT
SUMMARY:名古屋市　新緑中部ハーモニカ連盟コンサート
DTSTART;VALUE=DATE-TIME:20260503T032000Z
DTEND;VALUE=DATE-TIME:20260503T073000Z
UID:208682027033
DESCRIPTION:新春中部ハーモニカ連盟コンサート天白文化
 小劇場\,開場：12：00　開演：12：20入場無料◆お問合せ
 中部ハーモニカ連盟　事務局052-804-1985（緑川）
LOCATION:天白文化小劇場\, 日本、〒468-0015 愛知県名古屋
 市天白区原１丁目301番地 原ターミナルビル 4F
END:VEVENT
BEGIN:VEVENT
SUMMARY:A.R.I．International DX Contest
DTSTART;VALUE=DATE-TIME:20260502T120000Z
DTEND;VALUE=DATE-TIME:20260503T115900Z
UID:516181331962
DESCRIPTION:締切：5月9日（終了後6日以内）．SWL部門のロ
 グ提出は終了後60時間以内\nhttps://www.ari.it/en/contest-hf/ari-
 international.html
LOCATION:
END:VEVENT
BEGIN:VEVENT
SUMMARY:第48回 東京コンテスト
DTSTART;VALUE=DATE:20260502
DTEND;VALUE=DATE:20260503
UID:486866310778
DESCRIPTION:第48回 東京コンテスト
LOCATION:
END:VEVENT
BEGIN:VEVENT
SUMMARY:牛の角突き(おぢや)
DTSTART;VALUE=DATE:20260502
DTEND;VALUE=DATE:20260503
UID:921980555345
DESCRIPTION:牛たちの熱き戦いと、勢子の妙技と勇姿に刮
 目！2026年度のＧＷ初場所です！小千谷闘牛開催日はア
 ジアの100仏｢木喰観音｣も公開！闘牛場前駐車場の｢
 みまもり岩｣も是非ご覧下さい！ 【牛の角突きとは…
 】 体重約１ｔもの巨体がぶつかり合い、 迫力満点！　
 国の重要無形民俗文化財にも指定。 勝敗を決めず引き
 分けを原則とするのが大きな特徴。 興奮した闘牛を止
 める「勢子」と呼ばれる人たちの勇壮な活躍も見どこ
 ろのひとつです。 正午(12:00) より取り組み開始　雨天
 決行観覧料　 2\,000円　※中学生以下無料 一般席(屋根
 なし) 1\,500席／特別席(屋根付き) 450席 小千谷駅からの
 シャトルバスあり。片道500円(11:40頃発)小千谷闘牛会　h
 ttps://www.tsunotsuki.com/小千谷闘牛北斗会　http://ojiyatogyuhoku
 tokai.g1.xrea.com/小千谷市観光サイト　https://www.city.ojiya.nii
 gata.jp/site/kanko/にいがた観光ナビhttps://www.niigata-kankou.or.j
 p/event/15158
LOCATION:小千谷闘牛場\, 日本、〒947-0211 新潟県小千谷市
 大字小栗山２４５３
END:VEVENT
BEGIN:VEVENT
SUMMARY:BarPiece☆営業日
DTSTART;VALUE=DATE-TIME:20260502T150000Z
DTEND;VALUE=DATE-TIME:20260503T150000Z
UID:496531231131
DESCRIPTION:BarPiece\n\n本日の出勤キャスト：\n（急遽変更に
 なる場合がございますので、ご了承ください。）\n\n■
 営業時間\n20:00～2:00\n\n\n名古屋市中区栄1-23-29日宝伏見
 ポイントビル1階奥　( 居酒屋・我耶雅家の右奥)\n営業
 時間20:00～2:00/定休日…(日)\nチャージ…1\,500円/ドリン
 ク…500円～\n\n※アルバイト急募！！\n詳しくはメッセ
 ージください！
LOCATION:
END:VEVENT
BEGIN:VEVENT
SUMMARY:BarPiece☆営業日
DTSTART;VALUE=DATE-TIME:20260502T150000Z
DTEND;VALUE=DATE-TIME:20260503T150000Z
UID:291498785317
DESCRIPTION:BarPiece\n\n本日の出勤キャスト：\n（急遽変更に
 なる場合がございますので、ご了承ください。）\n\n■
 営業時間\n20:00～2:00\n\n\n名古屋市中区栄1-23-29日宝伏見
 ポイントビル1階奥　( 居酒屋・我耶雅家の右奥)\n営業
 時間20:00～2:00/定休日…(日)\nチャージ…1\,500円/ドリン
 ク…500円～\n\n※アルバイト急募！！\n詳しくはメッセ
 ージください！
LOCATION:
END:VEVENT
BEGIN:VEVENT
SUMMARY:第41回 6mAMコンテスト
DTSTART;VALUE=DATE-TIME:20260504T000000Z
DTEND;VALUE=DATE-TIME:20260504T060000Z
UID:135980852481
DESCRIPTION:締切：5月31日（消印有効）
LOCATION:
END:VEVENT
BEGIN:VEVENT
SUMMARY:フローライベント　Bルーム
DTSTART;VALUE=DATE-TIME:20260504T010000Z
DTEND;VALUE=DATE-TIME:20260504T080000Z
UID:247518425362
DESCRIPTION:フローライベント　Bルーム
LOCATION:
END:VEVENT
BEGIN:VEVENT
SUMMARY:第35回 静岡コンテスト
DTSTART;VALUE=DATE:20260503
DTEND;VALUE=DATE:20260504
UID:139631680657
DESCRIPTION:第35回 静岡コンテスト
LOCATION:
END:VEVENT
BEGIN:VEVENT
SUMMARY:牛の角突き(山古志)
DTSTART;VALUE=DATE:20260503
DTEND;VALUE=DATE:20260504
UID:243954814188
DESCRIPTION: 1\,000年の歴史！山上にこだまする牛の咆哮と
 大歓声！闘牛場に歴史紹介のギャラリーあり。闘牛開
 催日以外は自由見学できます。【牛の角突きとは…】1t
 級の巨体がぶつかり合い迫力満点！国の重要無形民俗
 文化財にも指定。勝敗を決めず原則引分けが大きな特
 徴。興奮した闘牛を止める「勢子」たちの勇壮な活躍
 も見どころのひとつです。 午後1時より取り組み開始　
 雨天決行観覧料　3\,000円　※中学生以下無料有料シャ
 トルバス(長岡駅東口 11:20発)越後山古志「牛の角突き」
 大会
LOCATION:新潟県長岡市山古志南平９６０
END:VEVENT
BEGIN:VEVENT
SUMMARY:第2回 電通大VUS
DTSTART;VALUE=DATE-TIME:20260505T000000Z
DTEND;VALUE=DATE-TIME:20260505T060000Z
UID:421274095578
DESCRIPTION:第1ラウンド（1200MHz?10GHz帯）…0900?1100\n第2ラウ
 ンド（144MHz帯，430MHz帯）…1200?1500\n締切：5月19日\nhttps:/
 /www.ja1zgp.com/uectest-vus_public_info/uectest-vus_rule/uectest-vus-2-rul
 e/
LOCATION:
END:VEVENT
BEGIN:VEVENT
SUMMARY:第16回 QRP Sprintコンテスト
DTSTART;VALUE=DATE-TIME:20260505T070000Z
DTEND;VALUE=DATE-TIME:20260505T100000Z
UID:152495672714
DESCRIPTION:締切：5月12日\nhttps://www.qrp-community.org/
LOCATION:
END:VEVENT
BEGIN:VEVENT
SUMMARY:第49回 オール三重33コンテスト
DTSTART;VALUE=DATE:20260504
DTEND;VALUE=DATE:20260505
UID:315015787568
DESCRIPTION:第49回 オール三重33コンテスト
LOCATION:
END:VEVENT
BEGIN:VEVENT
SUMMARY:フローラマルシェ　Bルーム
DTSTART;VALUE=DATE-TIME:20260505T010000Z
DTEND;VALUE=DATE-TIME:20260506T080000Z
UID:234002986929
DESCRIPTION:フローラマルシェ　Bルーム
LOCATION:
END:VEVENT
BEGIN:VEVENT
SUMMARY:A1CLUB Weekly Test（AWT）
DTSTART;VALUE=DATE-TIME:20260506T114500Z
DTEND;VALUE=DATE-TIME:20260506T130000Z
UID:171725498659
DESCRIPTION:スコア提出：翌週月曜日までに3830Scores（https:/
 /www.3830scores.com/）にて自己申告\nhttps://a1club.org/
LOCATION:
END:VEVENT
BEGIN:VEVENT
SUMMARY:定休日
DTSTART;VALUE=DATE:20260506
DTEND;VALUE=DATE:20260507
UID:129817377265
DESCRIPTION:定休日
LOCATION:
END:VEVENT
BEGIN:VEVENT
SUMMARY:NCCC FT4 Sprint
DTSTART;VALUE=DATE-TIME:20260508T010000Z
DTEND;VALUE=DATE-TIME:20260508T013000Z
UID:243861064797
DESCRIPTION:https://ncccsprint.com/ft4ns.html
LOCATION:
END:VEVENT
BEGIN:VEVENT
SUMMARY:NCCC RTTY Sprint
DTSTART;VALUE=DATE-TIME:20260508T014500Z
DTEND;VALUE=DATE-TIME:20260508T021500Z
UID:644417796393
DESCRIPTION:https://ncccsprint.com/rttyns.html
LOCATION:
END:VEVENT
BEGIN:VEVENT
SUMMARY:Straight Key Sprint in Asia（SKSA）
DTSTART;VALUE=DATE-TIME:20260508T220000Z
DTEND;VALUE=DATE-TIME:20260508T235900Z
UID:148956537678
DESCRIPTION:締切：コンテスト終了から48時間後\nhttps://skccg
 roup.com/operating_activities/sksa/
LOCATION:
END:VEVENT
BEGIN:VEVENT
SUMMARY:CQ-M International DX Contest
DTSTART;VALUE=DATE-TIME:20260509T120000Z
DTEND;VALUE=DATE-TIME:20260510T115900Z
UID:180535631545
DESCRIPTION:締切：5月20日（終了後10日）\nhttps://cqm.srr.ru/rul
 es-en/
LOCATION:
END:VEVENT
BEGIN:VEVENT
SUMMARY:ALESSANDRO VOLTA RTTY DX Contest
DTSTART;VALUE=DATE-TIME:20260509T120000Z
DTEND;VALUE=DATE-TIME:20260510T120000Z
UID:613920432678
DESCRIPTION:締切：5月25日\nhttp://www.contestvolta.it/\nhttp://www.co
 ntestvolta.it/rules.pdf
LOCATION:
END:VEVENT
BEGIN:VEVENT
SUMMARY:関西V・U・Sコンテスト
DTSTART;VALUE=DATE:20260509
DTEND;VALUE=DATE:20260510
UID:147220518835
DESCRIPTION:関西V・U・Sコンテスト
LOCATION:
END:VEVENT
BEGIN:VEVENT
SUMMARY:第24回 津軽海峡コンテスト
DTSTART;VALUE=DATE:20260508
DTEND;VALUE=DATE:20260510
UID:304514713238
DESCRIPTION:第24回 津軽海峡コンテスト
LOCATION:
END:VEVENT
BEGIN:VEVENT
SUMMARY:第63回 JAφVHFコンテスト
DTSTART;VALUE=DATE:20260508
DTEND;VALUE=DATE:20260510
UID:363511149555
DESCRIPTION:第63回 JAφVHFコンテスト
LOCATION:
END:VEVENT
BEGIN:VEVENT
SUMMARY:第25回 おいでませオール山口コンテスト（HF部門
 ）
DTSTART;VALUE=DATE:20260508
DTEND;VALUE=DATE:20260510
UID:971697361268
DESCRIPTION:第25回 おいでませオール山口コンテスト（HF部
 門）
LOCATION:
END:VEVENT
BEGIN:VEVENT
SUMMARY:カルトナージュ
DTSTART;VALUE=DATE-TIME:20260511T010000Z
DTEND;VALUE=DATE-TIME:20260511T060000Z
UID:198508059445
DESCRIPTION:カルトナージュ
LOCATION:
END:VEVENT
BEGIN:VEVENT
SUMMARY:A1CLUB Weekly Test（AWT）
DTSTART;VALUE=DATE-TIME:20260513T114500Z
DTEND;VALUE=DATE-TIME:20260513T130000Z
UID:177558745944
DESCRIPTION:スコア提出：翌週月曜日までに3830Scores（https:/
 /www.3830scores.com/）にて自己申告\nhttps://a1club.org/
LOCATION:
END:VEVENT
BEGIN:VEVENT
SUMMARY:NCCC FT4 Sprint
DTSTART;VALUE=DATE-TIME:20260515T010000Z
DTEND;VALUE=DATE-TIME:20260515T013000Z
UID:181078009312
DESCRIPTION:https://ncccsprint.com/ft4ns.html
LOCATION:
END:VEVENT
BEGIN:VEVENT
SUMMARY:NCCC RTTY Sprint
DTSTART;VALUE=DATE-TIME:20260515T014500Z
DTEND;VALUE=DATE-TIME:20260515T021500Z
UID:287255091850
DESCRIPTION:https://ncccsprint.com/rttyns.html
LOCATION:
END:VEVENT
BEGIN:VEVENT
SUMMARY:福岡県田川郡大任町お話会（憲法講座）
DTSTART;VALUE=DATE-TIME:20260515T040000Z
DTEND;VALUE=DATE-TIME:20260515T073000Z
UID:234156130154
DESCRIPTION:https://select-type.com/ev/?ev=-EcLvmu4d8Q
LOCATION:
END:VEVENT
BEGIN:VEVENT
SUMMARY:ビリヤニ講座
DTSTART;VALUE=DATE-TIME:20260516T010000Z
DTEND;VALUE=DATE-TIME:20260516T070000Z
UID:268432833155
DESCRIPTION:ビリヤニ講座
LOCATION:
END:VEVENT
BEGIN:VEVENT
SUMMARY:大分県日田市お話会（丸腰宣言講座）
DTSTART;VALUE=DATE-TIME:20260516T043000Z
DTEND;VALUE=DATE-TIME:20260516T080000Z
UID:255935876441
DESCRIPTION:https://select-type.com/ev/?ev=oe-x8PFEcd4
LOCATION:おかげさまcafeにこん\, 日本、〒879-4201 大分県日
 田市天瀬町桜竹８６２
END:VEVENT
BEGIN:VEVENT
SUMMARY:Feld Hell Sprint
DTSTART;VALUE=DATE-TIME:20260516T200000Z
DTEND;VALUE=DATE-TIME:20260516T235900Z
UID:207494416156
DESCRIPTION:https://sites.google.com/site/feldhellclub/Home/contests
LOCATION:
END:VEVENT
BEGIN:VEVENT
SUMMARY:クラフトバンドAルーム
DTSTART;VALUE=DATE-TIME:20260517T013000Z
DTEND;VALUE=DATE-TIME:20260517T060000Z
UID:277339262502
DESCRIPTION:クラフトバンドAルーム
LOCATION:
END:VEVENT
BEGIN:VEVENT
SUMMARY:大分県別府市『カンタ！ティモール』上映会＆広
 田奈津子監督とのコラボ講演会
DTSTART;VALUE=DATE-TIME:20260517T010000Z
DTEND;VALUE=DATE-TIME:20260517T070000Z
UID:866046211888
DESCRIPTION:https://select-type.com/ev/?ev=ykVcR7eFHQM【チケットご
 購入はこちらから】https://ticket.tsuku2.jp/events-detail/50136422
 920003
LOCATION:別府市コミュニティーセンター\, 日本、〒874-0905
  大分県別府市上野口町２９−１３
END:VEVENT
BEGIN:VEVENT
SUMMARY:2026年 十勝クラブコンテスト
DTSTART;VALUE=DATE-TIME:20260516T120000Z
DTEND;VALUE=DATE-TIME:20260517T120000Z
UID:238849355291
DESCRIPTION:締切：6月17日（消印有効）\nhttps://www.ja8yad.com/b
 lank-wavxl
LOCATION:
END:VEVENT
BEGIN:VEVENT
SUMMARY:ピザパルコ８の日！
DTSTART;VALUE=DATE-TIME:20260517T150000Z
DTEND;VALUE=DATE-TIME:20260517T150000Z
UID:133718000632
DESCRIPTION:本日３月２８日はピザパルコ８の日！！\nＭサ
 イズピザが‼️\n1000円→880円\n春限定メニュー(アスパ
 ラベーコンピザ)が大人気🎵\nお電話でのご注文お待ち
 しております。\n0980-87-0800
LOCATION:
END:VEVENT
BEGIN:VEVENT
SUMMARY:第26回 新潟コンテスト（ハイバンド部門）
DTSTART;VALUE=DATE:20260516
DTEND;VALUE=DATE:20260517
UID:156805789202
DESCRIPTION:第26回 新潟コンテスト（ハイバンド部門）
LOCATION:
END:VEVENT
BEGIN:VEVENT
SUMMARY:第26回 新潟コンテスト（7MHz部門）
DTSTART;VALUE=DATE:20260516
DTEND;VALUE=DATE:20260517
UID:145931789613
DESCRIPTION:第26回 新潟コンテスト（7MHz部門）
LOCATION:
END:VEVENT
BEGIN:VEVENT
SUMMARY:2026年第25回 おいでませオール山口コンテスト（V/
 U/SHF部門）
DTSTART;VALUE=DATE:20260515
DTEND;VALUE=DATE:20260517
UID:159703684559
DESCRIPTION:2026年第25回 おいでませオール山口コンテスト
 （V/U/SHF部門）
LOCATION:
END:VEVENT
BEGIN:VEVENT
SUMMARY:第54回 オール群馬コンテスト
DTSTART;VALUE=DATE:20260515
DTEND;VALUE=DATE:20260517
UID:366867876664
DESCRIPTION:第54回 オール群馬コンテスト
LOCATION:
END:VEVENT
BEGIN:VEVENT
SUMMARY:品川区　MeRRow nAtz　ハーモニカLive2026
DTSTART;VALUE=DATE-TIME:20260518T043000Z
DTEND;VALUE=DATE-TIME:20260518T043000Z
UID:128193676298
DESCRIPTION:MeRRow nAtz　ハーモニカLive2026メンバー：楠光惠
 、大庭麗奈、渡辺令子、黒田彩きゅりあん小ホール◆
 料金　4\,000円（全席自由）◆お問い合わせ090-2664-2682（
 渡辺）
LOCATION:きゅりあん 小ホール\, 日本、〒140-0011 東京都品
 川区東大井５丁目１８−１
END:VEVENT
BEGIN:VEVENT
SUMMARY:長崎県諫早市『カンタ！ティモール』上映会＋座
 談会
DTSTART;VALUE=DATE-TIME:20260518T040000Z
DTEND;VALUE=DATE-TIME:20260518T073000Z
UID:166007814374
DESCRIPTION:https://select-type.com/ev/?ev=DLvaiA1l4mk\n\n長崎県諫早
 市 映画『カンタ！ティモール』上映会＋座談会\n（前
 半、インドネシアの侵攻に対して、住民の１／３を殺
 されながら、非服従を貫いた東ティモールの人々を描
 いたドキュメンタリー映画『カンタ！ティモール』の
 上映会を行い、後半はそれについて話す座談会です。
 我々のあり方を強烈に問う映画となっており、今こそ
 それを実践するきっかけになると思います。）\n\n【日
 時】2026年5月18日(月) 13:00～16:30（12:30受付開始）\n\n【会
 場】諫早市健康福祉センター\n住所：長崎県諫早市宇都
 町29-1\nアクセス：本諫早駅より徒歩12分\n※駐車場は台
 数が限られていますので、できるだけバス、タクシー
 をご利用されるか、乗り合わせてお越しください。\n\n
 【参加料金(税込)】\n一般：3\,000円\n18歳未満：無料\n障
 害のある方：1\,500円\n※当日現金でお支払いください。
LOCATION:諫早市健康福祉部健康福祉センター\, 日本、〒85
 4-0061 長崎県諫早市宇都町２９−１
END:VEVENT
BEGIN:VEVENT
SUMMARY:RSGB FT4 Contest Series
DTSTART;VALUE=DATE-TIME:20260518T200000Z
DTEND;VALUE=DATE-TIME:20260518T220000Z
UID:291258238933
DESCRIPTION:https://www.rsgbcc.org/hf/rules/2026/r80m_ft4.shtml
LOCATION:
END:VEVENT
BEGIN:VEVENT
SUMMARY:みそら一閑張り　Aルーム
DTSTART;VALUE=DATE-TIME:20260519T040000Z
DTEND;VALUE=DATE-TIME:20260519T064500Z
UID:334016635357
DESCRIPTION:みそら一閑張り　Aルーム
LOCATION:
END:VEVENT
BEGIN:VEVENT
SUMMARY:長崎県長崎市お話会(お金や経済の本質講座)
DTSTART;VALUE=DATE-TIME:20260519T040000Z
DTEND;VALUE=DATE-TIME:20260519T073000Z
UID:587128166443
DESCRIPTION:https://select-type.com/ev/?ev=ArzDdhjnYKs\n\n【テーマ】
 お金や経済の本質講座＋座談会～日本の状況や国家経
 営について\n（日本の状況や国家経営について本質的に
 解説します。それによって、日本には世界一のポテン
 シャルがあり、それを阻んでいたものの正体がわかり
 ます。）\n\n【日時】2026年5月19日(火) 13:00～16:30（12:30受
 付開始）\n\n【会場】うつつ川　森のぶんこう\n住所：
 長崎県長崎市現川町１９１２\nアクセス：JR現川駅より
 徒歩1分\n※10～15台駐車可能な駐車場あり\n\n【参加料金
 (税込)】\n一般：3\,000円\n高校生：1\,000円\n中学生以下：
 無料\n障害のある方：1\,500円\n※当日現金でお支払いく
 ださい。
LOCATION:うつつ川・森のぶんこう\, 日本、〒851-0135 長崎
 県長崎市現川町１９１２
END:VEVENT
BEGIN:VEVENT
SUMMARY:マックスバリュ ペット用品が10%安い
DTSTART;VALUE=DATE-TIME:20260519T150000Z
DTEND;VALUE=DATE-TIME:20260519T150000Z
UID:320009916118
DESCRIPTION:ペット用品が10%安い
LOCATION:
END:VEVENT
BEGIN:VEVENT
SUMMARY:A1CLUB Weekly Test（AWT）
DTSTART;VALUE=DATE-TIME:20260520T114500Z
DTEND;VALUE=DATE-TIME:20260520T130000Z
UID:153164103305
DESCRIPTION:スコア提出：翌週月曜日までに3830Scores（https:/
 /www.3830scores.com/）にて自己申告\nhttps://a1club.org/
LOCATION:
END:VEVENT
BEGIN:VEVENT
SUMMARY:マックスバリュ 4時の市　冷凍食品が20%オフ
DTSTART;VALUE=DATE-TIME:20260520T150000Z
DTEND;VALUE=DATE-TIME:20260520T150000Z
UID:282196986666
DESCRIPTION:16:00〜20:00は冷凍食品が20%オフ
LOCATION:
END:VEVENT
BEGIN:VEVENT
SUMMARY:福岡県福岡市お話会
DTSTART;VALUE=DATE-TIME:20260521T023000Z
DTEND;VALUE=DATE-TIME:20260521T060000Z
UID:388310013290
DESCRIPTION:福岡県福岡市お話会
LOCATION:福岡市男女共同参画推進センター アミカス\, 日
 本、〒815-0083 福岡県福岡市南区高宮３丁目３−１ ピア
 高宮Ｎ棟
END:VEVENT
BEGIN:VEVENT
SUMMARY:マックスバリュ ハム、ソーセージが20%オフ
DTSTART;VALUE=DATE-TIME:20260521T150000Z
DTEND;VALUE=DATE-TIME:20260521T150000Z
UID:216512147337
DESCRIPTION:マックスバリュ ハム、ソーセージが20%オフ
LOCATION:
END:VEVENT
BEGIN:VEVENT
SUMMARY:NCCC FT4 Sprint
DTSTART;VALUE=DATE-TIME:20260522T010000Z
DTEND;VALUE=DATE-TIME:20260522T013000Z
UID:118537616804
DESCRIPTION:https://ncccsprint.com/ft4ns.html
LOCATION:
END:VEVENT
BEGIN:VEVENT
SUMMARY:NCCC RTTY Sprint
DTSTART;VALUE=DATE-TIME:20260522T014500Z
DTEND;VALUE=DATE-TIME:20260522T021500Z
UID:467411279601
DESCRIPTION:https://ncccsprint.com/rttyns.html
LOCATION:
END:VEVENT
BEGIN:VEVENT
SUMMARY:福岡県福岡市お話会（お金や経済の本質講座）
DTSTART;VALUE=DATE-TIME:20260522T043000Z
DTEND;VALUE=DATE-TIME:20260522T073000Z
UID:173613596869
DESCRIPTION:https://select-type.com/ev/?ev=7ycvpJIqSHc
LOCATION:SAWARAPIA（ももち文化センター）\, 日本、〒814-0006
  福岡県福岡市早良区百道２丁目３−１５
END:VEVENT
BEGIN:VEVENT
SUMMARY:宮崎県児湯郡川南町お話会（丸腰宣言講座）
DTSTART;VALUE=DATE-TIME:20260523T043000Z
DTEND;VALUE=DATE-TIME:20260523T080000Z
UID:106807656711
DESCRIPTION:https://select-type.com/ev/?ev=Vp3dDpw8z3g
LOCATION:サンＡ川南文化ホール\, 日本、〒889-1302 宮崎県
 児湯郡川南町平田２３８６−３
END:VEVENT
BEGIN:VEVENT
SUMMARY:府中市　第29回京王沿線ふれあいのハーモニカコ
 ンサート
DTSTART;VALUE=DATE-TIME:20260524T030000Z
DTEND;VALUE=DATE-TIME:20260524T030000Z
UID:292108764980
DESCRIPTION:第29回京王沿線ふれあいのハーモニカコンサー
 ト府中の森芸術劇場　ふるさとホール入場無料◆お問
 合せ090-8104-2229（鈴木）
LOCATION:府中の森芸術劇場　ふるさとホール
END:VEVENT
BEGIN:VEVENT
SUMMARY:宮崎県宮崎市アーサー・ビナードさんとの対談講
 演「ぼくらは生き残れるのか？この国は続くのか？」
DTSTART;VALUE=DATE-TIME:20260524T050000Z
DTEND;VALUE=DATE-TIME:20260524T073000Z
UID:123766650395
DESCRIPTION:https://select-type.com/ev/?ev=So0uDAPgEeI
LOCATION:宮崎市中央公民館\, 日本、〒880-0879 宮崎県宮崎
 市宮崎駅東１丁目２−７
END:VEVENT
END:VCALENDAR
