BEGIN:VCALENDAR
VERSION:2.0
PRODID:-//chikkutakku.com//RDFCal 1.0//EN
X-WR-CALDESC:GoogleカレンダーやiCalendar形式情報を共有シェ
 アしましょう。近所のイベントから全国のイベントま
 で今日のイベント検索やスケジュールを決めるならち
 っくたっく
X-WR-CALNAME:ちっくたっく
X-WR-TIMEZONE:UTC
BEGIN:VEVENT
SUMMARY:高松
DTSTART;VALUE=DATE-TIME:20260422T092000Z
DTEND;VALUE=DATE-TIME:20260422T120000Z
UID:213759607959
DESCRIPTION:高松
LOCATION:
END:VEVENT
BEGIN:VEVENT
SUMMARY:徳島（代行指導）
DTSTART;VALUE=DATE-TIME:20260424T110000Z
DTEND;VALUE=DATE-TIME:20260424T122000Z
UID:131670962483
DESCRIPTION:徳島（代行指導）
LOCATION:
END:VEVENT
BEGIN:VEVENT
SUMMARY:高松(代行指導)
DTSTART;VALUE=DATE-TIME:20260425T103000Z
DTEND;VALUE=DATE-TIME:20260425T120000Z
UID:229975277906
DESCRIPTION:高松(代行指導)
LOCATION:
END:VEVENT
BEGIN:VEVENT
SUMMARY:徳島フリー練習会  14:00〜16:00 ★場所 北島町武道
 館1階柔道場
DTSTART;VALUE=DATE-TIME:20260426T050000Z
DTEND;VALUE=DATE-TIME:20260426T070000Z
UID:290105764086
DESCRIPTION:徳島フリー練習会  14:00〜16:00 ★場所 北島町武
 道館1階柔道場
LOCATION:
END:VEVENT
BEGIN:VEVENT
SUMMARY:第20回アジア競技大会(2026愛知・名古屋)キョルギ
 日本代表候補選手選考会（選考合宿）（味の素ナショ
 ナルトレーニングセンター）
DTSTART;VALUE=DATE:20260425
DTEND;VALUE=DATE:20260426
UID:122135530162
DESCRIPTION:第20回アジア競技大会(2026愛知・名古屋)キョル
 ギ日本代表候補選手選考会（選考合宿）（味の素ナシ
 ョナルトレーニングセンター）
LOCATION:
END:VEVENT
BEGIN:VEVENT
SUMMARY:WATAオープン2026
DTSTART;VALUE=DATE:20260424
DTEND;VALUE=DATE:20260426
UID:209575569169
DESCRIPTION:WATAオープン2026
LOCATION:
END:VEVENT
BEGIN:VEVENT
SUMMARY:高松
DTSTART;VALUE=DATE-TIME:20260427T083000Z
DTEND;VALUE=DATE-TIME:20260427T112000Z
UID:317830618566
DESCRIPTION:高松
LOCATION:
END:VEVENT
BEGIN:VEVENT
SUMMARY:第5週休講
DTSTART;VALUE=DATE:20260428
DTEND;VALUE=DATE:20260429
UID:254657681502
DESCRIPTION:第5週休講
LOCATION:
END:VEVENT
BEGIN:VEVENT
SUMMARY:徳島
DTSTART;VALUE=DATE-TIME:20260501T110000Z
DTEND;VALUE=DATE-TIME:20260501T122000Z
UID:470083046511
DESCRIPTION:徳島
LOCATION:
END:VEVENT
BEGIN:VEVENT
SUMMARY:高松
DTSTART;VALUE=DATE-TIME:20260502T103000Z
DTEND;VALUE=DATE-TIME:20260502T120000Z
UID:319200784109
DESCRIPTION:高松
LOCATION:
END:VEVENT
BEGIN:VEVENT
SUMMARY:高松
DTSTART;VALUE=DATE-TIME:20260504T083000Z
DTEND;VALUE=DATE-TIME:20260504T112000Z
UID:136401666403
DESCRIPTION:高松
LOCATION:
END:VEVENT
BEGIN:VEVENT
SUMMARY:高松
DTSTART;VALUE=DATE-TIME:20260506T092000Z
DTEND;VALUE=DATE-TIME:20260506T120000Z
UID:847412798613
DESCRIPTION:高松
LOCATION:
END:VEVENT
BEGIN:VEVENT
SUMMARY:徳島
DTSTART;VALUE=DATE-TIME:20260508T110000Z
DTEND;VALUE=DATE-TIME:20260508T122000Z
UID:186063277028
DESCRIPTION:徳島
LOCATION:
END:VEVENT
BEGIN:VEVENT
SUMMARY:高松
DTSTART;VALUE=DATE-TIME:20260509T103000Z
DTEND;VALUE=DATE-TIME:20260509T120000Z
UID:189870321009
DESCRIPTION:高松
LOCATION:
END:VEVENT
BEGIN:VEVENT
SUMMARY:審査①高松
DTSTART;VALUE=DATE:20260508
DTEND;VALUE=DATE:20260509
UID:171980526815
DESCRIPTION:審査①高松
LOCATION:
END:VEVENT
BEGIN:VEVENT
SUMMARY:マスターズ合宿
DTSTART;VALUE=DATE:20260509
DTEND;VALUE=DATE:20260510
UID:259317276498
DESCRIPTION:マスターズ合宿
LOCATION:
END:VEVENT
BEGIN:VEVENT
SUMMARY:審査②徳島
DTSTART;VALUE=DATE:20260509
DTEND;VALUE=DATE:20260510
UID:317801538094
DESCRIPTION:審査②徳島
LOCATION:
END:VEVENT
BEGIN:VEVENT
SUMMARY:高松
DTSTART;VALUE=DATE-TIME:20260511T083000Z
DTEND;VALUE=DATE-TIME:20260511T112000Z
UID:120921790175
DESCRIPTION:高松
LOCATION:
END:VEVENT
BEGIN:VEVENT
SUMMARY:高松
DTSTART;VALUE=DATE-TIME:20260513T092000Z
DTEND;VALUE=DATE-TIME:20260513T120000Z
UID:157251372169
DESCRIPTION:高松
LOCATION:
END:VEVENT
BEGIN:VEVENT
SUMMARY:徳島
DTSTART;VALUE=DATE-TIME:20260515T110000Z
DTEND;VALUE=DATE-TIME:20260515T122000Z
UID:192639433459
DESCRIPTION:徳島
LOCATION:
END:VEVENT
BEGIN:VEVENT
SUMMARY:高松休講
DTSTART;VALUE=DATE:20260515
DTEND;VALUE=DATE:20260516
UID:951490241522
DESCRIPTION:高松休講
LOCATION:
END:VEVENT
BEGIN:VEVENT
SUMMARY:審査③高松
DTSTART;VALUE=DATE:20260515
DTEND;VALUE=DATE:20260516
UID:338118505923
DESCRIPTION:審査③高松
LOCATION:
END:VEVENT
BEGIN:VEVENT
SUMMARY:西日本地区大会(全日本・全日本ジュニア予選)（
 兵庫県立武道館）
DTSTART;VALUE=DATE:20260516
DTEND;VALUE=DATE:20260517
UID:157700409589
DESCRIPTION:西日本地区大会(全日本・全日本ジュニア予選)
 （兵庫県立武道館）
LOCATION:
END:VEVENT
BEGIN:VEVENT
SUMMARY:高松
DTSTART;VALUE=DATE-TIME:20260518T083000Z
DTEND;VALUE=DATE-TIME:20260518T112000Z
UID:214969175446
DESCRIPTION:高松
LOCATION:
END:VEVENT
BEGIN:VEVENT
SUMMARY:高松
DTSTART;VALUE=DATE-TIME:20260520T092000Z
DTEND;VALUE=DATE-TIME:20260520T120000Z
UID:218842526489
DESCRIPTION:高松
LOCATION:
END:VEVENT
END:VCALENDAR
