BEGIN:VCALENDAR
VERSION:2.0
PRODID:-//chikkutakku.com//RDFCal 1.0//EN
X-WR-CALDESC:GoogleカレンダーやiCalendar形式情報を共有シェ
 アしましょう。近所のイベントから全国のイベントま
 で今日のイベント検索やスケジュールを決めるならち
 っくたっく
X-WR-CALNAME:ちっくたっく
X-WR-TIMEZONE:UTC
BEGIN:VEVENT
SUMMARY:A川口 中級クラス11 北畑（ヴェニーズワルツ⑤、
 サンバ⑤）
DTSTART;VALUE=DATE-TIME:20260423T103000Z
DTEND;VALUE=DATE-TIME:20260423T120000Z
UID:228843688848
DESCRIPTION:ステップ名＆動画\nヴェニーズワルツ⑤：https:
 //dancecirclej.com/index.php?go=wUsAFb\nサンバ⑤：https://dancecircle
 j.com/index.php?go=XJbpfn
LOCATION:タキガワダンススクール川口
END:VEVENT
BEGIN:VEVENT
SUMMARY:★休講★A川口 初中級クラス 比嘉（休み）
DTSTART;VALUE=DATE-TIME:20260424T103000Z
DTEND;VALUE=DATE-TIME:20260424T120000Z
UID:265139994547
DESCRIPTION:ステップ名＆動画\n休み：
LOCATION:タキガワダンススクール川口
END:VEVENT
BEGIN:VEVENT
SUMMARY:A川口 初心者クラス8 吹野（ルンバ①全部、タン
 ゴ①全部）
DTSTART;VALUE=DATE-TIME:20260425T093000Z
DTEND;VALUE=DATE-TIME:20260425T110000Z
UID:291322766513
DESCRIPTION:ステップ名＆動画\nルンバ①全部：https://danceci
 rclej.com/index.php?go=fsG2cs\nタンゴ①全部：https://dancecirclej.c
 om/index.php?go=UBHurF
LOCATION:タキガワダンススクール川口
END:VEVENT
BEGIN:VEVENT
SUMMARY:A川口 初中級クラス3 吹野（ヴェニーズワルツ初
 中級B）
DTSTART;VALUE=DATE-TIME:20260425T111500Z
DTEND;VALUE=DATE-TIME:20260425T120000Z
UID:277295871193
DESCRIPTION:ステップ名＆動画\nヴェニーズワルツ初中級B
 ：https://dancecirclej.com/index.php?go=wUsAFb
LOCATION:タキガワダンススクール池袋
END:VEVENT
BEGIN:VEVENT
SUMMARY:★休講★川口 中級クラス 北畑（休み）
DTSTART;VALUE=DATE-TIME:20260430T103000Z
DTEND;VALUE=DATE-TIME:20260430T120000Z
UID:621437135247
DESCRIPTION:ステップ名＆動画\n休み：
LOCATION:タキガワダンススクール川口
END:VEVENT
BEGIN:VEVENT
SUMMARY:A川口 初中級クラス8 比嘉（チャチャチャ④、ワ
 ルツ④）
DTSTART;VALUE=DATE-TIME:20260501T103000Z
DTEND;VALUE=DATE-TIME:20260501T120000Z
UID:217070130507
DESCRIPTION:ステップ名＆動画\nチャチャチャ④：https://danc
 ecirclej.com/index.php?go=f5Rp6u\nワルツ④：https://dancecirclej.com/
 index.php?go=8KKSvG
LOCATION:タキガワダンススクール川口
END:VEVENT
BEGIN:VEVENT
SUMMARY:★休講★A川口 初心者クラス 吹野（休み）
DTSTART;VALUE=DATE-TIME:20260502T093000Z
DTEND;VALUE=DATE-TIME:20260502T110000Z
UID:766680882678
DESCRIPTION:ステップ名＆動画\n休み：
LOCATION:タキガワダンススクール川口
END:VEVENT
BEGIN:VEVENT
SUMMARY:★休講★A川口 初中級クラス 吹野（休み）
DTSTART;VALUE=DATE-TIME:20260502T111500Z
DTEND;VALUE=DATE-TIME:20260502T120000Z
UID:210219491960
DESCRIPTION:ステップ名＆動画\n休み：
LOCATION:タキガワダンススクール池袋
END:VEVENT
BEGIN:VEVENT
SUMMARY:A川口 中級クラス12 北畑（ヴェニーズワルツ⑤+α
 、サンバ⑤+α）
DTSTART;VALUE=DATE-TIME:20260507T103000Z
DTEND;VALUE=DATE-TIME:20260507T120000Z
UID:166772996476
DESCRIPTION:ステップ名＆動画\nヴェニーズワルツ⑤+α：htt
 ps://dancecirclej.com/index.php?go=wUsAFb\nサンバ⑤+α：https://dance
 circlej.com/index.php?go=XJbpfn
LOCATION:タキガワダンススクール川口
END:VEVENT
BEGIN:VEVENT
SUMMARY:A川口 初中級クラス9 比嘉（チャチャチャ④、ワ
 ルツ④）
DTSTART;VALUE=DATE-TIME:20260508T103000Z
DTEND;VALUE=DATE-TIME:20260508T120000Z
UID:140958214789
DESCRIPTION:ステップ名＆動画\nチャチャチャ④：https://danc
 ecirclej.com/index.php?go=f5Rp6u\nワルツ④：https://dancecirclej.com/
 index.php?go=8KKSvG
LOCATION:タキガワダンススクール川口
END:VEVENT
BEGIN:VEVENT
SUMMARY:A川口 初心者クラス9 吹野（ワルツ①、チャチャ
 チャ①追加）
DTSTART;VALUE=DATE-TIME:20260509T093000Z
DTEND;VALUE=DATE-TIME:20260509T110000Z
UID:243571675604
DESCRIPTION:ステップ名＆動画\nワルツ①：https://dancecirclej.
 com/index.php?go=8KKSvG\nチャチャチャ①追加：https://dancecircle
 j.com/index.php?go=f5Rp6u
LOCATION:タキガワダンススクール川口
END:VEVENT
BEGIN:VEVENT
SUMMARY:A川口 初中級クラス4 吹野（ヴェニーズワルツ初
 中級B）
DTSTART;VALUE=DATE-TIME:20260509T111500Z
DTEND;VALUE=DATE-TIME:20260509T120000Z
UID:140275102089
DESCRIPTION:ステップ名＆動画\nヴェニーズワルツ初中級B
 ：https://dancecirclej.com/index.php?go=wUsAFb
LOCATION:タキガワダンススクール池袋
END:VEVENT
BEGIN:VEVENT
SUMMARY:A川口 中級クラス13 北畑（ジャイブ⑤、タンゴ⑤
 ）
DTSTART;VALUE=DATE-TIME:20260514T103000Z
DTEND;VALUE=DATE-TIME:20260514T120000Z
UID:178130113084
DESCRIPTION:ステップ名＆動画\nジャイブ⑤：https://dancecircl
 ej.com/index.php?go=g6sX3t\nタンゴ⑤：https://dancecirclej.com/index.
 php?go=UBHurF
LOCATION:タキガワダンススクール川口
END:VEVENT
BEGIN:VEVENT
SUMMARY:A川口 初中級クラス10 比嘉（スローフォックスト
 ロット④、ジャイブ④）
DTSTART;VALUE=DATE-TIME:20260515T103000Z
DTEND;VALUE=DATE-TIME:20260515T120000Z
UID:163131753221
DESCRIPTION:ステップ名＆動画\nスローフォックストロット
 ④：https://dancecirclej.com/index.php?go=nf0tGD\nジャイブ④：http
 s://dancecirclej.com/index.php?go=g6sX3t
LOCATION:タキガワダンススクール川口
END:VEVENT
BEGIN:VEVENT
SUMMARY:A川口 初心者クラス10 吹野（サンバ①、クイック
 ステップ①）
DTSTART;VALUE=DATE-TIME:20260516T093000Z
DTEND;VALUE=DATE-TIME:20260516T110000Z
UID:219618557301
DESCRIPTION:ステップ名＆動画\nサンバ①：https://dancecirclej.
 com/index.php?go=XJbpfn\nクイックステップ①：https://dancecircle
 j.com/index.php?go=UErgkK
LOCATION:タキガワダンススクール川口
END:VEVENT
BEGIN:VEVENT
SUMMARY:A川口 初中級クラス5 吹野（ジャイブ初中級B）
DTSTART;VALUE=DATE-TIME:20260516T111500Z
DTEND;VALUE=DATE-TIME:20260516T120000Z
UID:210770429973
DESCRIPTION:ステップ名＆動画\nジャイブ初中級B：https://dan
 cecirclej.com/index.php?go=g6sX3t
LOCATION:タキガワダンススクール池袋
END:VEVENT
END:VCALENDAR
