BEGIN:VCALENDAR
VERSION:2.0
PRODID:-//chikkutakku.com//RDFCal 1.0//EN
X-WR-CALDESC:GoogleカレンダーやiCalendar形式情報を共有シェ
 アしましょう。近所のイベントから全国のイベントま
 で今日のイベント検索やスケジュールを決めるならち
 っくたっく
X-WR-CALNAME:ちっくたっく
X-WR-TIMEZONE:UTC
BEGIN:VEVENT
SUMMARY:担当プロ変更　９：００～１５：３０　秋山プロ
DTSTART;VALUE=DATE-TIME:20260428T000000Z
DTEND;VALUE=DATE-TIME:20260428T063000Z
UID:170642695313
DESCRIPTION:担当プロ変更　９：００～１５：３０　秋山
 プロ
LOCATION:スコアクリエイション\, 日本、〒154-0012 東京都
 世田谷区駒沢５丁目２６−２６番７号 駒沢パークサイ
 ドテラスノース B1F
END:VEVENT
BEGIN:VEVENT
SUMMARY:［満員御礼］　ラウンドレッスン　担当：野崎
DTSTART;VALUE=DATE:20260427
DTEND;VALUE=DATE:20260428
UID:204987619775
DESCRIPTION:定員３名です。   ４月８日現在、申込み３名
 様。   満員御礼です。
LOCATION:思い川ゴルフ倶楽部\, 日本、〒322-0344 栃木県鹿
 沼市西沢町１８０５−１
END:VEVENT
BEGIN:VEVENT
SUMMARY:［満員御礼］　初心者オンコースレッスン　担当
 ：野崎
DTSTART;VALUE=DATE:20260428
DTEND;VALUE=DATE:20260429
UID:316329928709
DESCRIPTION:定員３名です。   \n満員御礼です。
LOCATION:思い川ゴルフ倶楽部\, 日本、〒322-0344 栃木県鹿
 沼市西沢町１８０５−１
END:VEVENT
BEGIN:VEVENT
SUMMARY:［満員御礼］　ラウンドレッスン　担当：野崎
DTSTART;VALUE=DATE:20260429
DTEND;VALUE=DATE:20260430
UID:543762495617
DESCRIPTION:定員３名です。   ４月２３日現在、申込み３
 名様。   満員御礼です。
LOCATION:思い川ゴルフ倶楽部\, 日本、〒322-0344 栃木県鹿
 沼市西沢町１８０５−１
END:VEVENT
BEGIN:VEVENT
SUMMARY:［満員御礼］　ラウンドレッスン　担当：野崎
DTSTART;VALUE=DATE:20260430
DTEND;VALUE=DATE:20260501
UID:222466411943
DESCRIPTION:定員３名です。   ４月２３日現在、申込み３
 名様。   満員御礼です。
LOCATION:思い川ゴルフ倶楽部\, 日本、〒322-0344 栃木県鹿
 沼市西沢町１８０５−１
END:VEVENT
BEGIN:VEVENT
SUMMARY:［満員御礼］　ラウンドレッスン　担当：野崎
DTSTART;VALUE=DATE:20260501
DTEND;VALUE=DATE:20260502
UID:242972251562
DESCRIPTION:定員３名です。   ４月８日現在、申込み３名
 様。   満員御礼です。
LOCATION:思い川ゴルフ倶楽部\, 日本、〒322-0344 栃木県鹿
 沼市西沢町１８０５−１
END:VEVENT
BEGIN:VEVENT
SUMMARY:［満員御礼］　ラウンドレッスン　担当：野崎
DTSTART;VALUE=DATE:20260502
DTEND;VALUE=DATE:20260503
UID:225421604189
DESCRIPTION:定員３名です。   ４月２３日現在、申込み３
 名様。   満員御礼です。
LOCATION:思い川ゴルフ倶楽部\, 日本、〒322-0344 栃木県鹿
 沼市西沢町１８０５−１
END:VEVENT
BEGIN:VEVENT
SUMMARY:◆◆◆◆◆◆◆◆◆　スコアクリエイション 休
 場日　◆◆◆◆◆◆◆◆◆
DTSTART;VALUE=DATE:20260428
DTEND;VALUE=DATE:20260503
UID:257914945396
DESCRIPTION:◆◆◆◆◆◆◆◆◆　スコアクリエイション 
 休場日　◆◆◆◆◆◆◆◆◆
LOCATION:
END:VEVENT
BEGIN:VEVENT
SUMMARY:担当プロ変更　７：００～８：５０　野崎プロ
DTSTART;VALUE=DATE-TIME:20260503T220000Z
DTEND;VALUE=DATE-TIME:20260503T235000Z
UID:756274521817
DESCRIPTION:担当プロ変更　７：００～８：５０　野崎プ
 ロ
LOCATION:スコアクリエイション\, 日本、〒154-0012 東京都
 世田谷区駒沢５丁目２６−２６番７号 駒沢パークサイ
 ドテラスノース B1F
END:VEVENT
BEGIN:VEVENT
SUMMARY:担当プロ変更　９：００～１５：３０　秋山プロ
DTSTART;VALUE=DATE-TIME:20260504T000000Z
DTEND;VALUE=DATE-TIME:20260504T063000Z
UID:114113544202
DESCRIPTION:担当プロ変更　９：００～１５：３０　秋山
 プロ
LOCATION:スコアクリエイション\, 日本、〒154-0012 東京都
 世田谷区駒沢５丁目２６−２６番７号 駒沢パークサイ
 ドテラスノース B1F
END:VEVENT
BEGIN:VEVENT
SUMMARY:担当プロ変更　１５：４０～２０：００　野崎プ
 ロ
DTSTART;VALUE=DATE-TIME:20260504T064000Z
DTEND;VALUE=DATE-TIME:20260504T110000Z
UID:157832241767
DESCRIPTION:担当プロ変更　１５：４０～２０：００　野
 崎プロ
LOCATION:スコアクリエイション\, 日本、〒154-0012 東京都
 世田谷区駒沢５丁目２６−２６番７号 駒沢パークサイ
 ドテラスノース B1F
END:VEVENT
BEGIN:VEVENT
SUMMARY:担当プロ変更　７：００～１３：３０　秋山プロ
DTSTART;VALUE=DATE-TIME:20260504T220000Z
DTEND;VALUE=DATE-TIME:20260505T043000Z
UID:333514374671
DESCRIPTION:担当プロ変更　７：００～１３：３０　秋山
 プロ
LOCATION:スコアクリエイション\, 日本、〒154-0012 東京都
 世田谷区駒沢５丁目２６−２６番７号 駒沢パークサイ
 ドテラスノース B1F
END:VEVENT
BEGIN:VEVENT
SUMMARY:担当プロ変更　１３：４０～２０：００　松井プ
 ロ
DTSTART;VALUE=DATE-TIME:20260505T044000Z
DTEND;VALUE=DATE-TIME:20260505T110000Z
UID:277833627561
DESCRIPTION:担当プロ変更　１３：４０～２０：００　松
 井プロ
LOCATION:スコアクリエイション\, 日本、〒154-0012 東京都
 世田谷区駒沢５丁目２６−２６番７号 駒沢パークサイ
 ドテラスノース B1F
END:VEVENT
BEGIN:VEVENT
SUMMARY:［満員御礼］　ラウンドレッスン　担当：野崎
DTSTART;VALUE=DATE:20260504
DTEND;VALUE=DATE:20260505
UID:200707239791
DESCRIPTION:定員３名です。   ３月１５日現在、申込み３
 名様。   満員御礼です。
LOCATION:思い川ゴルフ倶楽部\, 日本、〒322-0344 栃木県鹿
 沼市西沢町１８０５−１
END:VEVENT
BEGIN:VEVENT
SUMMARY:担当プロ変更　７：００～１３：３０　松井プロ
DTSTART;VALUE=DATE-TIME:20260505T220000Z
DTEND;VALUE=DATE-TIME:20260506T043000Z
UID:134463426830
DESCRIPTION:担当プロ変更　７：００～１３：３０　松井
 プロ
LOCATION:スコアクリエイション\, 日本、〒154-0012 東京都
 世田谷区駒沢５丁目２６−２６番７号 駒沢パークサイ
 ドテラスノース B1F
END:VEVENT
BEGIN:VEVENT
SUMMARY:担当プロ変更　１３：４０～２０：００　秋山プ
 ロ
DTSTART;VALUE=DATE-TIME:20260506T044000Z
DTEND;VALUE=DATE-TIME:20260506T110000Z
UID:711329785241
DESCRIPTION:担当プロ変更　１３：４０～２０：００　秋
 山プロ
LOCATION:スコアクリエイション\, 日本、〒154-0012 東京都
 世田谷区駒沢５丁目２６−２６番７号 駒沢パークサイ
 ドテラスノース B1F
END:VEVENT
BEGIN:VEVENT
SUMMARY:［満員御礼］　ラウンドレッスン　担当：野崎
DTSTART;VALUE=DATE:20260505
DTEND;VALUE=DATE:20260506
UID:992889119370
DESCRIPTION:定員３名です。   ４月６日現在、申込み１名
 様。   満員御礼です。
LOCATION:思い川ゴルフ倶楽部\, 日本、〒322-0344 栃木県鹿
 沼市西沢町１８０５−１
END:VEVENT
BEGIN:VEVENT
SUMMARY:担当プロ変更　９：００～１５：３０　野崎プロ
DTSTART;VALUE=DATE-TIME:20260507T000000Z
DTEND;VALUE=DATE-TIME:20260507T063000Z
UID:299510538924
DESCRIPTION:担当プロ変更　９：００～１５：３０　野崎
 プロ
LOCATION:スコアクリエイション\, 日本、〒154-0012 東京都
 世田谷区駒沢５丁目２６−２６番７号 駒沢パークサイ
 ドテラスノース B1F
END:VEVENT
BEGIN:VEVENT
SUMMARY:［満員御礼］北海道ゴルフツアー　担当：野崎プ
 ロ　
DTSTART;VALUE=DATE:20260520
DTEND;VALUE=DATE:20260523
UID:257323104836
DESCRIPTION:定員３名です。  ２月２２日現在、申込み３
 名様。  満員御礼です。ザ・ノースカントリーゴルフ
 クラブ小樽カントリークラブ北海道ブルックスカント
 リークラブ
LOCATION:小樽カントリー倶楽部\, 日本、〒047-0261 北海道
 小樽市銭函３丁目７３
END:VEVENT
BEGIN:VEVENT
SUMMARY:担当プロ変更　７：００～８：５０　野崎プロ
DTSTART;VALUE=DATE-TIME:20260523T220000Z
DTEND;VALUE=DATE-TIME:20260523T235000Z
UID:231387499753
DESCRIPTION:担当プロ変更　７：００～８：５０　野崎プ
 ロ
LOCATION:スコアクリエイション\, 日本、〒154-0012 東京都
 世田谷区駒沢５丁目２６−２６番７号 駒沢パークサイ
 ドテラスノース B1F
END:VEVENT
BEGIN:VEVENT
SUMMARY:担当プロ変更　９：００～１４：３０　秋山プロ
DTSTART;VALUE=DATE-TIME:20260524T000000Z
DTEND;VALUE=DATE-TIME:20260524T063000Z
UID:288824807761
DESCRIPTION:担当プロ変更　９：００～１４：３０　秋山
 プロ
LOCATION:スコアクリエイション\, 日本、〒154-0012 東京都
 世田谷区駒沢５丁目２６−２６番７号 駒沢パークサイ
 ドテラスノース B1F
END:VEVENT
BEGIN:VEVENT
SUMMARY:担当プロ変更　１４：４０～１７：３０　野崎プ
 ロ
DTSTART;VALUE=DATE-TIME:20260524T054000Z
DTEND;VALUE=DATE-TIME:20260524T083000Z
UID:212837704026
DESCRIPTION:担当プロ変更　１４：４０～１７：３０　野
 崎プロ
LOCATION:スコアクリエイション\, 日本、〒154-0012 東京都
 世田谷区駒沢５丁目２６−２６番７号 駒沢パークサイ
 ドテラスノース B1F
END:VEVENT
END:VCALENDAR
