BEGIN:VCALENDAR
VERSION:2.0
PRODID:-//chikkutakku.com//RDFCal 1.0//EN
X-WR-CALDESC:GoogleカレンダーやiCalendar形式情報を共有シェ
 アしましょう。近所のイベントから全国のイベントま
 で今日のイベント検索やスケジュールを決めるならち
 っくたっく
X-WR-CALNAME:ちっくたっく
X-WR-TIMEZONE:UTC
BEGIN:VEVENT
SUMMARY:★休講★J日暮里 初心者クラス 神成（休み）
DTSTART;VALUE=DATE-TIME:20260428T103000Z
DTEND;VALUE=DATE-TIME:20260428T120000Z
UID:331211772618
DESCRIPTION:ステップ名＆動画\n休み：\n会場調整済
LOCATION:三共カルチャースタジオ
END:VEVENT
BEGIN:VEVENT
SUMMARY:J日暮里 初心者クラス9 神成（ワルツ①、チャチ
 ャチャ①追加）
DTSTART;VALUE=DATE-TIME:20260505T103000Z
DTEND;VALUE=DATE-TIME:20260505T120000Z
UID:109608519127
DESCRIPTION:ステップ名＆動画\nワルツ①：https://dancecirclej.
 com/index.php?go=8KKSvG\nチャチャチャ①追加：https://dancecircle
 j.com/index.php?go=f5Rp6u
LOCATION:三共カルチャースタジオ
END:VEVENT
BEGIN:VEVENT
SUMMARY:J日暮里 初心者クラス10 神成（サンバ①、クイッ
 クステップ①）
DTSTART;VALUE=DATE-TIME:20260512T103000Z
DTEND;VALUE=DATE-TIME:20260512T120000Z
UID:336513159147
DESCRIPTION:ステップ名＆動画\nサンバ①：https://dancecirclej.
 com/index.php?go=XJbpfn\nクイックステップ①：https://dancecircle
 j.com/index.php?go=UErgkK
LOCATION:三共カルチャースタジオ
END:VEVENT
BEGIN:VEVENT
SUMMARY:J日暮里 初心者クラス11 神成（クイックステップ
 ①、サンバ①）
DTSTART;VALUE=DATE-TIME:20260519T103000Z
DTEND;VALUE=DATE-TIME:20260519T120000Z
UID:286660210279
DESCRIPTION:ステップ名＆動画\nクイックステップ①：https:
 //dancecirclej.com/index.php?go=UErgkK\nサンバ①：https://dancecircle
 j.com/index.php?go=XJbpfn
LOCATION:三共カルチャースタジオ
END:VEVENT
END:VCALENDAR
