BEGIN:VCALENDAR
VERSION:2.0
PRODID:-//chikkutakku.com//RDFCal 1.0//EN
X-WR-CALDESC:GoogleカレンダーやiCalendar形式情報を共有シェ
 アしましょう。近所のイベントから全国のイベントま
 で今日のイベント検索やスケジュールを決めるならち
 っくたっく
X-WR-CALNAME:ちっくたっく
X-WR-TIMEZONE:UTC
BEGIN:VEVENT
SUMMARY:うまくいっている人の考え方 完全版 プレミアム
 カバー 花柄ピンクゴールド (ディスカヴァー携書)
DTSTART;VALUE=DATE:20260423
DTEND;VALUE=DATE:20260424
UID:873834225242
DESCRIPTION:2026-04-24うまくいっている人の考え方 完全版 
 プレミアムカバー 花柄ピンクゴールド (ディスカヴァ
 ー携書)ジェリー・ミンチントン/弓場隆ディスカヴァー
 ・トゥエンティワン
LOCATION:
END:VEVENT
BEGIN:VEVENT
SUMMARY:毎日が必ずうまくいく366のヒント
DTSTART;VALUE=DATE:20260423
DTEND;VALUE=DATE:20260424
UID:803916348830
DESCRIPTION:2026-04-24毎日が必ずうまくいく366のヒントホス
 ＆ホップ/伊達信夫ディスカヴァー・トゥエンティワン
LOCATION:
END:VEVENT
BEGIN:VEVENT
SUMMARY:あなたはあなたが使っている言葉でできている
DTSTART;VALUE=DATE:20260423
DTEND;VALUE=DATE:20260424
UID:296317082556
DESCRIPTION:2026-04-24あなたはあなたが使っている言葉でで
 きているゲイリー・ジョン・ビショップ/高崎拓哉ディ
 スカヴァー・トゥエンティワン
LOCATION:
END:VEVENT
BEGIN:VEVENT
SUMMARY:「教える」を手放す 人とチームの自律を引き出
 すコーチング
DTSTART;VALUE=DATE:20260423
DTEND;VALUE=DATE:20260424
UID:225581646304
DESCRIPTION:2026-04-24「教える」を手放す 人とチームの自律
 を引き出すコーチング小井土正亮ディスカヴァー・ト
 ゥエンティワン
LOCATION:
END:VEVENT
BEGIN:VEVENT
SUMMARY:不登校・行き渋り…タイプ別でわかる 「学校に
 行きたくない」と言われたときの親のかかわり方
DTSTART;VALUE=DATE:20260423
DTEND;VALUE=DATE:20260424
UID:172543328527
DESCRIPTION:2026-04-24不登校・行き渋り…タイプ別でわかる 
 「学校に行きたくない」と言われたときの親のかかわ
 り方植木希恵ディスカヴァー・トゥエンティワン
LOCATION:
END:VEVENT
BEGIN:VEVENT
SUMMARY:気がかりゼロ
DTSTART;VALUE=DATE:20260423
DTEND;VALUE=DATE:20260424
UID:277698926199
DESCRIPTION:2026-04-24気がかりゼロ山田智恵ディスカヴァー
 ・トゥエンティワン
LOCATION:
END:VEVENT
BEGIN:VEVENT
SUMMARY:図解でわかる！ 社員エンゲージメントを高める7
 つの方法
DTSTART;VALUE=DATE:20260423
DTEND;VALUE=DATE:20260424
UID:526097707029
DESCRIPTION:2026-04-24図解でわかる！ 社員エンゲージメント
 を高める7つの方法山田博之ディスカヴァー・トゥエン
 ティワン
LOCATION:
END:VEVENT
BEGIN:VEVENT
SUMMARY:自然はすごい いつもの道が美しく見える5つの視
 点
DTSTART;VALUE=DATE:20260423
DTEND;VALUE=DATE:20260424
UID:100535517615
DESCRIPTION:2026-04-24自然はすごい いつもの道が美しく見え
 る5つの視点ノダカズキディスカヴァー・トゥエンティ
 ワン
LOCATION:
END:VEVENT
BEGIN:VEVENT
SUMMARY:RADICAL LISTENING 「聞く」ということのすべて
DTSTART;VALUE=DATE:20260423
DTEND;VALUE=DATE:20260424
UID:126781711566
DESCRIPTION:2026-04-24RADICAL LISTENING 「聞く」ということのす
 べてRADICAL LISTENING 「聞く」ということのすべてディス
 カヴァー・トゥエンティワン
LOCATION:
END:VEVENT
BEGIN:VEVENT
SUMMARY:基本から応用まできちんと身につく Premiereのいろ
 は
DTSTART;VALUE=DATE:20260427
DTEND;VALUE=DATE:20260428
UID:598218980812
DESCRIPTION:2026-04-28基本から応用まできちんと身につく Pre
 miereのいろは河野 緑ソシム
LOCATION:
END:VEVENT
BEGIN:VEVENT
SUMMARY:敵を作らない人が大事にしている 味方をふやす
 話し方
DTSTART;VALUE=DATE:20260427
DTEND;VALUE=DATE:20260428
UID:501710953349
DESCRIPTION:2026-04-28敵を作らない人が大事にしている 味方
 をふやす話し方芝山 大補ソシム
LOCATION:
END:VEVENT
BEGIN:VEVENT
SUMMARY:頭のいい人がだけが知っている本質をつかむ技術
 「ももたろう」をひと言でまとめてください
DTSTART;VALUE=DATE:20260427
DTEND;VALUE=DATE:20260428
UID:123244754458
DESCRIPTION:2026-04-28頭のいい人がだけが知っている本質を
 つかむ技術「ももたろう」をひと言でまとめてくださ
 い高田 晃ソシム
LOCATION:
END:VEVENT
BEGIN:VEVENT
SUMMARY:名探偵コナン 特別編 幸運の女神
DTSTART;VALUE=DATE:20260427
DTEND;VALUE=DATE:20260428
UID:161018556403
DESCRIPTION:2026-04-28名探偵コナン 特別編 幸運の女神青山 
 剛昌/太田 勝/窪田 一裕小学館
LOCATION:
END:VEVENT
BEGIN:VEVENT
SUMMARY:やらないことを決める技術 仕事も人生も「戦略
 的先送り」でうまくいく
DTSTART;VALUE=DATE:20260427
DTEND;VALUE=DATE:20260428
UID:846496828636
DESCRIPTION:2026-04-28やらないことを決める技術 仕事も人生
 も「戦略的先送り」でうまくいく大平 信孝ソシム
LOCATION:
END:VEVENT
BEGIN:VEVENT
SUMMARY:松本ぷりっつのダンナ50歳 うちの3姉妹のお父さ
 ん、楽しく健康イケオジ部！
DTSTART;VALUE=DATE:20260429
DTEND;VALUE=DATE:20260430
UID:184446046652
DESCRIPTION:2026-04-30松本ぷりっつのダンナ50歳 うちの3姉妹
 のお父さん、楽しく健康イケオジ部！松本ぷりっつ竹
 書房
LOCATION:
END:VEVENT
BEGIN:VEVENT
SUMMARY:柳生裸真剣（9）
DTSTART;VALUE=DATE:20260429
DTEND;VALUE=DATE:20260430
UID:328763684873
DESCRIPTION:2026-04-30柳生裸真剣（9）永井豪とダイナミック
 プロ小学館
LOCATION:
END:VEVENT
BEGIN:VEVENT
SUMMARY:せふれ 11
DTSTART;VALUE=DATE:20260501
DTEND;VALUE=DATE:20260502
UID:157504478441
DESCRIPTION:2026-05-02せふれ 11甘詰 留太少年画報社
LOCATION:
END:VEVENT
BEGIN:VEVENT
SUMMARY:東島丹三郎は仮面ライダーになりたい（18）
DTSTART;VALUE=DATE:20260506
DTEND;VALUE=DATE:20260507
UID:331185426044
DESCRIPTION:2026-05-07東島丹三郎は仮面ライダーになりたい
 （18）柴田 ヨクサルヒーローズ
LOCATION:
END:VEVENT
BEGIN:VEVENT
SUMMARY:CLAMP PREMIUM COLLECTION ANGELIC LAYER （1）
DTSTART;VALUE=DATE:20260508
DTEND;VALUE=DATE:20260509
UID:388798621117
DESCRIPTION:2026-05-09CLAMP PREMIUM COLLECTION ANGELIC LAYER （1）CLAMPK
 ADOKAWA
LOCATION:
END:VEVENT
BEGIN:VEVENT
SUMMARY:眠れる者たちの霊廟
DTSTART;VALUE=DATE:20260510
DTEND;VALUE=DATE:20260511
UID:100281792120
DESCRIPTION:2026-05-11眠れる者たちの霊廟ロベルト・フェル
 トホフ/マリアンネ・シドウ/長谷川 早苗早川書房
LOCATION:
END:VEVENT
BEGIN:VEVENT
SUMMARY:月刊 AQUA LIFE (アクアライフ) 2026年 6月号 [雑誌]
DTSTART;VALUE=DATE:20260510
DTEND;VALUE=DATE:20260511
UID:167783819264
DESCRIPTION:2026-05-11月刊 AQUA LIFE (アクアライフ) 2026年 6月
 号 [雑誌]エムピー・ジェー
LOCATION:
END:VEVENT
BEGIN:VEVENT
SUMMARY:DIME (ダイム) 2026年 7月号 [雑誌] 【表紙: 山下智久
 】
DTSTART;VALUE=DATE:20260514
DTEND;VALUE=DATE:20260515
UID:277501746471
DESCRIPTION:2026-05-15DIME (ダイム) 2026年 7月号 [雑誌] 【表紙:
  山下智久】小学館
LOCATION:
END:VEVENT
BEGIN:VEVENT
SUMMARY:名探偵コナンカードゲーム 公式ガイドブック（2
 ）
DTSTART;VALUE=DATE:20260517
DTEND;VALUE=DATE:20260518
UID:938363968479
DESCRIPTION:2026-05-18名探偵コナンカードゲーム 公式ガイド
 ブック（2）青山 剛昌/株式会社 ホビージャパン小学館
LOCATION:
END:VEVENT
BEGIN:VEVENT
SUMMARY:慰謝料狩り 5
DTSTART;VALUE=DATE:20260518
DTEND;VALUE=DATE:20260519
UID:337415773696
DESCRIPTION:2026-05-19慰謝料狩り 5きづきあきら＋サトウナ
 ンキ集英社
LOCATION:
END:VEVENT
BEGIN:VEVENT
SUMMARY:ある設計士の忌録（9） 妖術
DTSTART;VALUE=DATE:20260519
DTEND;VALUE=DATE:20260520
UID:165829368410
DESCRIPTION:2026-05-20ある設計士の忌録（9） 妖術鯛夢朝日
 新聞出版
LOCATION:
END:VEVENT
BEGIN:VEVENT
SUMMARY:魔百合の恐怖報告 裂かれる魂
DTSTART;VALUE=DATE:20260519
DTEND;VALUE=DATE:20260520
UID:205776130991
DESCRIPTION:2026-05-20魔百合の恐怖報告 裂かれる魂山本まゆ
 り/寺尾玲子朝日新聞出版
LOCATION:
END:VEVENT
BEGIN:VEVENT
SUMMARY:惑星エフレムの戦士
DTSTART;VALUE=DATE:20260520
DTEND;VALUE=DATE:20260521
UID:232657953577
DESCRIPTION:2026-05-21惑星エフレムの戦士ペーター・グリー
 ゼ/アルント・エルマー/若松 宣子早川書房
LOCATION:
END:VEVENT
BEGIN:VEVENT
SUMMARY:ふたり鷹 完全版（6）
DTSTART;VALUE=DATE:20260521
DTEND;VALUE=DATE:20260522
UID:302587799238
DESCRIPTION:2026-05-22ふたり鷹 完全版（6）新谷かおる小学
 館
LOCATION:
END:VEVENT
BEGIN:VEVENT
SUMMARY:お手伝いで自分から楽しく学べる子になる 戦略
 的ほったらかし教育
DTSTART;VALUE=DATE:20260521
DTEND;VALUE=DATE:20260522
UID:110207330019
DESCRIPTION:2026-05-22お手伝いで自分から楽しく学べる子に
 なる 戦略的ほったらかし教育岩田 かおりディスカヴァ
 ー・トゥエンティワン
LOCATION:
END:VEVENT
BEGIN:VEVENT
SUMMARY:どん底から最高の人生に変わる「古典」の知恵
DTSTART;VALUE=DATE:20260521
DTEND;VALUE=DATE:20260522
UID:243152861223
DESCRIPTION:2026-05-22どん底から最高の人生に変わる「古典
 」の知恵コ・ミョンファン/小笠原 藤子ディスカヴァー
 ・トゥエンティワン
LOCATION:
END:VEVENT
BEGIN:VEVENT
SUMMARY:余裕があるほど心が満たされる ことばの器
DTSTART;VALUE=DATE:20260521
DTEND;VALUE=DATE:20260522
UID:128151992983
DESCRIPTION:2026-05-22余裕があるほど心が満たされる ことば
 の器キム・ユンナ/簗田 順子ディスカヴァー・トゥエン
 ティワン
LOCATION:
END:VEVENT
BEGIN:VEVENT
SUMMARY:だからベンチャーキャピタルはやめられない 投
 資家だけが知っている 起業とお金のリアル
DTSTART;VALUE=DATE:20260521
DTEND;VALUE=DATE:20260522
UID:203039440502
DESCRIPTION:2026-05-22だからベンチャーキャピタルはやめら
 れない 投資家だけが知っている 起業とお金のリアル岩
 澤 脩ディスカヴァー・トゥエンティワン
LOCATION:
END:VEVENT
BEGIN:VEVENT
SUMMARY:人生が自動的にうまくいくレッスン
DTSTART;VALUE=DATE:20260521
DTEND;VALUE=DATE:20260522
UID:223072001229
DESCRIPTION:2026-05-22人生が自動的にうまくいくレッスン藤
 野 智哉ディスカヴァー・トゥエンティワン
LOCATION:
END:VEVENT
BEGIN:VEVENT
SUMMARY:子どもを伸ばす言葉 実は否定している言葉 (特装
 版)
DTSTART;VALUE=DATE:20260521
DTEND;VALUE=DATE:20260522
UID:291966428130
DESCRIPTION:2026-05-22子どもを伸ばす言葉 実は否定している
 言葉 (特装版)天野 ひかりディスカヴァー・トゥエンテ
 ィワン
LOCATION:
END:VEVENT
BEGIN:VEVENT
SUMMARY:発達障害・グレーゾーンかもしれない人のための
 お金の「困った！」を解決する本
DTSTART;VALUE=DATE:20260521
DTEND;VALUE=DATE:20260522
UID:266088182433
DESCRIPTION:2026-05-22発達障害・グレーゾーンかもしれない
 人のためのお金の「困った！」を解決する本姫野 桂/雁
 屋 優ディスカヴァー・トゥエンティワン
LOCATION:
END:VEVENT
BEGIN:VEVENT
SUMMARY:「アドラー」だから自分で動ける部下が育つ 上
 司の教え方
DTSTART;VALUE=DATE:20260521
DTEND;VALUE=DATE:20260522
UID:140392545477
DESCRIPTION:2026-05-22「アドラー」だから自分で動ける部下
 が育つ 上司の教え方永藤 かおるディスカヴァー・トゥ
 エンティワン
LOCATION:
END:VEVENT
BEGIN:VEVENT
SUMMARY:本当にやりたいことが見つかる賢人の問い
DTSTART;VALUE=DATE:20260521
DTEND;VALUE=DATE:20260522
UID:337792767751
DESCRIPTION:2026-05-22本当にやりたいことが見つかる賢人の
 問い鈴木 義幸ディスカヴァー・トゥエンティワン
LOCATION:
END:VEVENT
END:VCALENDAR
