BEGIN:VCALENDAR
VERSION:2.0
PRODID:-//chikkutakku.com//RDFCal 1.0//EN
X-WR-CALDESC:GoogleカレンダーやiCalendar形式情報を共有シェ
 アしましょう。近所のイベントから全国のイベントま
 で今日のイベント検索やスケジュールを決めるならち
 っくたっく
X-WR-CALNAME:ちっくたっく
X-WR-TIMEZONE:UTC
BEGIN:VEVENT
SUMMARY:七日市町内会総会、組長参加
DTSTART;VALUE=DATE-TIME:20260426T100000Z
DTEND;VALUE=DATE-TIME:20260426T113000Z
UID:193029268061
DESCRIPTION:七日市町内会総会、組長参加
LOCATION:
END:VEVENT
BEGIN:VEVENT
SUMMARY:可燃ごみ毎週月木
DTSTART;VALUE=DATE:20260426
DTEND;VALUE=DATE:20260427
UID:269760083587
DESCRIPTION:可燃ごみ毎週月木
LOCATION:朝８時までに指定場所
END:VEVENT
BEGIN:VEVENT
SUMMARY:プラゴミ毎週火曜日
DTSTART;VALUE=DATE:20260427
DTEND;VALUE=DATE:20260428
UID:292189252791
DESCRIPTION:プラゴミ毎週火曜日
LOCATION:朝８時までに指定場所
END:VEVENT
BEGIN:VEVENT
SUMMARY:可燃ごみ毎週月木
DTSTART;VALUE=DATE:20260429
DTEND;VALUE=DATE:20260430
UID:559811474007
DESCRIPTION:可燃ごみ毎週月木
LOCATION:朝８時までに指定場所
END:VEVENT
BEGIN:VEVENT
SUMMARY:不燃ごみ毎月第２水曜
DTSTART;VALUE=DATE:20260512
DTEND;VALUE=DATE:20260513
UID:716235114010
DESCRIPTION:不燃ごみ毎月第２水曜
LOCATION:朝８時までに指定場所
END:VEVENT
BEGIN:VEVENT
SUMMARY:6組9組資源化物コンテナ設置
DTSTART;VALUE=DATE:20260517
DTEND;VALUE=DATE:20260518
UID:504608771394
DESCRIPTION:資源化物当番の方は、七日市ロビーにて、月
 曜日夕方までにコンテナ設置し、火曜日夜18時～19時に
 仕分け、翌水曜日朝8時30分頃にコンテナ収納整理、お
 願いします。組長さんと連絡を取り合って下さい。\n組
 長さんは、水曜日に門扉・倉庫の鍵を次の組長さん宅
 へお渡し下さい。
LOCATION:七日市ロビー
END:VEVENT
BEGIN:VEVENT
SUMMARY:6組9組資源化物コンテナ仕分け
DTSTART;VALUE=DATE-TIME:20260519T090000Z
DTEND;VALUE=DATE-TIME:20260519T100000Z
UID:111975252020
DESCRIPTION:資源化物当番の方は、七日市ロビーにて、月
 曜日夕方までにコンテナ設置し、火曜日夜18時～19時に
 仕分け、翌水曜日朝8時30分頃にコンテナ収納整理、お
 願いします。組長さんと連絡を取り合って下さい。\n組
 長さんは、水曜日に門扉・倉庫の鍵を次の組長さん宅
 へお渡し下さい。
LOCATION:七日市ロビー
END:VEVENT
END:VCALENDAR
