BEGIN:VCALENDAR
VERSION:2.0
PRODID:-//chikkutakku.com//RDFCal 1.0//EN
X-WR-CALDESC:GoogleカレンダーやiCalendar形式情報を共有シェ
 アしましょう。近所のイベントから全国のイベントま
 で今日のイベント検索やスケジュールを決めるならち
 っくたっく
X-WR-CALNAME:ちっくたっく
X-WR-TIMEZONE:UTC
BEGIN:VEVENT
SUMMARY:社會領域二段審題
DTSTART;VALUE=DATE-TIME:20260428T053000Z
DTEND;VALUE=DATE-TIME:20260428T073000Z
UID:621275909427
DESCRIPTION:社會領域二段審題
LOCATION:
END:VEVENT
BEGIN:VEVENT
SUMMARY:優先收容訪室會議
DTSTART;VALUE=DATE:20260429
DTEND;VALUE=DATE:20260430
UID:447703974715
DESCRIPTION:優先收容訪室會議
LOCATION:
END:VEVENT
BEGIN:VEVENT
SUMMARY:7.8年級社團活動
DTSTART;VALUE=DATE-TIME:20260501T050000Z
DTEND;VALUE=DATE-TIME:20260501T073000Z
UID:247185189463
DESCRIPTION:7.8年級社團活動
LOCATION:
END:VEVENT
BEGIN:VEVENT
SUMMARY:藝術領域書評會
DTSTART;VALUE=DATE-TIME:20260505T023000Z
DTEND;VALUE=DATE-TIME:20260505T040000Z
UID:254223076234
DESCRIPTION:藝術領域書評會
LOCATION:
END:VEVENT
BEGIN:VEVENT
SUMMARY:校外學習扶助研習
DTSTART;VALUE=DATE-TIME:20260506T040000Z
DTEND;VALUE=DATE-TIME:20260506T090000Z
UID:129245110707
DESCRIPTION:校外學習扶助研習
LOCATION:
END:VEVENT
BEGIN:VEVENT
SUMMARY:7.8年級社團活動
DTSTART;VALUE=DATE-TIME:20260508T050000Z
DTEND;VALUE=DATE-TIME:20260508T073000Z
UID:676267141117
DESCRIPTION:7.8年級社團活動
LOCATION:
END:VEVENT
BEGIN:VEVENT
SUMMARY:藝術領域研習
DTSTART;VALUE=DATE-TIME:20260512T023000Z
DTEND;VALUE=DATE-TIME:20260512T040000Z
UID:246906779894
DESCRIPTION:藝術領域研習
LOCATION:
END:VEVENT
BEGIN:VEVENT
SUMMARY:7.8年級社團活動
DTSTART;VALUE=DATE-TIME:20260515T050000Z
DTEND;VALUE=DATE-TIME:20260515T073000Z
UID:283860026956
DESCRIPTION:7.8年級社團活動
LOCATION:
END:VEVENT
BEGIN:VEVENT
SUMMARY:7.8年級社團活動
DTSTART;VALUE=DATE-TIME:20260522T050000Z
DTEND;VALUE=DATE-TIME:20260522T073000Z
UID:175738569666
DESCRIPTION:7.8年級社團活動
LOCATION:
END:VEVENT
END:VCALENDAR
