BEGIN:VCALENDAR
VERSION:2.0
PRODID:-//chikkutakku.com//RDFCal 1.0//EN
X-WR-CALDESC:GoogleカレンダーやiCalendar形式情報を共有シェ
 アしましょう。近所のイベントから全国のイベントま
 で今日のイベント検索やスケジュールを決めるならち
 っくたっく
X-WR-CALNAME:ちっくたっく
X-WR-TIMEZONE:UTC
BEGIN:VEVENT
SUMMARY:J2・J3百年構想 富山-新潟
DTSTART;VALUE=DATE-TIME:20260429T050000Z
DTEND;VALUE=DATE-TIME:20260429T050000Z
UID:288515300254
DESCRIPTION:J2・J3百年構想 WEST-Aグループ 第13節
LOCATION:富山県総合運動公園陸上競技場
END:VEVENT
BEGIN:VEVENT
SUMMARY:J2・J3百年構想 金沢-富山
DTSTART;VALUE=DATE-TIME:20260503T050000Z
DTEND;VALUE=DATE-TIME:20260503T050000Z
UID:137006249367
DESCRIPTION:J2・J3百年構想 WEST-Aグループ 第14節
LOCATION:金沢ゴーゴーカレースタジアム
END:VEVENT
BEGIN:VEVENT
SUMMARY:J2・J3百年構想 富山-讃岐
DTSTART;VALUE=DATE-TIME:20260506T050000Z
DTEND;VALUE=DATE-TIME:20260506T050000Z
UID:220627431843
DESCRIPTION:J2・J3百年構想 WEST-Aグループ 第15節
LOCATION:富山県総合運動公園陸上競技場
END:VEVENT
BEGIN:VEVENT
SUMMARY:J2・J3百年構想 愛媛-富山
DTSTART;VALUE=DATE-TIME:20260510T060000Z
DTEND;VALUE=DATE-TIME:20260510T060000Z
UID:186332719498
DESCRIPTION:J2・J3百年構想 WEST-Aグループ 第16節
LOCATION:ニンジニアスタジアム
END:VEVENT
BEGIN:VEVENT
SUMMARY:J2・J3百年構想 富山-徳島
DTSTART;VALUE=DATE-TIME:20260517T050000Z
DTEND;VALUE=DATE-TIME:20260517T050000Z
UID:686672675084
DESCRIPTION:J2・J3百年構想 WEST-Aグループ 第17節
LOCATION:富山県総合運動公園陸上競技場
END:VEVENT
BEGIN:VEVENT
SUMMARY:J2・J3百年構想 奈良-富山
DTSTART;VALUE=DATE-TIME:20260523T050000Z
DTEND;VALUE=DATE-TIME:20260523T050000Z
UID:547093400166
DESCRIPTION:J2・J3百年構想 WEST-Aグループ 第18節
LOCATION:ロートフィールド奈良
END:VEVENT
END:VCALENDAR
