BEGIN:VCALENDAR
VERSION:2.0
PRODID:-//chikkutakku.com//RDFCal 1.0//EN
X-WR-CALDESC:GoogleカレンダーやiCalendar形式情報を共有シェ
 アしましょう。近所のイベントから全国のイベントま
 で今日のイベント検索やスケジュールを決めるならち
 っくたっく
X-WR-CALNAME:ちっくたっく
X-WR-TIMEZONE:UTC
BEGIN:VEVENT
SUMMARY:Waltz for April
DTSTART;VALUE=DATE:20260429
DTEND;VALUE=DATE:20260430
UID:166602291304
DESCRIPTION:open 18:00 / start 19:00\n小川美潮vo\,、江藤直子pf、
 大津 真g、\n3800円 / 4300円\n\n【関連/参考ページ】\nhttp://
 fjs.fukamachi-jun.com/ （中目黒FJ's）\nhttp://fjslive.com/
LOCATION:中目黒FJ's【関東】
END:VEVENT
BEGIN:VEVENT
SUMMARY:ちぃツアー〔Duo 吉森信〕
DTSTART;VALUE=DATE:20260503
DTEND;VALUE=DATE:20260504
UID:557234042618
DESCRIPTION:open 17:00 / start 18:00\n小川美潮(vo) 吉森 信(pf) \n40
 00円 / 4500円\n\n【関連/参考ページ】\nhttp://tokuzo.com/ （名
 古屋今池TOKUZO）\nhttps://www.tokuzo.com/2026May/20260504
LOCATION:名古屋今池TOKUZO【東海】
END:VEVENT
BEGIN:VEVENT
SUMMARY:カフェ氣遊35周年コンサート〔Duo 吉森信〕
DTSTART;VALUE=DATE:20260504
DTEND;VALUE=DATE:20260505
UID:206037046725
DESCRIPTION:open 12:00\n有山じゅんじ、小川美潮＋吉森信、
 金森幸介、金子マリ＋石井為人、渋谷毅、友部正人、NI
 MA、ふちがみとふなと、松井文、ロケット・マツ、\n\n
 【関連/参考ページ】\nhttp://www.city.toyonaka.osaka.jp/toyonaka/y
 u_guide/hall/yagai.html （服部緑地野外音楽堂）\nhttps://cafe-ki
 yu.com/index.html
LOCATION:服部緑地野外音楽堂
END:VEVENT
BEGIN:VEVENT
SUMMARY:ちぃツアー〔Duo 吉森信〕
DTSTART;VALUE=DATE:20260505
DTEND;VALUE=DATE:20260506
UID:120058026709
DESCRIPTION:open 15:00 / start 16:00\nうたのそばに\n小川美潮(vo)
  吉森 信(pf) \n4000円 / 4500円　\n学生証提示で1000円キャッ
 シュバック\n\n【関連/参考ページ】\nhttp://www.negaposi.net/ 
 （京都ネガポジ）
LOCATION:京都ネガポジ【近畿】
END:VEVENT
BEGIN:VEVENT
SUMMARY:歌と10本の弦〔太田恵資・今堀恒雄〕
DTSTART;VALUE=DATE:20260508
DTEND;VALUE=DATE:20260509
UID:185469768711
DESCRIPTION:open 18:00 / start 19:00\n小川美潮(vo) 太田恵資(vl) 
 今堀恒雄(g)\n4000円 / 4500円\n\n【関連/参考ページ】\nhttp:/
 /fjs.fukamachi-jun.com/ （中目黒FJ's）\nhttps://sensation-jp.com/
LOCATION:中目黒FJ's【関東】
END:VEVENT
END:VCALENDAR
