BEGIN:VCALENDAR
VERSION:2.0
PRODID:-//chikkutakku.com//RDFCal 1.0//EN
X-WR-CALDESC:GoogleカレンダーやiCalendar形式情報を共有シェ
 アしましょう。近所のイベントから全国のイベントま
 で今日のイベント検索やスケジュールを決めるならち
 っくたっく
X-WR-CALNAME:ちっくたっく
X-WR-TIMEZONE:UTC
BEGIN:VEVENT
SUMMARY:【厚木市文化会館】愛える！Dream Festa
DTSTART;VALUE=DATE:20260424
DTEND;VALUE=DATE:20260425
UID:218401194477
DESCRIPTION:「愛える！Dream Festa」\n繋がりを作って縁結び\
 n\nぬくもりが連鎖して広まる愛〜\n日時：2026年4月25日
 （土）\n会場：厚木市文化会館　小ホール（神奈川県厚
 木市恩名1-9-20）\n入場料：500円\n※高校生以下無料\n出
 演：SHUN、AieL、紅音、AMW、川崎純情小町☆、ポジティブ
 モンスター、桃知みなみ、ネコ☆モッチ 他\n※写真撮
 影OK、動画撮影NG\n\n＜スケジュール＞\n15:45〜16:05 川崎
 純情小町☆ライブ\n16:45〜17:45 物販
LOCATION:厚木市文化会館
END:VEVENT
BEGIN:VEVENT
SUMMARY:第10回福祉応援！王禅寺フリーマーケット
DTSTART;VALUE=DATE:20260425
DTEND;VALUE=DATE:20260426
UID:250382487307
DESCRIPTION:「第10回福祉応援！王禅寺フリーマーケット」
 \n時間：10:00〜16:00\n場所：新百合ヶ丘マプレ専門店街\n
 （ 神奈川県川崎市麻生区上麻生１丁目７−１３）\n※
 観覧無料\n※写真撮影OK、動画撮影NG\n\n＜予定スケジュ
 ール＞\n11:00〜11:30 ライブ1回目（30分）\n11:30〜12:15 物販
 （45分）\n13:30〜14:00 ライブ2回目（30分）\n14:00〜14:45 物
 販（45分）\n※状況に応じて時間が前後する可能性がご
 ざいます。
LOCATION:新百合ヶ丘マプレ専門店街
END:VEVENT
BEGIN:VEVENT
SUMMARY:川崎純情小町☆ホームタウンライブ＠てくのホー
 ル
DTSTART;VALUE=DATE:20260428
DTEND;VALUE=DATE:20260429
UID:147952695212
DESCRIPTION:イベント：ホームタウンライブ＠てくのホー
 ル\n場所：てくのかわさき ホール（溝の口駅から徒歩5
 分）\n入場料：1000円、女性お子様は無料\n来場特典：GW
 特別企画予定\n\n【タイムスケジュール】\n19:00 オープ
 ン\n19:10 ライブ　☆1曲撮影可能曲あり！ハッシュタグ#
 川崎純情小町を付けてください！\n19:40 ライブ終了\n19:5
 0 物販\n20:30 物販終了\n20:50 完全退館\n\n※撮影可能曲1曲
 、撮影パスの販売はありません。\n※チェキフィルム確
 保のご協力をいただける方は、当日お持ちください。
LOCATION:
END:VEVENT
BEGIN:VEVENT
SUMMARY:【ラジオ】かわさきFM「かわさきハッピーサーズ
 デー☆」
DTSTART;VALUE=DATE-TIME:20260430T150000Z
DTEND;VALUE=DATE-TIME:20260501T150000Z
UID:112404368015
DESCRIPTION:川崎純情小町☆がパーソナリティを務めるラ
 ジオ番組「かわさきハッピーサーズデー☆」毎週木曜
 日17:00〜17:30かわさきFM（79.1Hz）にて生放送♪📻（※第
 二週目はAMWさんが担当）番組ではお便りを大募集して
 います！！下記応募フォームよりふるってご応募くだ
 さい🎶👇http://kjk-official.com/kawahapi/ラジオ番組「かわさ
 きハッピーサーズデー☆」に関するポストはハッシュ
 タグ #かわハピ でどんどんつぶやいてくださいね😊こ
 の番組を通じてリスナーの皆さんがハッピー✨になる
 ような時間をお届けしていきたいと思いますのでどう
 ぞよろしくお願いします🙇‍♂️＜番組概要＞今年で
 活動14年目に突入した川崎のご当地アイドル「川崎純情
 小町☆」によるバラエティトーク番組。普段ライブで
 は見られないメンバーの個性溢れるトークが炸裂♪メ
 ンバーのプライベートな話題から地域の旬なニュース
 、お店情報など様々な川崎の魅力を発信し、リスナー
 の皆様がハッピーになるようなラジオ番組を目指しま
 す。＜放送形式＞生放送及びインターネット配信。放
 送エリア内の方は周波数79.1MHzでお聴きください。『List
 en Radio』でスマホやパソコンからもお聴きできます。詳
 細はこちら↓https://www.kawasakifm.co.jp/listening/またラジオ
 の様子は川崎純情小町☆の公式Youtubeチャンネルにて同
 時生配信！！Youtube「Komachiちゃんねる」https://www.youtube.c
 om/@KomachiChannel＜提供＞株式会社ホワイトウルフ、川満
 アート・テイメント株式会社
LOCATION:かわさきFM\, 日本、〒211-8566 神奈川県川崎市中原
 区小杉町１丁目４０３
END:VEVENT
BEGIN:VEVENT
SUMMARY:川崎純情小町☆ホームタウンライブ＠てくのホー
 ル
DTSTART;VALUE=DATE:20260501
DTEND;VALUE=DATE:20260502
UID:208336627052
DESCRIPTION:川崎純情小町☆ホームタウンライブ\n\n場所：
 てくのかわさき ホール（溝の口駅から徒歩5分）\n入場
 料：1000円、女性お子様は無料\n来場特典：GW特別企画予
 定\n\n【タイムスケジュール】\n10:00 オープン\n10:10 ライ
 ブ開始　☆1曲撮影可能曲あり！ハッシュタグ#川崎純情
 小町を付けてください！\n10:40 ライブ終了\n10:45 物販（
 ※40分間、後ろに利用される団体がおられますため、円
 滑な実施にご協力をお願いします。）\n11:25 物販終了\n1
 2:00 完全退館\n\n※撮影可能曲が1曲、撮影パスの販売は
 ありません。\n※チェキフィルム確保のご協力をいただ
 ける方は、当日お持ちください。
LOCATION:
END:VEVENT
BEGIN:VEVENT
SUMMARY:川崎純情小町☆×ドン・キホーテ溝ノ口駅前店GW
 スペシャルコラボイベント
DTSTART;VALUE=DATE:20260502
DTEND;VALUE=DATE:20260503
UID:463167433407
DESCRIPTION:川崎純情小町☆×ドン・キホーテ溝ノ口駅前店
 GWスペシャルコラボイベント\n\n＜スペシャルライブ＞\n
 時間：1回目12:00〜、2回目15:00〜\n会場：1階サンドラッ
 ク側入口特設会場\n※観覧無料\n※写真撮影OK、動画撮
 影NG\n\n（注意事項）\n写真撮影OKと記載しておりますが
 、ローアングル（腰より低い位置）からの撮影は一切
 禁止とさせて頂きます。最前列に座っての撮影はご遠
 慮願います。当日会場でお見かけした場合はスタッフ
 が注意させて頂きますので、予めご了承ください。ま
 た、三脚を利用した撮影も禁止となります。\n\n■スペ
 シャル企画\n内容:サイコロゲーム\n1回1000円、50回限定\n
 サイコロを2つ投げて出た目により特典が受けられます\
 nゾロ目→私物サイン&2ショット写メ\n偶数→15秒動画\n
 奇数→2ショット写メ\nメンバーをお1人選んでいただき
 ます\n\n★5回分ご購入で動画が視聴できるQR付きカード
 プレゼント！\n\n★小学6年生までのお子様限定企画\n記
 念撮影にご参加で限定カード付きお菓子プレゼント！(
 各部お一人様1つまで)\n\n＜記念撮影会＞\n時間：1回目13
 :00〜、2回目16:00～\n場所：4階上りエスカレーター側特
 設ステージ\n参加条件：ドン・キホーテ内で対象商品を
 含む2000円以上お買い上げ頂いたお客様\n対象商品:ドン
 ・キホーテ溝ノ口駅前店店内にて販売している純情小
 町☆関連グッズ\n※サイコロゲーム参加券も純情小町☆
 関連グッズとして取り扱います\n※当日のレシートのみ
 有効となります。商品とレシート確認の上、記念撮影
 に参加して頂きます。\n※撮影ループは禁止で各回１人
 １回とさせて頂きます。2000円毎に1枚の撮影ができます
 が最大5枚までとなります。（例：4000円の方は1回で2枚
 撮影。15000円の方は5枚撮影。）\n\n＜スケジュール＞\n
 小町グッズ設置: ①11:15、②14:15を予定\n\n1回目\n12:00〜12
 :30 スペシャルライブ\n12:45〜13:00 サイコロゲーム\n13:00
 〜13:15 記念撮影会\n13:15〜13:30 景品交換会（※当たった
 方のみ）\n13:30〜14:15 チェキ撮影会\n\n2回目\n15:00〜15:30 
 スペシャルライブ\n15:45〜16:00 サイコロゲーム\n16:00〜16:
 15 記念撮影会\n16:15〜16:30 景品交換会（※当たった方の
 み）\n16:30〜17:15 チェキ撮影会
LOCATION:
END:VEVENT
BEGIN:VEVENT
SUMMARY:川崎純情小町☆ホームタウンライブ@てくのホー
 ル
DTSTART;VALUE=DATE:20260504
DTEND;VALUE=DATE:20260505
UID:224610920798
DESCRIPTION:川崎純情小町☆ホームタウンライブ\nこどもの
 日＆15周年ライブ告知、特別企画を予定！\n場所：てく
 のかわさき ホール（溝の口駅から徒歩5分）※中原市民
 館から変更になりました。\n入場料：1\,000円（女性、お
 子様は無料）\n来場特典：GW特別企画を予定\n\n【タイム
 スケジュール】\n9:50 オープン\n10:00 本編スタート\n11:00 
 物販スタート（※50分間、後ろに利用される団体がおら
 れますため、円滑な実施にご協力をお願いします。）\n
 11:50 物販終了\n12:00 完全退館\n\n【物販情報】\nGW企画と
 は別の缶バッジを販売予定\n\n※チェキフィルム確保の
 ご協力をいただける方は、当日お持ちください。
LOCATION:
END:VEVENT
BEGIN:VEVENT
SUMMARY:【ラジオ】かわさきFM「かわさきハッピーサーズ
 デー☆」
DTSTART;VALUE=DATE:20260506
DTEND;VALUE=DATE:20260507
UID:299897732584
DESCRIPTION:【15周年スペシャルゲスト第1弾!!】\nニュース
 にもなったあのヒロインが登場!?\n現役メンバーがあれ
 これ質問しちゃいます!!\n詳細は後日更新予定。\n＿＿
 ＿＿＿＿＿＿＿＿\n川崎純情小町☆がパーソナリティを
 務めるラジオ番組「かわさきハッピーサーズデー☆」
 毎週木曜日17:00〜17:30かわさきFM（79.1Hz）にて生放送♪
 📻（※第二週目はAMWさんが担当）\n\n番組ではお便りを
 大募集しています！！\n下記応募フォームよりふるって
 ご応募ください🎶👇\nhttp://kjk-official.com/kawahapi/\n\nラジ
 オ番組「かわさきハッピーサーズデー☆」に関するポ
 ストはハッシュタグ #かわハピ でどんどんつぶやいて
 くださいね😊\n\nこの番組を通じてリスナーの皆さんが
 ハッピー✨になるような時間をお届けしていきたいと
 思いますのでどうぞよろしくお願いします🙇‍♂️\n\n
 \n＜番組概要＞\n今年で活動14年目に突入した川崎のご
 当地アイドル「川崎純情小町☆」によるバラエティト
 ーク番組。普段ライブでは見られないメンバーの個性
 溢れるトークが炸裂♪\nメンバーのプライベートな話題
 から地域の旬なニュース、お店情報など様々な川崎の
 魅力を発信し、リスナーの皆様がハッピーになるよう
 なラジオ番組を目指します。\n\n\n＜放送形式＞\n生放送
 及びインターネット配信。\n\n放送エリア内の方は周波
 数79.1MHzでお聴きください。\n『Listen Radio』でスマホや
 パソコンからもお聴きできます。\n\n詳細はこちら↓\nht
 tps://www.kawasakifm.co.jp/listening/\n\nまたラジオの様子は川崎
 純情小町☆の公式Youtubeチャンネルにて同時生配信！！\
 n\nYoutube「Komachiちゃんねる」\nhttps://www.youtube.com/@KomachiCh
 annel\n\n\n＜提供＞\n株式会社ホワイトウルフ、川満アー
 ト・テイメント株式会社
LOCATION:かわさきFM\, 日本、〒211-8566 神奈川県川崎市中原
 区小杉町１丁目４０３
END:VEVENT
BEGIN:VEVENT
SUMMARY:【ラジオ】かわさきFM「かわさきハッピーサーズ
 デー☆」
DTSTART;VALUE=DATE-TIME:20260514T150000Z
DTEND;VALUE=DATE-TIME:20260515T150000Z
UID:139657655459
DESCRIPTION:川崎純情小町☆がパーソナリティを務めるラ
 ジオ番組「かわさきハッピーサーズデー☆」毎週木曜
 日17:00〜17:30かわさきFM（79.1Hz）にて生放送♪📻（※第
 二週目はAMWさんが担当）番組ではお便りを大募集して
 います！！下記応募フォームよりふるってご応募くだ
 さい🎶👇http://kjk-official.com/kawahapi/ラジオ番組「かわさ
 きハッピーサーズデー☆」に関するポストはハッシュ
 タグ #かわハピ でどんどんつぶやいてくださいね😊こ
 の番組を通じてリスナーの皆さんがハッピー✨になる
 ような時間をお届けしていきたいと思いますのでどう
 ぞよろしくお願いします🙇‍♂️＜番組概要＞今年で
 活動14年目に突入した川崎のご当地アイドル「川崎純情
 小町☆」によるバラエティトーク番組。普段ライブで
 は見られないメンバーの個性溢れるトークが炸裂♪メ
 ンバーのプライベートな話題から地域の旬なニュース
 、お店情報など様々な川崎の魅力を発信し、リスナー
 の皆様がハッピーになるようなラジオ番組を目指しま
 す。＜放送形式＞生放送及びインターネット配信。放
 送エリア内の方は周波数79.1MHzでお聴きください。『List
 en Radio』でスマホやパソコンからもお聴きできます。詳
 細はこちら↓https://www.kawasakifm.co.jp/listening/またラジオ
 の様子は川崎純情小町☆の公式Youtubeチャンネルにて同
 時生配信！！Youtube「Komachiちゃんねる」https://www.youtube.c
 om/@KomachiChannel＜提供＞株式会社ホワイトウルフ、川満
 アート・テイメント株式会社
LOCATION:かわさきFM\, 日本、〒211-8566 神奈川県川崎市中原
 区小杉町１丁目４０３
END:VEVENT
BEGIN:VEVENT
SUMMARY:川崎純情小町☆ホームタウンライブ＠ゆめホール
DTSTART;VALUE=DATE:20260515
DTEND;VALUE=DATE:20260516
UID:159717358858
DESCRIPTION:午前帯\n詳細は後日更新
LOCATION:
END:VEVENT
END:VCALENDAR
