BEGIN:VCALENDAR
VERSION:2.0
PRODID:-//chikkutakku.com//RDFCal 1.0//EN
X-WR-CALDESC:GoogleカレンダーやiCalendar形式情報を共有シェ
 アしましょう。近所のイベントから全国のイベントま
 で今日のイベント検索やスケジュールを決めるならち
 っくたっく
X-WR-CALNAME:ちっくたっく
X-WR-TIMEZONE:UTC
BEGIN:VEVENT
SUMMARY:カメラ、はじめてもいいですか？ 8
DTSTART;VALUE=DATE:20260426
DTEND;VALUE=DATE:20260427
UID:196100898569
DESCRIPTION:2026-04-27カメラ、はじめてもいいですか？ 8し
 ろ少年画報社
LOCATION:
END:VEVENT
BEGIN:VEVENT
SUMMARY:錬金術師のハンドメイド2 〜フリマやってるだけ
 なのに伝説的な扱いされてました〜
DTSTART;VALUE=DATE:20260429
DTEND;VALUE=DATE:20260430
UID:135039152229
DESCRIPTION:2026-04-30錬金術師のハンドメイド2 〜フリマや
 ってるだけなのに伝説的な扱いされてました〜和ふー/T
 obiKADOKAWA
LOCATION:
END:VEVENT
BEGIN:VEVENT
SUMMARY:クライマックスネクロマンス　４巻
DTSTART;VALUE=DATE:20260430
DTEND;VALUE=DATE:20260501
UID:257142043297
DESCRIPTION:2026-05-01クライマックスネクロマンス　４巻水
 上悟志/瀬戸一里少年画報社
LOCATION:
END:VEVENT
BEGIN:VEVENT
SUMMARY:とあるリーマン、もふもふタヌキと不思議な田舎
 暮らしをはじめる（1）
DTSTART;VALUE=DATE:20260506
DTEND;VALUE=DATE:20260507
UID:248770554676
DESCRIPTION:2026-05-07とあるリーマン、もふもふタヌキと不
 思議な田舎暮らしをはじめる（1）桑佳あさ/邑上主水コ
 アミックス
LOCATION:
END:VEVENT
BEGIN:VEVENT
SUMMARY:とあるリーマン、もふもふタヌキと不思議な田舎
 暮らしをはじめる 1巻【特典イラスト付き】
DTSTART;VALUE=DATE:20260506
DTEND;VALUE=DATE:20260507
UID:136484227365
DESCRIPTION:2026-05-07とあるリーマン、もふもふタヌキと不
 思議な田舎暮らしをはじめる 1巻【特典イラスト付き】
 桑佳あさ/邑上主水コアミックス
LOCATION:
END:VEVENT
BEGIN:VEVENT
SUMMARY:クライマックスネクロマンス 4
DTSTART;VALUE=DATE:20260507
DTEND;VALUE=DATE:20260508
UID:240831281749
DESCRIPTION:2026-05-08クライマックスネクロマンス 4水上 悟
 志/瀬戸 一里少年画報社
LOCATION:
END:VEVENT
BEGIN:VEVENT
SUMMARY:ファイブスター物語 19
DTSTART;VALUE=DATE:20260508
DTEND;VALUE=DATE:20260509
UID:135848368386
DESCRIPTION:2026-05-09ファイブスター物語 19永野 護KADOKAWA
LOCATION:
END:VEVENT
BEGIN:VEVENT
SUMMARY:創約 とある魔術の禁書目録（15）
DTSTART;VALUE=DATE:20260508
DTEND;VALUE=DATE:20260509
UID:105808806556
DESCRIPTION:2026-05-09創約 とある魔術の禁書目録（15）鎌池 
 和馬/はいむら きよたかKADOKAWA
LOCATION:
END:VEVENT
BEGIN:VEVENT
SUMMARY:ソードアート・オンライン オルタナティブ ギャ
 ンブラーズ・オナー（1）
DTSTART;VALUE=DATE:20260508
DTEND;VALUE=DATE:20260509
UID:104308760008
DESCRIPTION:2026-05-09ソードアート・オンライン オルタナテ
 ィブ ギャンブラーズ・オナー（1）周藤 蓮/Enji/川原 礫K
 ADOKAWA
LOCATION:
END:VEVENT
BEGIN:VEVENT
SUMMARY:ヒトミ先生の保健室（21）
DTSTART;VALUE=DATE:20260512
DTEND;VALUE=DATE:20260513
UID:109267630945
DESCRIPTION:2026-05-13ヒトミ先生の保健室（21）鮭夫徳間書
 店
LOCATION:
END:VEVENT
BEGIN:VEVENT
SUMMARY:血契のアナスタシア 2
DTSTART;VALUE=DATE:20260513
DTEND;VALUE=DATE:20260514
UID:504190587070
DESCRIPTION:2026-05-14血契のアナスタシア 2冲方 丁/田中 ひ
 かるKADOKAWA
LOCATION:
END:VEVENT
BEGIN:VEVENT
SUMMARY:異世界転生ダンジョンマスター 温泉ダンジョン
 を作る3
DTSTART;VALUE=DATE:20260519
DTEND;VALUE=DATE:20260520
UID:239738369761
DESCRIPTION:2026-05-20異世界転生ダンジョンマスター 温泉ダ
 ンジョンを作る3天原/じゅんKADOKAWA
LOCATION:
END:VEVENT
BEGIN:VEVENT
SUMMARY:そうだ、君を憎めばいいんだ
DTSTART;VALUE=DATE:20260519
DTEND;VALUE=DATE:20260520
UID:336026777522
DESCRIPTION:2026-05-20そうだ、君を憎めばいいんだ桜庭 一樹
 /斜線堂 有紀河出書房新社
LOCATION:
END:VEVENT
BEGIN:VEVENT
SUMMARY:マルドゥック・アノニマス 11
DTSTART;VALUE=DATE:20260520
DTEND;VALUE=DATE:20260521
UID:119643565861
DESCRIPTION:2026-05-21マルドゥック・アノニマス 11冲方 丁早
 川書房
LOCATION:
END:VEVENT
END:VCALENDAR
