BEGIN:VCALENDAR
VERSION:2.0
PRODID:-//chikkutakku.com//RDFCal 1.0//EN
X-WR-CALDESC:GoogleカレンダーやiCalendar形式情報を共有シェ
 アしましょう。近所のイベントから全国のイベントま
 で今日のイベント検索やスケジュールを決めるならち
 っくたっく
X-WR-CALNAME:ちっくたっく
X-WR-TIMEZONE:UTC
BEGIN:VEVENT
SUMMARY:115年校長兒童權利公約研習
DTSTART;VALUE=DATE:20260423
DTEND;VALUE=DATE:20260424
UID:180978264956
DESCRIPTION:1.會議名：115年校長兒童權利公約研習\n2.會議
 時間：4月24日 (星期五)上午8:00 - 下午5:00\n3.聯絡人及聯
 絡方式：白叔幼 #3635\n4.委辦學校及聯絡方式：地磨兒國
 小 08-7991462\n5.預估人數：230人
LOCATION:
END:VEVENT
BEGIN:VEVENT
SUMMARY:鶴小-母親節活動(場地不外借)
DTSTART;VALUE=DATE:20260507
DTEND;VALUE=DATE:20260508
UID:115331521229
DESCRIPTION:鶴小-母親節活動(場地不外借)
LOCATION:
END:VEVENT
BEGIN:VEVENT
SUMMARY:教師法研習
DTSTART;VALUE=DATE-TIME:20260515T050000Z
DTEND;VALUE=DATE-TIME:20260515T083000Z
UID:398679014418
DESCRIPTION:1.會議名：教師法研習\n2.會議時間：5月15日 下
 午\n3.聯絡方式：屏東縣教育產業工會7342732、0929029088 陳
 小姐\n4.預估人數：120人
LOCATION:
END:VEVENT
END:VCALENDAR
