BEGIN:VCALENDAR
VERSION:2.0
PRODID:-//chikkutakku.com//RDFCal 1.0//EN
X-WR-CALDESC:GoogleカレンダーやiCalendar形式情報を共有シェ
 アしましょう。近所のイベントから全国のイベントま
 で今日のイベント検索やスケジュールを決めるならち
 っくたっく
X-WR-CALNAME:ちっくたっく
X-WR-TIMEZONE:UTC
BEGIN:VEVENT
SUMMARY:百姓貴族（9）アニメ3rd Season DVD付き 特装版
DTSTART;VALUE=DATE:20260423
DTEND;VALUE=DATE:20260424
UID:124239700951
DESCRIPTION:2026-04-24百姓貴族（9）アニメ3rd Season DVD付き 特
 装版荒川 弘新書館
LOCATION:
END:VEVENT
BEGIN:VEVENT
SUMMARY:百姓貴族（9）
DTSTART;VALUE=DATE:20260423
DTEND;VALUE=DATE:20260424
UID:277370396497
DESCRIPTION:2026-04-24百姓貴族（9）荒川 弘新書館
LOCATION:
END:VEVENT
BEGIN:VEVENT
SUMMARY:了巷説百物語
DTSTART;VALUE=DATE:20260423
DTEND;VALUE=DATE:20260424
UID:201211875810
DESCRIPTION:2026-04-24了巷説百物語京極 夏彦KADOKAWA
LOCATION:
END:VEVENT
BEGIN:VEVENT
SUMMARY:絵本百物語
DTSTART;VALUE=DATE:20260423
DTEND;VALUE=DATE:20260424
UID:194306805977
DESCRIPTION:2026-04-24絵本百物語京極 夏彦/竹原 春泉/桃山人
 KADOKAWA
LOCATION:
END:VEVENT
BEGIN:VEVENT
SUMMARY:猫君 りんねの輪
DTSTART;VALUE=DATE:20260423
DTEND;VALUE=DATE:20260424
UID:186001000124
DESCRIPTION:2026-04-24猫君 りんねの輪畠中 恵集英社
LOCATION:
END:VEVENT
BEGIN:VEVENT
SUMMARY:怪と幽 vol.022 2026年5月
DTSTART;VALUE=DATE:20260426
DTEND;VALUE=DATE:20260427
UID:198422977171
DESCRIPTION:2026-04-27怪と幽 vol.022 2026年5月京極 夏彦/綿矢 
 りさ/小川 洋子/澤村伊智/乙 一/山白 朝子KADOKAWA
LOCATION:
END:VEVENT
BEGIN:VEVENT
SUMMARY:こころげそう
DTSTART;VALUE=DATE:20260510
DTEND;VALUE=DATE:20260511
UID:263674389961
DESCRIPTION:2026-05-11こころげそう畠中 恵PHP研究所
LOCATION:
END:VEVENT
END:VCALENDAR
