BEGIN:VCALENDAR
VERSION:2.0
PRODID:-//chikkutakku.com//RDFCal 1.0//EN
X-WR-CALDESC:GoogleカレンダーやiCalendar形式情報を共有シェ
 アしましょう。近所のイベントから全国のイベントま
 で今日のイベント検索やスケジュールを決めるならち
 っくたっく
X-WR-CALNAME:ちっくたっく
X-WR-TIMEZONE:UTC
BEGIN:VEVENT
SUMMARY:市ノ瀬瑠莉、Soniel＠MEILI CHARM 1st ANNIVERSARY
DTSTART;VALUE=DATE-TIME:20260503T043000Z
DTEND;VALUE=DATE-TIME:20260503T073000Z
UID:274955527108
DESCRIPTION:MEILI CHARM 1st ANNIVERSARY5/3 (日)OPEN 13:00 / START 13:30
 予約 3000円 / 当日 3500 (別途ドリンク代500円)http://tiget.net
 /events/482388出演 MEILI CHARM / MEWCATUNE / SYAAMiNE / YOPiTTE / Jasmin
 e Lamp / AYANE / 市ノ瀬瑠莉 / Soniel
LOCATION:CLUB RIVERST\, 日本、〒950-0901 新潟県新潟市中央区
 弁天３丁目３−５ 新潟マンション地下１階
END:VEVENT
BEGIN:VEVENT
SUMMARY:市ノ瀬瑠莉、Soniel＠NIIGATA IDOL STAGE Vol.01
DTSTART;VALUE=DATE-TIME:20260505T043000Z
DTEND;VALUE=DATE-TIME:20260505T073000Z
UID:760715615724
DESCRIPTION:『NIIGATA IDOL STAGE Vol.01』2026.05.05CLUB RIVERSTOPEN  13
 :00 / START  13:30予約¥3\,000 / 当日券  ¥3\,500  Drink¥500出
 演市ノ瀬瑠莉  / Arcana / AYANE /Jasmine Lamp / REVE / Soniel予約h
 ttp://tiget.net/events/482566
LOCATION:CLUB RIVERST\, 日本、〒950-0901 新潟県新潟市中央区
 弁天３丁目３−５ 新潟マンション地下１階
END:VEVENT
BEGIN:VEVENT
SUMMARY:市ノ瀬瑠莉＠goldenpigs prsents 「必勝の一手 其ノ九
 」
DTSTART;VALUE=DATE-TIME:20260506T080000Z
DTEND;VALUE=DATE-TIME:20260506T110000Z
UID:471149046140
DESCRIPTION:5/6[水]\n\ngoldenpigs prsents\n「必勝の一手 其ノ九
 」\n\nGOLDENPIGS RED STAGE\n\n桂 歌蔵(落語家) / THE・ステレオ
 ギャング(高知) / 市ノ瀬瑠莉 / The fools / CARRY\n\nOPEN 16:30 /
  START 17:00　ADV.￥2\,400- / DOOR￥2\,800-\nPG / GOLDEN PIGS 025-201-9
 981
LOCATION:LiveHall GOLDEN PIGS\, 日本、〒951-8065 新潟県新潟市中
 央区東堀通６番町１０５１−１
END:VEVENT
END:VCALENDAR
