BEGIN:VCALENDAR
VERSION:2.0
PRODID:-//chikkutakku.com//RDFCal 1.0//EN
X-WR-CALDESC:GoogleカレンダーやiCalendar形式情報を共有シェ
 アしましょう。近所のイベントから全国のイベントま
 で今日のイベント検索やスケジュールを決めるならち
 っくたっく
X-WR-CALNAME:ちっくたっく
X-WR-TIMEZONE:UTC
BEGIN:VEVENT
SUMMARY:ピットイン・板橋文夫2026・喜寿の春・3DAYS 板橋
 文夫オーケストラ＋細井徳太郎・立花秀輝・吉田野乃
 子
DTSTART;VALUE=DATE:20260422
DTEND;VALUE=DATE:20260423
UID:154880678138
DESCRIPTION:open 19:00 / start 19:30\n板橋文夫(P)\n纐纈之雅代(As)
 吉田隆一(Bs)\n類家心平(Tp)山田丈造(Tp)\n後藤篤(Tb)高岡大
 祐(Tuba)\n瀬尾高志(B)レオナ(Tap.全身打楽器)\n外山明(Ds)大
 儀見海(Ds)\n特別ゲスト:\n細井徳太郎(G)立花秀輝(Ts)吉田
 野乃子(As)\n4\,400円（税込） 4\,000円＋税（1ドリンク付）
 \n\n【関連/参考ページ】\nhttp://www.pit-inn.com/ （新宿PIT INN
 ）
LOCATION:新宿PIT INN【関東】
END:VEVENT
BEGIN:VEVENT
SUMMARY:SANBAKA HORNS
DTSTART;VALUE=DATE:20260424
DTEND;VALUE=DATE:20260425
UID:763748554677
DESCRIPTION:open 18:30 / start 19:00\n吉田隆一(bs)\n後藤篤(tb)\n高
 岡大祐(tuba)\n予約3000+D. 当日+500\n中継配信2000(４weeks)\n早
 割1500(ライブ前日まで、ライブ当日以降2000)\nSANBAKA、エ
 アジン初出演です。\n\n【関連/参考ページ】\nhttp://www.ai
 regin.yokohama/ （関内エアジン）
LOCATION:関内エアジン【関東】
END:VEVENT
BEGIN:VEVENT
SUMMARY:板橋文夫(p)スペシャルユニット
DTSTART;VALUE=DATE:20260503
DTEND;VALUE=DATE:20260504
UID:263085527675
DESCRIPTION:open 18:00 / start 19:00\n板橋文夫(p)スペシャルユニ
 ット\n纐纈之雅代(as)吉田隆一(bs)類家心平(tp)高岡大祐(tu
 ba)太田惠資(vln)瀬尾高志(b)大儀見海(ds)\n前4500円/当5000円
 /2Days8000円\n\n【関連/参考ページ】\nhttps://dolphy-jazzspot.com
  （桜木町ドルフィー）
LOCATION:桜木町ドルフィー【関東】
END:VEVENT
BEGIN:VEVENT
SUMMARY:ホープ＆マッカラーズ
DTSTART;VALUE=DATE:20260505
DTEND;VALUE=DATE:20260506
UID:268399841921
DESCRIPTION:open 19:30 / start 20:00\nホープ＆マッカラーズ\n桜
 井芳樹guitar 関島岳郎 tuba\,recorder 高岡大祐tuba 北山ゆう
 子\n\n【関連/参考ページ】\nhttp://souldama.com/ （阿佐ヶ谷 
 SOUL玉TOKYO）
LOCATION:阿佐ヶ谷 SOUL玉TOKYO【関東】
END:VEVENT
BEGIN:VEVENT
SUMMARY:やくとりお+大倉優花
DTSTART;VALUE=DATE:20260510
DTEND;VALUE=DATE:20260511
UID:318996156780
DESCRIPTION:open 19:30 / start 20:00\n夜久一 vo\,gt\n高岡大祐 tuba\
 n石原雄治 drums\n大倉優花 drums\n料金:\n2000円\nドリンク持
 ち込み可\n自販機もあります\n石原雄治企画！スタジオ
 ライブです。
LOCATION:高円寺 SOUNDSTUDIODOM D.Room【関東】
END:VEVENT
BEGIN:VEVENT
SUMMARY:snackerika
DTSTART;VALUE=DATE:20260514
DTEND;VALUE=DATE:20260515
UID:151570190518
DESCRIPTION:open 19:00 / start 19:30\n佐藤えりか(b) 高岡大祐(tuba
 ) 佐藤綾音(woodelectronic)\n3\,000(+order)\n\n【関連/参考ペー
 ジ】\nhttps://www.cooljojo.tokyo （本八幡cooljojo）
LOCATION:本八幡cooljojo【関東】
END:VEVENT
END:VCALENDAR
