BEGIN:VCALENDAR
VERSION:2.0
PRODID:-//chikkutakku.com//RDFCal 1.0//EN
X-WR-CALDESC:GoogleカレンダーやiCalendar形式情報を共有シェ
 アしましょう。近所のイベントから全国のイベントま
 で今日のイベント検索やスケジュールを決めるならち
 っくたっく
X-WR-CALNAME:ちっくたっく
X-WR-TIMEZONE:UTC
BEGIN:VEVENT
SUMMARY:新・小料理のどか屋 人情帖1 再起の灯
DTSTART;VALUE=DATE:20260426
DTEND;VALUE=DATE:20260427
UID:351551377325
DESCRIPTION:2026-04-27新・小料理のどか屋 人情帖1 再起の灯
 倉阪鬼一郎二見書房
LOCATION:
END:VEVENT
BEGIN:VEVENT
SUMMARY:キルレート・カオス（1）
DTSTART;VALUE=DATE:20260427
DTEND;VALUE=DATE:20260428
UID:152395244471
DESCRIPTION:2026-04-28キルレート・カオス（1）背筋/TERU/ふじ
 こう小学館
LOCATION:
END:VEVENT
BEGIN:VEVENT
SUMMARY:倫敦スコーンの謎
DTSTART;VALUE=DATE:20260429
DTEND;VALUE=DATE:20260430
UID:162913480664
DESCRIPTION:2026-04-30倫敦スコーンの謎米澤穂信東京創元社
LOCATION:
END:VEVENT
BEGIN:VEVENT
SUMMARY:深海潜航
DTSTART;VALUE=DATE:20260429
DTEND;VALUE=DATE:20260430
UID:410174317328
DESCRIPTION:2026-04-30深海潜航H・G・ウェルズ/中村 融東京創
 元社
LOCATION:
END:VEVENT
BEGIN:VEVENT
SUMMARY:祖国なき者たちへ
DTSTART;VALUE=DATE:20260429
DTEND;VALUE=DATE:20260430
UID:102295117155
DESCRIPTION:2026-04-30祖国なき者たちへエリザベス・ウェイ
 ン/吉澤 康子東京創元社
LOCATION:
END:VEVENT
BEGIN:VEVENT
SUMMARY:凶悪の浜【新訳版】
DTSTART;VALUE=DATE:20260429
DTEND;VALUE=DATE:20260430
UID:305248148765
DESCRIPTION:2026-04-30凶悪の浜【新訳版】ロス・マクドナル
 ド/田口 俊樹東京創元社
LOCATION:
END:VEVENT
BEGIN:VEVENT
SUMMARY:イザベラ・バード、日出ずる国で妖怪に出会う
DTSTART;VALUE=DATE:20260429
DTEND;VALUE=DATE:20260430
UID:848798754060
DESCRIPTION:2026-04-30イザベラ・バード、日出ずる国で妖怪
 に出会う白鷺 あおい東京創元社
LOCATION:
END:VEVENT
BEGIN:VEVENT
SUMMARY:森島章子は人を撮らない
DTSTART;VALUE=DATE:20260429
DTEND;VALUE=DATE:20260430
UID:295262146240
DESCRIPTION:2026-04-30森島章子は人を撮らない秋永 真琴東京
 創元社
LOCATION:
END:VEVENT
BEGIN:VEVENT
SUMMARY:元防衛事務官がネトゲ住人と起業して7つの会社
 を経営するようになった話
DTSTART;VALUE=DATE:20260430
DTEND;VALUE=DATE:20260501
UID:154833758518
DESCRIPTION:2026-05-01元防衛事務官がネトゲ住人と起業して7
 つの会社を経営するようになった話中舘修希クロスメ
 ディア・パブリッシング
LOCATION:
END:VEVENT
BEGIN:VEVENT
SUMMARY:悪夢航路
DTSTART;VALUE=DATE:20260430
DTEND;VALUE=DATE:20260501
UID:127287489421
DESCRIPTION:2026-05-01悪夢航路韓 松/山田 和子早川書房
LOCATION:
END:VEVENT
BEGIN:VEVENT
SUMMARY:死神騎士様との間に双子を授かりました
DTSTART;VALUE=DATE:20260430
DTEND;VALUE=DATE:20260501
UID:209589495706
DESCRIPTION:2026-05-01死神騎士様との間に双子を授かりまし
 た氷雨そらTOブックス
LOCATION:
END:VEVENT
BEGIN:VEVENT
SUMMARY:すべてを奪われた少女は隣国にて返り咲く2
DTSTART;VALUE=DATE:20260430
DTEND;VALUE=DATE:20260501
UID:165940708419
DESCRIPTION:2026-05-01すべてを奪われた少女は隣国にて返り
 咲く2狭山ひびきTOブックス
LOCATION:
END:VEVENT
BEGIN:VEVENT
SUMMARY:呪われ王女は魔法植物を研究したい〜公爵様が婚
 約者！？私、呪いで幼女になっているのですが〜@COMIC 
 第2巻
DTSTART;VALUE=DATE:20260430
DTEND;VALUE=DATE:20260501
UID:403814559748
DESCRIPTION:2026-05-01呪われ王女は魔法植物を研究したい〜
 公爵様が婚約者！？私、呪いで幼女になっているので
 すが〜@COMIC 第2巻えすえいちTOブックス
LOCATION:
END:VEVENT
BEGIN:VEVENT
SUMMARY:悪役令嬢のダイエット革命！〜前世の知識で健康
 美を手に入れてざまぁします！〜
DTSTART;VALUE=DATE:20260430
DTEND;VALUE=DATE:20260501
UID:256471660178
DESCRIPTION:2026-05-01悪役令嬢のダイエット革命！〜前世の
 知識で健康美を手に入れてざまぁします！〜冬月子TOブ
 ックス
LOCATION:
END:VEVENT
BEGIN:VEVENT
SUMMARY:昨日まで名前も呼んでくれなかった公爵様が、急
 に溺愛してくるのですが？＠COMIC 第3巻
DTSTART;VALUE=DATE:20260430
DTEND;VALUE=DATE:20260501
UID:205419160563
DESCRIPTION:2026-05-01昨日まで名前も呼んでくれなかった公
 爵様が、急に溺愛してくるのですが？＠COMIC 第3巻風見
 まつりTOブックス
LOCATION:
END:VEVENT
BEGIN:VEVENT
SUMMARY:ポンコツ王太子のモブ姉王女らしいけど、悪役令
 嬢が可哀想なので助けようと思います?王女ルートがな
 い！？なら作ればいいのよ！?＠COMIC 第5巻
DTSTART;VALUE=DATE:20260430
DTEND;VALUE=DATE:20260501
UID:146589196551
DESCRIPTION:2026-05-01ポンコツ王太子のモブ姉王女らしいけ
 ど、悪役令嬢が可哀想なので助けようと思います?王女
 ルートがない！？なら作ればいいのよ！?＠COMIC 第5巻海
 原ゆたTOブックス
LOCATION:
END:VEVENT
BEGIN:VEVENT
SUMMARY:【TOジュニア文庫】リトル・オニキスの初恋2
DTSTART;VALUE=DATE:20260430
DTEND;VALUE=DATE:20260501
UID:272801611390
DESCRIPTION:2026-05-01【TOジュニア文庫】リトル・オニキス
 の初恋2緑名紺TOブックス
LOCATION:
END:VEVENT
BEGIN:VEVENT
SUMMARY:悪役の王女に転生したけど、隠しキャラが隠れて
 ない。10
DTSTART;VALUE=DATE:20260430
DTEND;VALUE=DATE:20260501
UID:195594239698
DESCRIPTION:2026-05-01悪役の王女に転生したけど、隠しキャ
 ラが隠れてない。10早瀬黒絵TOブックス
LOCATION:
END:VEVENT
BEGIN:VEVENT
SUMMARY:没落伯爵令嬢は家族を養いたい 短編集
DTSTART;VALUE=DATE:20260430
DTEND;VALUE=DATE:20260501
UID:219437912384
DESCRIPTION:2026-05-01没落伯爵令嬢は家族を養いたい 短編集
 ミコタにうTOブックス
LOCATION:
END:VEVENT
BEGIN:VEVENT
SUMMARY:すべての石に宿る神
DTSTART;VALUE=DATE:20260430
DTEND;VALUE=DATE:20260501
UID:250435064492
DESCRIPTION:2026-05-01すべての石に宿る神カミーラ・シャム
 ジー/河内 恵子早川書房
LOCATION:
END:VEVENT
BEGIN:VEVENT
SUMMARY:預言者の歌
DTSTART;VALUE=DATE:20260430
DTEND;VALUE=DATE:20260501
UID:915142942946
DESCRIPTION:2026-05-01預言者の歌ポール・リンチ/栩木 伸明
 早川書房
LOCATION:
END:VEVENT
BEGIN:VEVENT
SUMMARY:文学乙女はカノジョじゃないのに（2）
DTSTART;VALUE=DATE:20260430
DTEND;VALUE=DATE:20260501
UID:212050525591
DESCRIPTION:2026-05-01文学乙女はカノジョじゃないのに（2）
 水卜 みう/おりょうKADOKAWA
LOCATION:
END:VEVENT
BEGIN:VEVENT
SUMMARY:無自覚たらしな幼馴染とは両想いじゃ終われない
 （1）
DTSTART;VALUE=DATE:20260430
DTEND;VALUE=DATE:20260501
UID:278428500687
DESCRIPTION:2026-05-01無自覚たらしな幼馴染とは両想いじゃ
 終われない（1）かずき ふみ/倉澤 もこKADOKAWA
LOCATION:
END:VEVENT
BEGIN:VEVENT
SUMMARY:時々ボソッとロシア語でデレる勇者のアーリャさ
 ん（1）
DTSTART;VALUE=DATE:20260430
DTEND;VALUE=DATE:20260501
UID:785682749942
DESCRIPTION:2026-05-01時々ボソッとロシア語でデレる勇者の
 アーリャさん（1）燦々SUN/ももこKADOKAWA
LOCATION:
END:VEVENT
BEGIN:VEVENT
SUMMARY:白昼夢の青写真2
DTSTART;VALUE=DATE:20260430
DTEND;VALUE=DATE:20260501
UID:211120899540
DESCRIPTION:2026-05-01白昼夢の青写真2緒乃 ワサビ/霜降/Laplac
 ianKADOKAWA
LOCATION:
END:VEVENT
BEGIN:VEVENT
SUMMARY:17歳と、18以上 〜後輩ギャルは私と××を知りたい
 らしい〜（1）
DTSTART;VALUE=DATE:20260430
DTEND;VALUE=DATE:20260501
UID:145308281049
DESCRIPTION:2026-05-0117歳と、18以上 〜後輩ギャルは私と××
 を知りたいらしい〜（1）広沢サカキ/工藤 えるKADOKAWA
LOCATION:
END:VEVENT
BEGIN:VEVENT
SUMMARY:私のこと好きになるまで告白の返事はしなくてい
 いから。
DTSTART;VALUE=DATE:20260430
DTEND;VALUE=DATE:20260501
UID:895380769640
DESCRIPTION:2026-05-01私のこと好きになるまで告白の返事は
 しなくていいから。三上 こた/にわ田講談社
LOCATION:
END:VEVENT
BEGIN:VEVENT
SUMMARY:スキル【無】の俺が世界最強1スキル無しと馬鹿
 にされた俺、実は無限に進化するSSS級スキル所持者で
 した
DTSTART;VALUE=DATE:20260430
DTEND;VALUE=DATE:20260501
UID:285379234849
DESCRIPTION:2026-05-01スキル【無】の俺が世界最強1スキル無
 しと馬鹿にされた俺、実は無限に進化するSSS級スキル
 所持者でした茨木野/トモゼロホビージャパン
LOCATION:
END:VEVENT
BEGIN:VEVENT
SUMMARY:六畳間の侵略者!? 49
DTSTART;VALUE=DATE:20260430
DTEND;VALUE=DATE:20260501
UID:187646624768
DESCRIPTION:2026-05-01六畳間の侵略者!? 49健速/ポコホビージ
 ャパン
LOCATION:
END:VEVENT
BEGIN:VEVENT
SUMMARY:銀と竜の退魔録 1 〜英雄退魔師は美少女たちを救
 って思う存分イチャイチャしたい〜
DTSTART;VALUE=DATE:20260430
DTEND;VALUE=DATE:20260501
UID:289642553996
DESCRIPTION:2026-05-01銀と竜の退魔録 1 〜英雄退魔師は美少
 女たちを救って思う存分イチャイチャしたい〜甲斐修/
 ひづきみやホビージャパン
LOCATION:
END:VEVENT
BEGIN:VEVENT
SUMMARY:ダンジョンに閉じ込められて25年。救出されたと
 きには立派な不審者になっていた 4
DTSTART;VALUE=DATE:20260430
DTEND;VALUE=DATE:20260501
UID:210242683318
DESCRIPTION:2026-05-01ダンジョンに閉じ込められて25年。救
 出されたときには立派な不審者になっていた 4乾茸なめ
 こ/芝ホビージャパン
LOCATION:
END:VEVENT
BEGIN:VEVENT
SUMMARY:でっかいギャルとちっちゃいギャルが失恋した俺
 の新居に入り浸っている 1
DTSTART;VALUE=DATE:20260430
DTEND;VALUE=DATE:20260501
UID:223755889888
DESCRIPTION:2026-05-01でっかいギャルとちっちゃいギャルが
 失恋した俺の新居に入り浸っている 1衣太/おりょうホ
 ビージャパン
LOCATION:
END:VEVENT
BEGIN:VEVENT
SUMMARY:やがて黒幕へと至る最適解 4
DTSTART;VALUE=DATE:20260430
DTEND;VALUE=DATE:20260501
UID:282235937080
DESCRIPTION:2026-05-01やがて黒幕へと至る最適解 4藤木わし
 ろ/ne-onホビージャパン
LOCATION:
END:VEVENT
BEGIN:VEVENT
SUMMARY:ひつじ探偵団〔新版〕
DTSTART;VALUE=DATE:20260430
DTEND;VALUE=DATE:20260501
UID:518227983716
DESCRIPTION:2026-05-01ひつじ探偵団〔新版〕レオニー・スヴ
 ァン/小津 薫早川書房
LOCATION:
END:VEVENT
BEGIN:VEVENT
SUMMARY:ホラーの扉
DTSTART;VALUE=DATE:20260506
DTEND;VALUE=DATE:20260507
UID:339349139855
DESCRIPTION:2026-05-07ホラーの扉株式会社闇/澤村 伊智/芦花 
 公園/平山 夢明/雨穴/五味 弘文河出書房新社
LOCATION:
END:VEVENT
BEGIN:VEVENT
SUMMARY:僕だけが知ってるんだぜ（4）
DTSTART;VALUE=DATE:20260506
DTEND;VALUE=DATE:20260507
UID:322007597561
DESCRIPTION:2026-05-07僕だけが知ってるんだぜ（4）タアモ講
 談社
LOCATION:
END:VEVENT
BEGIN:VEVENT
SUMMARY:黒蜥蜴
DTSTART;VALUE=DATE:20260508
DTEND;VALUE=DATE:20260509
UID:185366223764
DESCRIPTION:2026-05-09黒蜥蜴三島由紀夫東京創元社
LOCATION:
END:VEVENT
BEGIN:VEVENT
SUMMARY:007／薔薇と拳銃【新訳版】
DTSTART;VALUE=DATE:20260508
DTEND;VALUE=DATE:20260509
UID:257351595405
DESCRIPTION:2026-05-09007／薔薇と拳銃【新訳版】イアン・フ
 レミング/白石 朗東京創元社
LOCATION:
END:VEVENT
BEGIN:VEVENT
SUMMARY:フレドリック・ブラウンSF短編全集2 星ねずみ
DTSTART;VALUE=DATE:20260508
DTEND;VALUE=DATE:20260509
UID:107680734745
DESCRIPTION:2026-05-09フレドリック・ブラウンSF短編全集2 星
 ねずみフレドリック・ブラウン/安原 和見東京創元社
LOCATION:
END:VEVENT
BEGIN:VEVENT
SUMMARY:やり込んだ乙女ゲームの悪役モブですが、断罪は
 嫌なので真っ当に生きます14
DTSTART;VALUE=DATE:20260509
DTEND;VALUE=DATE:20260510
UID:314630335124
DESCRIPTION:2026-05-10やり込んだ乙女ゲームの悪役モブです
 が、断罪は嫌なので真っ当に生きます14MIZUNATOブックス
LOCATION:
END:VEVENT
BEGIN:VEVENT
SUMMARY:小さなコックさんの異世界レシピ〜料理魔法なん
 てあったんだぁ、と思ったら万能スキルでした〜
DTSTART;VALUE=DATE:20260509
DTEND;VALUE=DATE:20260510
UID:973586071239
DESCRIPTION:2026-05-10小さなコックさんの異世界レシピ〜料
 理魔法なんてあったんだぁ、と思ったら万能スキルで
 した〜花明かりTOブックス
LOCATION:
END:VEVENT
BEGIN:VEVENT
SUMMARY:追放幼女の領地開拓記3〜シナリオ開始前に追放
 された悪役令嬢が民のためにやりたい放題した結果が
 こちらです〜
DTSTART;VALUE=DATE:20260509
DTEND;VALUE=DATE:20260510
UID:461791975232
DESCRIPTION:2026-05-10追放幼女の領地開拓記3〜シナリオ開始
 前に追放された悪役令嬢が民のためにやりたい放題し
 た結果がこちらです〜一色孝太郎TOブックス
LOCATION:
END:VEVENT
BEGIN:VEVENT
SUMMARY:やり込んだ乙女ゲームの悪役モブですが、断罪は
 嫌なので真っ当に生きます＠COMIC 第5巻
DTSTART;VALUE=DATE:20260509
DTEND;VALUE=DATE:20260510
UID:655966171887
DESCRIPTION:2026-05-10やり込んだ乙女ゲームの悪役モブです
 が、断罪は嫌なので真っ当に生きます＠COMIC 第5巻戸張
 ちょもTOブックス
LOCATION:
END:VEVENT
BEGIN:VEVENT
SUMMARY:資本主義が嫌いな人のための経済学〔新版〕
DTSTART;VALUE=DATE:20260510
DTEND;VALUE=DATE:20260511
UID:203998814337
DESCRIPTION:2026-05-11資本主義が嫌いな人のための経済学〔
 新版〕ジョセフ・ヒース/栗原 百代早川書房
LOCATION:
END:VEVENT
BEGIN:VEVENT
SUMMARY:眠れる者たちの霊廟
DTSTART;VALUE=DATE:20260510
DTEND;VALUE=DATE:20260511
UID:191022913250
DESCRIPTION:2026-05-11眠れる者たちの霊廟ロベルト・フェル
 トホフ/マリアンネ・シドウ/長谷川 早苗早川書房
LOCATION:
END:VEVENT
BEGIN:VEVENT
SUMMARY:赦しへの四つの道
DTSTART;VALUE=DATE:20260510
DTEND;VALUE=DATE:20260511
UID:258307620907
DESCRIPTION:2026-05-11赦しへの四つの道アーシュラ・K・ル・
 グィン/小尾 芙佐/鳴庭 真人早川書房
LOCATION:
END:VEVENT
BEGIN:VEVENT
SUMMARY:魔の道
DTSTART;VALUE=DATE:20260510
DTEND;VALUE=DATE:20260511
UID:587673077374
DESCRIPTION:2026-05-11魔の道ガビーノ・イグレシアス/渡辺 
 義久早川書房
LOCATION:
END:VEVENT
BEGIN:VEVENT
SUMMARY:反世界【アンチモンド】
DTSTART;VALUE=DATE:20260510
DTEND;VALUE=DATE:20260511
UID:212097749554
DESCRIPTION:2026-05-11反世界【アンチモンド】ナタン・ドゥ
 ヴェール/山崎 美穂早川書房
LOCATION:
END:VEVENT
BEGIN:VEVENT
SUMMARY:【楽天ブックス限定先着特典+先着特典】透明な
 パレット/スター(57mm缶バッジ（教室のセカイの鏡音リ
 ンver.）+特製ジャケットイラストステッカー1枚（全1種
 ）)
DTSTART;VALUE=DATE:20260512
DTEND;VALUE=DATE:20260513
UID:101349098625
DESCRIPTION:2026-05-13【楽天ブックス限定先着特典+先着特典
 】透明なパレット/スター(57mm缶バッジ（教室のセカイ
 の鏡音リンver.）+特製ジャケットイラストステッカー1
 枚（全1種）)Leo/need(株)ブシロードミュージック
LOCATION:
END:VEVENT
BEGIN:VEVENT
SUMMARY:【楽天ブックス限定先着特典+先着特典+他】透明
 なパレット/スター(57mm缶バッジ（教室のセカイの鏡音
 リンver.）+特製ジャケットイラストステッカー1枚（全1
 種）+特製A4クリアファイル)
DTSTART;VALUE=DATE:20260512
DTEND;VALUE=DATE:20260513
UID:211011816400
DESCRIPTION:2026-05-13【楽天ブックス限定先着特典+先着特典
 +他】透明なパレット/スター(57mm缶バッジ（教室のセカ
 イの鏡音リンver.）+特製ジャケットイラストステッカー
 1枚（全1種）+特製A4クリアファイル)Leo/need(株)ブシロー
 ドミュージック
LOCATION:
END:VEVENT
BEGIN:VEVENT
SUMMARY:解けるとこわい謎解きゲーム 顔の見えないトモ
 ダチ
DTSTART;VALUE=DATE:20260512
DTEND;VALUE=DATE:20260513
UID:176834012987
DESCRIPTION:2026-05-13解けるとこわい謎解きゲーム 顔の見え
 ないトモダチやまもと しょう（SCRAP）/吉岡 みつる/く
 にたろ/号 えいすけポプラ社
LOCATION:
END:VEVENT
BEGIN:VEVENT
SUMMARY:血契のアナスタシア 2
DTSTART;VALUE=DATE:20260513
DTEND;VALUE=DATE:20260514
UID:188758395262
DESCRIPTION:2026-05-14血契のアナスタシア 2冲方 丁/田中 ひ
 かるKADOKAWA
LOCATION:
END:VEVENT
BEGIN:VEVENT
SUMMARY:ぼっちが集まってバイキング行ってみた 2
DTSTART;VALUE=DATE:20260513
DTEND;VALUE=DATE:20260514
UID:368374747300
DESCRIPTION:2026-05-14ぼっちが集まってバイキング行ってみ
 た 2宮部サチ芳文社
LOCATION:
END:VEVENT
BEGIN:VEVENT
SUMMARY:最終兵器勇者〜異世界で魔王を倒した後も大人し
 くしていたのに、いきなり処刑されそうになったので
 反逆します。国を捨ててスローライフの旅に出たので
 すが、なんか成り行きで新世界の魔王になりそうです
 〜＠COMIC 第2巻
DTSTART;VALUE=DATE:20260514
DTEND;VALUE=DATE:20260515
UID:229214581430
DESCRIPTION:2026-05-15最終兵器勇者〜異世界で魔王を倒した
 後も大人しくしていたのに、いきなり処刑されそうに
 なったので反逆します。国を捨ててスローライフの旅
 に出たのですが、なんか成り行きで新世界の魔王にな
 りそうです〜＠COMIC 第2巻梅町こまTOブックス
LOCATION:
END:VEVENT
BEGIN:VEVENT
SUMMARY:中年魔術師の悠々自適なダンジョン攻略〜スキル
 オーブを使ったら最強スキルを手に入れたので、好き
 に生きようと思います〜@COMIC 第6巻
DTSTART;VALUE=DATE:20260514
DTEND;VALUE=DATE:20260515
UID:122704205829
DESCRIPTION:2026-05-15中年魔術師の悠々自適なダンジョン攻
 略〜スキルオーブを使ったら最強スキルを手に入れた
 ので、好きに生きようと思います〜@COMIC 第6巻咲野日暮
 TOブックス
LOCATION:
END:VEVENT
BEGIN:VEVENT
SUMMARY:現代最強の魔術師・白虎夜虎2〜呪殺率が高すぎ
 る世界で、転生者の俺は死にたくないから死ぬほど鍛
 えて呪いを祓う。気づけば五大貴族の令嬢達が花嫁競
 争《ヒロインレース》を始めました〜
DTSTART;VALUE=DATE:20260514
DTEND;VALUE=DATE:20260515
UID:168568765057
DESCRIPTION:2026-05-15現代最強の魔術師・白虎夜虎2〜呪殺率
 が高すぎる世界で、転生者の俺は死にたくないから死
 ぬほど鍛えて呪いを祓う。気づけば五大貴族の令嬢達
 が花嫁競争《ヒロインレース》を始めました〜KAZUTOブ
 ックス
LOCATION:
END:VEVENT
BEGIN:VEVENT
SUMMARY:隻眼・隻腕・隻脚の魔術師＠COMIC 第6巻〜森の小
 屋に籠っていたら早2000年。気づけば魔神と呼ばれてい
 た。僕はただ魔術の探求をしたいだけなのに〜
DTSTART;VALUE=DATE:20260514
DTEND;VALUE=DATE:20260515
UID:132271773937
DESCRIPTION:2026-05-15隻眼・隻腕・隻脚の魔術師＠COMIC 第6巻
 〜森の小屋に籠っていたら早2000年。気づけば魔神と呼
 ばれていた。僕はただ魔術の探求をしたいだけなのに
 〜しばの番茶TOブックス
LOCATION:
END:VEVENT
BEGIN:VEVENT
SUMMARY:水属性の魔法使い第2部＠COMIC 第2巻（2-2）
DTSTART;VALUE=DATE:20260514
DTEND;VALUE=DATE:20260515
UID:315631267857
DESCRIPTION:2026-05-15水属性の魔法使い第2部＠COMIC 第2巻（2-
 2）大嶌カヲルTOブックス
LOCATION:
END:VEVENT
BEGIN:VEVENT
SUMMARY:最強執事の恩返し〜転生先の異世界で魔王を倒し
 、さらに魔界で大魔王を倒して100年ぶりに異世界に戻
 ってきたら世話になっていた侯爵家が没落していまし
 た。お世話になった家なので復興させたいと思います
 〜（1）
DTSTART;VALUE=DATE:20260514
DTEND;VALUE=DATE:20260515
UID:321992396810
DESCRIPTION:2026-05-15最強執事の恩返し〜転生先の異世界で
 魔王を倒し、さらに魔界で大魔王を倒して100年ぶりに
 異世界に戻ってきたら世話になっていた侯爵家が没落
 していました。お世話になった家なので復興させたい
 と思います〜（1）榊与一TOブックス
LOCATION:
END:VEVENT
BEGIN:VEVENT
SUMMARY:追放された職業【男子高校生】ですが、聖女スキ
 ルを隠して友だちと旅します。 3
DTSTART;VALUE=DATE:20260514
DTEND;VALUE=DATE:20260515
UID:124684731740
DESCRIPTION:2026-05-15追放された職業【男子高校生】ですが
 、聖女スキルを隠して友だちと旅します。 3花川天谷TO
 ブックス
LOCATION:
END:VEVENT
BEGIN:VEVENT
SUMMARY:クズ勇者のその日暮らし@COMIC 第1巻
DTSTART;VALUE=DATE:20260514
DTEND;VALUE=DATE:20260515
UID:222442894461
DESCRIPTION:2026-05-15クズ勇者のその日暮らし@COMIC 第1巻OFURO
 TOブックス
LOCATION:
END:VEVENT
BEGIN:VEVENT
SUMMARY:転生したら皇帝でした〜生まれながらの皇帝はこ
 の先生き残れるか〜＠COMIC 第7巻
DTSTART;VALUE=DATE:20260514
DTEND;VALUE=DATE:20260515
UID:109382253623
DESCRIPTION:2026-05-15転生したら皇帝でした〜生まれながら
 の皇帝はこの先生き残れるか〜＠COMIC 第7巻櫛灘ゐるゑT
 Oブックス
LOCATION:
END:VEVENT
BEGIN:VEVENT
SUMMARY:切り裂きジャック・百年の孤独 ［改訂完全版］
DTSTART;VALUE=DATE:20260514
DTEND;VALUE=DATE:20260515
UID:232920606185
DESCRIPTION:2026-05-15切り裂きジャック・百年の孤独 ［改訂
 完全版］島田荘司ハーパーコリンズ・ジャパン
LOCATION:
END:VEVENT
BEGIN:VEVENT
SUMMARY:まねき湯 しあわせを呼ぶ番台猫
DTSTART;VALUE=DATE:20260514
DTEND;VALUE=DATE:20260515
UID:209098371427
DESCRIPTION:2026-05-15まねき湯 しあわせを呼ぶ番台猫八木沢
 里志ハーパーコリンズ・ジャパン
LOCATION:
END:VEVENT
BEGIN:VEVENT
SUMMARY:願い星は君にほほえむ
DTSTART;VALUE=DATE:20260517
DTEND;VALUE=DATE:20260518
UID:302922649379
DESCRIPTION:2026-05-18願い星は君にほほえむ小林 一星/まこ
 ろん小学館
LOCATION:
END:VEVENT
BEGIN:VEVENT
SUMMARY:異世界リーマン、勇者パーティーに入る（3）
DTSTART;VALUE=DATE:20260517
DTEND;VALUE=DATE:20260518
UID:586906464046
DESCRIPTION:2026-05-18異世界リーマン、勇者パーティーに入
 る（3）岡崎 マサムネ/てつぶた小学館
LOCATION:
END:VEVENT
BEGIN:VEVENT
SUMMARY:勃紀
DTSTART;VALUE=DATE:20260517
DTEND;VALUE=DATE:20260518
UID:301799870628
DESCRIPTION:2026-05-18勃紀立川 浦々/昼寝小学館
LOCATION:
END:VEVENT
BEGIN:VEVENT
SUMMARY:義理の姉妹、彼女になるか家族になるか
DTSTART;VALUE=DATE:20260517
DTEND;VALUE=DATE:20260518
UID:897650061583
DESCRIPTION:2026-05-18義理の姉妹、彼女になるか家族になる
 か鶴城 東/七草 きのこ小学館
LOCATION:
END:VEVENT
BEGIN:VEVENT
SUMMARY:因習村クライマックス
DTSTART;VALUE=DATE:20260517
DTEND;VALUE=DATE:20260518
UID:259625591912
DESCRIPTION:2026-05-18因習村クライマックス佐伯 庸介/稲成
 小学館
LOCATION:
END:VEVENT
BEGIN:VEVENT
SUMMARY:カラテ魔女 地獄変
DTSTART;VALUE=DATE:20260517
DTEND;VALUE=DATE:20260518
UID:565017696351
DESCRIPTION:2026-05-18カラテ魔女 地獄変昏式 龍也/あんりふ
 れ小学館
LOCATION:
END:VEVENT
BEGIN:VEVENT
SUMMARY:BLACK LAGOON 掃除屋ソーヤー 解体！ゴアゴア娘（11
 ）
DTSTART;VALUE=DATE:20260518
DTEND;VALUE=DATE:20260519
UID:160508843079
DESCRIPTION:2026-05-19BLACK LAGOON 掃除屋ソーヤー 解体！ゴア
 ゴア娘（11）イダ タツヒコ/広江 礼威小学館
LOCATION:
END:VEVENT
BEGIN:VEVENT
SUMMARY:デストロ016（7）
DTSTART;VALUE=DATE:20260518
DTEND;VALUE=DATE:20260519
UID:712618618054
DESCRIPTION:2026-05-19デストロ016（7）高橋 慶太郎小学館
LOCATION:
END:VEVENT
BEGIN:VEVENT
SUMMARY:DINERダイナー 26
DTSTART;VALUE=DATE:20260518
DTEND;VALUE=DATE:20260519
UID:559873037377
DESCRIPTION:2026-05-19DINERダイナー 26河合 孝典/平山 夢明集
 英社
LOCATION:
END:VEVENT
BEGIN:VEVENT
SUMMARY:孤高の華と呼ばれる英国美少女、義妹になったら
 不器用に甘えてきた 5
DTSTART;VALUE=DATE:20260519
DTEND;VALUE=DATE:20260520
UID:686389778560
DESCRIPTION:2026-05-20孤高の華と呼ばれる英国美少女、義妹
 になったら不器用に甘えてきた 5ネコクロ/Parumオーバー
 ラップ
LOCATION:
END:VEVENT
BEGIN:VEVENT
SUMMARY:あの日の恋（×3）が終わってくれない！3 想い出
 の美少女たちと再会したら、恋のレースが始まりまし
 た
DTSTART;VALUE=DATE:20260519
DTEND;VALUE=DATE:20260520
UID:148680866452
DESCRIPTION:2026-05-20あの日の恋（×3）が終わってくれない
 ！3 想い出の美少女たちと再会したら、恋のレースが始
 まりました柚本悠斗/かがちさくオーバーラップ
LOCATION:
END:VEVENT
BEGIN:VEVENT
SUMMARY:原作都合で消される強キャラに転生した俺、破滅
 エンドを回避して自由気ままに世界を蹂躙する 2
DTSTART;VALUE=DATE:20260519
DTEND;VALUE=DATE:20260520
UID:162177247614
DESCRIPTION:2026-05-20原作都合で消される強キャラに転生し
 た俺、破滅エンドを回避して自由気ままに世界を蹂躙
 する 2十利ハレ/詰め木オーバーラップ
LOCATION:
END:VEVENT
BEGIN:VEVENT
SUMMARY:暗殺者（アサシン）の卵に転生した3 〜最凶外道
 の少年は、生き残るために手段を選ばない〜（3）
DTSTART;VALUE=DATE:20260519
DTEND;VALUE=DATE:20260520
UID:159312574090
DESCRIPTION:2026-05-20暗殺者（アサシン）の卵に転生した3 
 〜最凶外道の少年は、生き残るために手段を選ばない
 〜（3）沖唄/真空オーバーラップ
LOCATION:
END:VEVENT
BEGIN:VEVENT
SUMMARY:校内ラジオで恋愛相談（匿名）に乗っていたら、
 学園の美少女たちに言い寄られてた 1
DTSTART;VALUE=DATE:20260519
DTEND;VALUE=DATE:20260520
UID:671929463436
DESCRIPTION:2026-05-20校内ラジオで恋愛相談（匿名）に乗っ
 ていたら、学園の美少女たちに言い寄られてた 1尾乃ミ
 ノリ/はりもじオーバーラップ
LOCATION:
END:VEVENT
BEGIN:VEVENT
SUMMARY:恋結び天使ちゃんが女の子に免疫ゼロなボクにキ
 スさせる 2 ※相手の美少女たちはみんなサキュバスに
 取りつかれています
DTSTART;VALUE=DATE:20260519
DTEND;VALUE=DATE:20260520
UID:325250888076
DESCRIPTION:2026-05-20恋結び天使ちゃんが女の子に免疫ゼロ
 なボクにキスさせる 2 ※相手の美少女たちはみんなサ
 キュバスに取りつかれています小澄桂馬/らうオーバー
 ラップ
LOCATION:
END:VEVENT
BEGIN:VEVENT
SUMMARY:相続したGランクダンジョンは神様付きの優良物
 件でした 1 〜探索者志望のおっさん、神のチートスキ
 ルで最強スローライフ始めます〜
DTSTART;VALUE=DATE:20260519
DTEND;VALUE=DATE:20260520
UID:739079405944
DESCRIPTION:2026-05-20相続したGランクダンジョンは神様付き
 の優良物件でした 1 〜探索者志望のおっさん、神のチ
 ートスキルで最強スローライフ始めます〜なっくる/福
 きつねオーバーラップ
LOCATION:
END:VEVENT
BEGIN:VEVENT
SUMMARY:魔王討伐後の世界に勇者なんていない 2
DTSTART;VALUE=DATE:20260519
DTEND;VALUE=DATE:20260520
UID:157536917869
DESCRIPTION:2026-05-20魔王討伐後の世界に勇者なんていない 
 2紺野千昭/daichiオーバーラップ
LOCATION:
END:VEVENT
BEGIN:VEVENT
SUMMARY:ウィリアム
DTSTART;VALUE=DATE:20260520
DTEND;VALUE=DATE:20260521
UID:619955682106
DESCRIPTION:2026-05-21ウィリアムメイソン・コイル/山本 佳
 世早川書房
LOCATION:
END:VEVENT
BEGIN:VEVENT
SUMMARY:惑星エフレムの戦士
DTSTART;VALUE=DATE:20260520
DTEND;VALUE=DATE:20260521
UID:755057922738
DESCRIPTION:2026-05-21惑星エフレムの戦士ペーター・グリー
 ゼ/アルント・エルマー/若松 宣子早川書房
LOCATION:
END:VEVENT
BEGIN:VEVENT
SUMMARY:マルドゥック・アノニマス 11
DTSTART;VALUE=DATE:20260520
DTEND;VALUE=DATE:20260521
UID:283028006327
DESCRIPTION:2026-05-21マルドゥック・アノニマス 11冲方 丁早
 川書房
LOCATION:
END:VEVENT
BEGIN:VEVENT
SUMMARY:廃ゲーマー刑事
DTSTART;VALUE=DATE:20260520
DTEND;VALUE=DATE:20260521
UID:106443151305
DESCRIPTION:2026-05-21廃ゲーマー刑事上條 つづる早川書房
LOCATION:
END:VEVENT
BEGIN:VEVENT
SUMMARY:陽の光が消えた町で
DTSTART;VALUE=DATE:20260520
DTEND;VALUE=DATE:20260521
UID:232466890751
DESCRIPTION:2026-05-21陽の光が消えた町でナオミ・クリッツ
 ァー/桐谷 知未早川書房
LOCATION:
END:VEVENT
BEGIN:VEVENT
SUMMARY:テクノ・クーデター
DTSTART;VALUE=DATE:20260520
DTEND;VALUE=DATE:20260521
UID:178536428168
DESCRIPTION:2026-05-21テクノ・クーデターマリエッチェ・ス
 ハーケ/江口 泰子早川書房
LOCATION:
END:VEVENT
BEGIN:VEVENT
SUMMARY:処刑館殺人事件
DTSTART;VALUE=DATE:20260520
DTEND;VALUE=DATE:20260521
UID:182368647483
DESCRIPTION:2026-05-21処刑館殺人事件西式 豊早川書房
LOCATION:
END:VEVENT
BEGIN:VEVENT
SUMMARY:あるコンテナ船の物語
DTSTART;VALUE=DATE:20260520
DTEND;VALUE=DATE:20260521
UID:143287765280
DESCRIPTION:2026-05-21あるコンテナ船の物語イアン・久米川/
 峯村 利哉早川書房
LOCATION:
END:VEVENT
BEGIN:VEVENT
SUMMARY:古書贋作師トマス・ワイズ
DTSTART;VALUE=DATE:20260520
DTEND;VALUE=DATE:20260521
UID:107954333194
DESCRIPTION:2026-05-21古書贋作師トマス・ワイズジョセフ・
 ホーン/倉田 真木早川書房
LOCATION:
END:VEVENT
BEGIN:VEVENT
SUMMARY:あなたは空気のように
DTSTART;VALUE=DATE:20260520
DTEND;VALUE=DATE:20260521
UID:199800727007
DESCRIPTION:2026-05-21あなたは空気のようにアーダ・ダダー
 モ/越前 貴美子早川書房
LOCATION:
END:VEVENT
BEGIN:VEVENT
SUMMARY:両京十五日 4
DTSTART;VALUE=DATE:20260520
DTEND;VALUE=DATE:20260521
UID:238110482256
DESCRIPTION:2026-05-21両京十五日 4馬伯庸/齊藤 正高/泊 功早
 川書房
LOCATION:
END:VEVENT
BEGIN:VEVENT
SUMMARY:シャーロック・ホームズは引退しました
DTSTART;VALUE=DATE:20260520
DTEND;VALUE=DATE:20260521
UID:315004643782
DESCRIPTION:2026-05-21シャーロック・ホームズは引退しまし
 たホリー・ヘップバーン/廣瀬 麻微東京創元社
LOCATION:
END:VEVENT
BEGIN:VEVENT
SUMMARY:竜の医師団5
DTSTART;VALUE=DATE:20260520
DTEND;VALUE=DATE:20260521
UID:242866155552
DESCRIPTION:2026-05-21竜の医師団5庵野ゆき東京創元社
LOCATION:
END:VEVENT
BEGIN:VEVENT
SUMMARY:君が描きかえた名探偵と青い春
DTSTART;VALUE=DATE:20260520
DTEND;VALUE=DATE:20260521
UID:128597232600
DESCRIPTION:2026-05-21君が描きかえた名探偵と青い春谷夏読
 東京創元社
LOCATION:
END:VEVENT
BEGIN:VEVENT
SUMMARY:なごみの道
DTSTART;VALUE=DATE:20260520
DTEND;VALUE=DATE:20260521
UID:285981807418
DESCRIPTION:2026-05-21なごみの道茂木 健一郎早川書房
LOCATION:
END:VEVENT
BEGIN:VEVENT
SUMMARY:でっどどんととーく
DTSTART;VALUE=DATE:20260521
DTEND;VALUE=DATE:20260522
UID:608424192226
DESCRIPTION:2026-05-22でっどどんととーく金田 あき講談社
LOCATION:
END:VEVENT
BEGIN:VEVENT
SUMMARY:ブルーピリオド（19）
DTSTART;VALUE=DATE:20260521
DTEND;VALUE=DATE:20260522
UID:818270617751
DESCRIPTION:2026-05-22ブルーピリオド（19）山口 つばさ講談
 社
LOCATION:
END:VEVENT
BEGIN:VEVENT
SUMMARY:君と宇宙を歩くために（6）
DTSTART;VALUE=DATE:20260521
DTEND;VALUE=DATE:20260522
UID:195971927857
DESCRIPTION:2026-05-22君と宇宙を歩くために（6）泥ノ田 犬
 彦講談社
LOCATION:
END:VEVENT
BEGIN:VEVENT
SUMMARY:あさやけリフレイン（2）
DTSTART;VALUE=DATE:20260521
DTEND;VALUE=DATE:20260522
UID:173213346173
DESCRIPTION:2026-05-22あさやけリフレイン（2）まつだ ひか
 り講談社
LOCATION:
END:VEVENT
END:VCALENDAR
