BEGIN:VCALENDAR
VERSION:2.0
PRODID:-//chikkutakku.com//RDFCal 1.0//EN
X-WR-CALDESC:GoogleカレンダーやiCalendar形式情報を共有シェ
 アしましょう。近所のイベントから全国のイベントま
 で今日のイベント検索やスケジュールを決めるならち
 っくたっく
X-WR-CALNAME:ちっくたっく
X-WR-TIMEZONE:UTC
BEGIN:VEVENT
SUMMARY: A東京 - 滋賀
DTSTART;VALUE=DATE-TIME:20260425T080500Z
DTEND;VALUE=DATE-TIME:20260425T100500Z
UID:182108065750
DESCRIPTION:
LOCATION:TOYOTA ARENA TOKYO
END:VEVENT
BEGIN:VEVENT
SUMMARY: A東京 - 滋賀
DTSTART;VALUE=DATE-TIME:20260426T060500Z
DTEND;VALUE=DATE-TIME:20260426T080500Z
UID:338631206533
DESCRIPTION:
LOCATION:TOYOTA ARENA TOKYO
END:VEVENT
BEGIN:VEVENT
SUMMARY: 滋賀 - SR渋谷
DTSTART;VALUE=DATE-TIME:20260502T050500Z
DTEND;VALUE=DATE-TIME:20260502T070500Z
UID:275487941338
DESCRIPTION:
LOCATION:滋賀ダイハツアリーナ
END:VEVENT
BEGIN:VEVENT
SUMMARY: 滋賀 - SR渋谷
DTSTART;VALUE=DATE-TIME:20260503T050500Z
DTEND;VALUE=DATE-TIME:20260503T070500Z
UID:198322064219
DESCRIPTION:
LOCATION:滋賀ダイハツアリーナ
END:VEVENT
END:VCALENDAR
