BEGIN:VCALENDAR
VERSION:2.0
PRODID:-//chikkutakku.com//RDFCal 1.0//EN
X-WR-CALDESC:GoogleカレンダーやiCalendar形式情報を共有シェ
 アしましょう。近所のイベントから全国のイベントま
 で今日のイベント検索やスケジュールを決めるならち
 っくたっく
X-WR-CALNAME:ちっくたっく
X-WR-TIMEZONE:UTC
BEGIN:VEVENT
SUMMARY:TUMOゲストシリーズ101
DTSTART;VALUE=DATE:20260424
DTEND;VALUE=DATE:20260425
UID:135224209718
DESCRIPTION:open 19:30 / start 20:00\nTUMO\n竹下勇馬 &#124\; Yuma Take
 shita\n石原雄治 &#124\; Yuji Ishihara\nGuest\nChristoven Tan (Electric
  Viola from Singapore)\n()\n投げ銭制(別途チャージ500円+ドリ
 ンクオーダー)\n()\n予約方法\n・予約受付メールアドレ
 ス:barisshee@keh.biglobe.ne.jp\nタイトルを「4/25予約」とし、\
 n上記アドレスに氏名(フルネーム)と人数(最大2名)と電
 話番号をお知らせください。整理番号を返信いたしま
 す。\n予約は4月24日24時で締め切ります。\nそれ以前に
 定員に達した場合はその時点で予約終了となります。\n
 ()\nメールにてご予約、整理番号順の入場となります。\
 n携帯からメールされる方は、PCからのメールを受け取
 れるようにしておいてください。\n()\nなお事前連絡無
 しの無断のキャンセルの場合、\n今後の予約ができなく
 なる可能性もありますので、\n充分ご承知おきください
 。\n\n【関連/参考ページ】\nhttp://www.bloc.jp/barisshee/ （千
 駄木Bar Isshee）
LOCATION:千駄木Bar Isshee【関東】
END:VEVENT
BEGIN:VEVENT
SUMMARY:石原雄治 + Cal Lyall + Christoven Tan
DTSTART;VALUE=DATE:20260425
DTEND;VALUE=DATE:20260426
UID:260231627147
DESCRIPTION:open 18:30 / start 19:00\n出演：\n石原雄治 &#124\; Yuji
  Ishihara : drums\nCal Lyall : guitar\nChristoven Tan : Electric Viola fro
 m Singapore\n料金:\n￥2\,500(予約￥2\,300)\n\n来日中のChrisと
 のギグ2日目です！\n是非お運びくださいませ。\n\n【関
 連/参考ページ】\nhttp://www.knuttelhouse.com/ （入谷なってる
 ハウス）
LOCATION:入谷なってるハウス【関東】
END:VEVENT
BEGIN:VEVENT
SUMMARY:大上流一+石原雄治
DTSTART;VALUE=DATE:20260427
DTEND;VALUE=DATE:20260428
UID:457669505734
DESCRIPTION:open 19:30 / start 20:00\n出演:\n28 April (tue) 8pm duo\n石
 原雄治 Yuji Ishihara [drums]\n大上流一 Riuichi Daijo [guitar]\n料
 金:\nsuggested admission between 1\,000 to 3\,000yen.\n\n何度か組み
 合わせでご一緒したことはありますが、Duo初めてです
 ね。\nどんな事ができるか楽しみです。
LOCATION:不動前Permian【関東】
END:VEVENT
BEGIN:VEVENT
SUMMARY:中田粥 + 石原雄治
DTSTART;VALUE=DATE:20260428
DTEND;VALUE=DATE:20260429
UID:268986994322
DESCRIPTION:open 17:00 / start 17:00\n[FEEDBACK:MIX vol.4]\n関西の友
 達を呼んで東京で知り合った音楽家/バンドと繋げてい
 きたい\nそんな気持ちでイベントを企画しています。\n
 今回は大阪から中田 粥を招きアンビエント/ノイズ/サ
 ウンドアートというテーマでブッキング。\nさらに全員
 デュオセットをお願いしました。(nkz)\n「混沌としつつ
 筋が通っている」イベントを目指しています。\n日程 4/
 29 (水 祝)\nOPEN/START 17:00\n料金 2\,000+1Drink\nhttps://oriental-for
 ce.com/\n〒166-0003 東京都杉並区高円寺南３丁目４８−６ 
 第８日東ビル B1 101\n出演:\n中田粥(大阪) + 石原雄治\nnkz 
 + knd\nよくばりChameleon.+ Masafumi Teruyama\nP.O.V. + Motomu.Miura\nT
 iroru （Duo）\n※最後 中田粥の作品鑑賞と談笑タイム予
 定しています\nOPEN/END BGM\nIkuko Morozumi\nand more...
LOCATION:高円寺OrientalForce【関東】
END:VEVENT
BEGIN:VEVENT
SUMMARY:AROI
DTSTART;VALUE=DATE:20260430
DTEND;VALUE=DATE:20260501
UID:362601127712
DESCRIPTION:open 19:00 / start 19:30\nAROI/\nさがゆき(voice\,g)\n森
 順治(reeds)\n石原雄治(ds)\n料金:\n￥2\,500(予約￥2\,300)\n\n
 【関連/参考ページ】\nhttp://www.knuttelhouse.com/ （入谷なっ
 てるハウス）
LOCATION:入谷なってるハウス【関東】
END:VEVENT
BEGIN:VEVENT
SUMMARY:SAILORMEN
DTSTART;VALUE=DATE:20260507
DTEND;VALUE=DATE:20260508
UID:282685835780
DESCRIPTION:open 19:00 / start 19:30\n出演:\n森順治 Junji Mori : reed
 s\n林哲也 Tetsuya Hayashi : guitar\n横山知輝 Tomoki Yokoyama : bass
 \n石原雄治 Yuji Ishihara : drums\n料金:\n￥2\,300(予約￥2\,000)\
 n\n1月ぶりのSAILORMENです。\n随分久しぶりになりました
 。\n是非！！よろしくお願い致します。\n\n【関連/参考
 ページ】\nhttp://www.knuttelhouse.com/ （入谷なってるハウス
 ）
LOCATION:入谷なってるハウス【関東】
END:VEVENT
BEGIN:VEVENT
SUMMARY:aro東北ツアー
DTSTART;VALUE=DATE:20260502
DTEND;VALUE=DATE:20260509
UID:250680792120
DESCRIPTION:5/3(日)宮城仙台 音屋スタジオ\n5/4(月)宮城石巻 
 ROADIE\n5/5(火)岩手盛岡 BeOneBox\n5/6(水)青森八戸 ROXX\n5/7(木)
  青森青森 SubLime\n5/8(金)無し\n5/9(土)岩手奥州
LOCATION:東北各所【東北】
END:VEVENT
BEGIN:VEVENT
SUMMARY:やくとりお+大倉優花
DTSTART;VALUE=DATE:20260510
DTEND;VALUE=DATE:20260511
UID:132874684242
DESCRIPTION:open 19:30 / start 20:00\n出演:\n夜久一 vo\,gt\n高岡大
 祐 tuba\n石原雄治 drums\n大倉優花 drums\n料金:\n2000円\nドリ
 ンク持ち込み可\n自販機もあります\n\nやくおりお+夜久
 一トリオのドラム大倉優花とのツインドラム初登場！
 一体どうなるのか。
LOCATION:高円寺SOUNDSTUDIODOM D.Room【関東】
END:VEVENT
BEGIN:VEVENT
SUMMARY:TUMO×Hypnotic Streams Kansai Tour Day 1 Kobe
DTSTART;VALUE=DATE:20260511
DTEND;VALUE=DATE:20260512
UID:130194102483
DESCRIPTION:open 19:00 / start 19:30\nLine up:\nHypnotic Streams\n・Fabio
  Rambelli from Italy / 笙 \n・Dirk Stromberg from Singapore / instrument
  builder\nTUMO\n・竹下勇馬 &#124\; Yuma Takeshita  / mechanized instr
 uments\n・石原雄治 &#124\; Yuji Ishihara / drums FX\n料金:\n自由
 料金制(pay as you want)+drink order\n\nダークさんとフォビオ
 さんのデュオの神戸と大阪のイベントを企画しました
 。\nこの日はそれぞれのユニットと最後に合奏予定です
 。\nよろしくお願い致します。\n\n【関連/参考ページ】\
 nhttps://spaceeauuu.themedia.jp/ （元町 space eauuu）
LOCATION:元町 space eauuu【近畿】
END:VEVENT
BEGIN:VEVENT
SUMMARY:TUMO×Hypnotic Streams Kansai Tour Day 2 Osaka
DTSTART;VALUE=DATE:20260512
DTEND;VALUE=DATE:20260513
UID:242906380463
DESCRIPTION:open 19:00 / start 19:30\nLine up:\nHypnotic Streams\n・Fabio
  Rambelli from Italy / 笙\n・Dirk Stromberg from Singapore / instrument 
 builder\nTUMO\n・竹下勇馬 &#124\; Yuma Takeshita / mechanized instrum
 ents\n・石原雄治 &#124\; Yuji Ishihara / drums FX\nspacial guest:\n
 ・Juri Suzue / electronics\nFee:\n2500yen + 1 drink\n\nダークさんと
 フォビオさんのデュオ「Hypnotic Streams」の関西ギグ2日目
 \nこの日はそれぞれのユニットと最後に合奏予定です。
 \nよろしくお願い致します。
LOCATION:桜川Environment 0g【近畿】
END:VEVENT
BEGIN:VEVENT
SUMMARY:田中邦和+石原雄治
DTSTART;VALUE=DATE:20260513
DTEND;VALUE=DATE:20260514
UID:273340398612
DESCRIPTION:open 19:30 / start 20:00\n出演:\n石原雄治 drum\n田中
 邦和 sax\n料金:\n1000〜3000円\n\nこのデュオで2回目のペル
 ミアンです。\n響きが独特で中々面白いサウンドになっ
 ております。
LOCATION:不動前Permian【関東】
END:VEVENT
BEGIN:VEVENT
SUMMARY:梅津和時+Tonnam Warit+多田葉子+石原雄治
DTSTART;VALUE=DATE:20260515
DTEND;VALUE=DATE:20260516
UID:207180809828
DESCRIPTION:open 18:00 / start 19:00\n出演:\n梅津和時reeds\nTonnam W
 arit p\n多田葉子reeds\n石原雄治Drs\n料金:\nチャージ１５０
 ０円＋投げ銭（1000円以上）\n\n初めての国立NO TRUNKS。\nT
 onnam来日！\n2月にタイ、バンコクで何度も演奏したこの
 メンバーにて。\nとても楽しみです。\n\n【関連/参考ペ
 ージ】\nhttp://notrunks.jp/ （国立NO TRUNKS）
LOCATION:国立NO TRUNKS【関東】
END:VEVENT
BEGIN:VEVENT
SUMMARY:「タイからの天才ピアニスト、トンナム現る！」
  Tonnam Warit((Piano)
DTSTART;VALUE=DATE:20260516
DTEND;VALUE=DATE:20260517
UID:166055286776
DESCRIPTION:open 16:00 / start 17:00\n出演: \n梅津和時　(As Cl Bcl 
 Fl 他)\n太田恵資　(Vln)\n石原雄治　(Drs)\n料金:\n前売4\,000
 円\n当日4\,500円\n別途1Drink600円 \n055-233-2031 桜座\nメール
 にて予約受付中\n中学生\, 小学生無料！保護者同伴\n\n
 めちゃくちゃ久しぶりの桜座。\nTonnamとの日本ショート
 ツアー2日目。\nこの日はめちゃくちゃ久しぶりに太田
 恵資さんとの共演もあり、楽しみ！\n\n【関連/参考ペー
 ジ】\nhttp://www.sakuraza.jp/ （甲府桜座）
LOCATION:甲府桜座【関東】
END:VEVENT
BEGIN:VEVENT
SUMMARY:『トンナム・ワリット、梅津和時 インプロ・セ
 ッション』
DTSTART;VALUE=DATE:20260517
DTEND;VALUE=DATE:20260518
UID:362618582552
DESCRIPTION:open 19:00 / start 19:30\n出演:\nTonnam Warit(P\,Key)\n梅
 津和時(As\,Bcl\,Cl\,Fl)\n多田葉子(As\,Ts\,Cl)\n石原雄治(D)　
 　　　　　　　　　　　　　　　　　　　　　　　　
 　　\n料金\n3\,500円(+order)\n\nTonnam日本ショートツアー最
 終日はこちらもご無沙汰の上尾PlusElevenです。\nオーナ
 ーが変わって初めて伺います。\n多田さんが戻ってきて
 の最終日とても楽しみです！\n\n【関連/参考ページ】\nh
 ttps://www.pluseleven-ageo.com （上尾plus eleven）
LOCATION:上尾plus eleven【関東】
END:VEVENT
BEGIN:VEVENT
SUMMARY:TBA
DTSTART;VALUE=DATE:20260518
DTEND;VALUE=DATE:20260519
UID:192414038562
DESCRIPTION:TBA
LOCATION:神戸喫茶コマヤ【近畿】
END:VEVENT
BEGIN:VEVENT
SUMMARY:UD
DTSTART;VALUE=DATE:20260519
DTEND;VALUE=DATE:20260520
UID:249218194222
DESCRIPTION:TBA
LOCATION:桜川Environment 0g【近畿】
END:VEVENT
BEGIN:VEVENT
SUMMARY:TBA
DTSTART;VALUE=DATE:20260520
DTEND;VALUE=DATE:20260521
UID:311476387252
DESCRIPTION:TBA
LOCATION:
END:VEVENT
BEGIN:VEVENT
SUMMARY:Modern Ancient
DTSTART;VALUE=DATE:20260521
DTEND;VALUE=DATE:20260522
UID:178296473518
DESCRIPTION:open 19:00 / start 19:30\n「Modern Ancient」\n古代の楽
 曲をいまの音に\n出演:\n佐藤えりか contrabass\n山口亮志 g
 uitar\n石原雄治 drums\, synth\n料金:\n￥3000＋order\n\n即興音
 楽家によるメソポタミア、古代ギリシャや平安時代の
 楽曲の演奏。古代と現代が交錯する。\n演奏予定曲：月
 の女神ニッカルへの賛歌 (古代メソポタミア)、\nデルフ
 ィーの賛歌 (古代ギリシャ) 、楊真操 (平安楽琵琶秘曲) 
   他\n\n【関連/参考ページ】\nhttp://www.clopclop.jp （西荻窪
  CLOP CLOP）
LOCATION:西荻窪 CLOP CLOP【関東】
END:VEVENT
END:VCALENDAR
