BEGIN:VCALENDAR
VERSION:2.0
PRODID:-//chikkutakku.com//RDFCal 1.0//EN
X-WR-CALDESC:GoogleカレンダーやiCalendar形式情報を共有シェ
 アしましょう。近所のイベントから全国のイベントま
 で今日のイベント検索やスケジュールを決めるならち
 っくたっく
X-WR-CALNAME:ちっくたっく
X-WR-TIMEZONE:UTC
BEGIN:VEVENT
SUMMARY:木村岳風記念館 休館日
DTSTART;VALUE=DATE:20260502
DTEND;VALUE=DATE:20260506
UID:122387801778
DESCRIPTION:木村岳風記念館 休館日
LOCATION:木村岳風記念館\, 日本、〒392-0005 長野県諏訪市
 岡村１丁目１２−６ 木村岳風記念館
END:VEVENT
BEGIN:VEVENT
SUMMARY:日本詩吟学院　公開講座62
DTSTART;VALUE=DATE:20260508
DTEND;VALUE=DATE:20260509
UID:126498437000
DESCRIPTION:日本詩吟学院　公開講座62
LOCATION:吟道会館
END:VEVENT
BEGIN:VEVENT
SUMMARY:監査会
DTSTART;VALUE=DATE:20260513
DTEND;VALUE=DATE:20260515
UID:181772784318
DESCRIPTION:10:00~
LOCATION:吟道会館
END:VEVENT
BEGIN:VEVENT
SUMMARY:業務執行理事会（Web）
DTSTART;VALUE=DATE:20260519
DTEND;VALUE=DATE:20260520
UID:289040876491
DESCRIPTION:13：00～
LOCATION:
END:VEVENT
BEGIN:VEVENT
SUMMARY:理事会（Web）
DTSTART;VALUE=DATE:20260520
DTEND;VALUE=DATE:20260521
UID:227106735883
DESCRIPTION:13：00～
LOCATION:
END:VEVENT
END:VCALENDAR
