BEGIN:VCALENDAR
VERSION:2.0
PRODID:-//chikkutakku.com//RDFCal 1.0//EN
X-WR-CALDESC:GoogleカレンダーやiCalendar形式情報を共有シェ
 アしましょう。近所のイベントから全国のイベントま
 で今日のイベント検索やスケジュールを決めるならち
 っくたっく
X-WR-CALNAME:ちっくたっく
X-WR-TIMEZONE:UTC
BEGIN:VEVENT
SUMMARY: 北海道 - 群馬
DTSTART;VALUE=DATE-TIME:20260426T040500Z
DTEND;VALUE=DATE-TIME:20260426T060500Z
UID:311473279570
DESCRIPTION:
LOCATION:北海きたえーる
END:VEVENT
BEGIN:VEVENT
SUMMARY: 群馬 - 仙台
DTSTART;VALUE=DATE-TIME:20260502T060500Z
DTEND;VALUE=DATE-TIME:20260502T080500Z
UID:617676397096
DESCRIPTION:
LOCATION:オープンハウスアリーナ太田
END:VEVENT
BEGIN:VEVENT
SUMMARY: 群馬 - 仙台
DTSTART;VALUE=DATE-TIME:20260503T060500Z
DTEND;VALUE=DATE-TIME:20260503T080500Z
UID:945294814193
DESCRIPTION:
LOCATION:オープンハウスアリーナ太田
END:VEVENT
END:VCALENDAR
