BEGIN:VCALENDAR
VERSION:2.0
PRODID:-//chikkutakku.com//RDFCal 1.0//EN
X-WR-CALDESC:GoogleカレンダーやiCalendar形式情報を共有シェ
 アしましょう。近所のイベントから全国のイベントま
 で今日のイベント検索やスケジュールを決めるならち
 っくたっく
X-WR-CALNAME:ちっくたっく
X-WR-TIMEZONE:UTC
BEGIN:VEVENT
SUMMARY:J2・J3百年構想 札幌-藤枝
DTSTART;VALUE=DATE-TIME:20260429T050000Z
DTEND;VALUE=DATE-TIME:20260429T050000Z
UID:128186200405
DESCRIPTION:J2・J3百年構想 EAST-Bグループ 第13節
LOCATION:大和ハウス プレミストドーム
END:VEVENT
BEGIN:VEVENT
SUMMARY:J2・J3百年構想 長野-藤枝
DTSTART;VALUE=DATE-TIME:20260502T090000Z
DTEND;VALUE=DATE-TIME:20260502T090000Z
UID:240323372202
DESCRIPTION:J2・J3百年構想 EAST-Bグループ 第14節
LOCATION:長野Uスタジアム
END:VEVENT
BEGIN:VEVENT
SUMMARY:J2・J3百年構想 藤枝-福島
DTSTART;VALUE=DATE-TIME:20260506T050000Z
DTEND;VALUE=DATE-TIME:20260506T050000Z
UID:152795779688
DESCRIPTION:J2・J3百年構想 EAST-Bグループ 第15節
LOCATION:藤枝総合運動公園サッカー場
END:VEVENT
BEGIN:VEVENT
SUMMARY:J2・J3百年構想 松本-藤枝
DTSTART;VALUE=DATE-TIME:20260510T050000Z
DTEND;VALUE=DATE-TIME:20260510T050000Z
UID:148757827560
DESCRIPTION:J2・J3百年構想 EAST-Bグループ 第16節
LOCATION:サンプロ アルウィン
END:VEVENT
BEGIN:VEVENT
SUMMARY:J2・J3百年構想 磐田-藤枝
DTSTART;VALUE=DATE-TIME:20260516T053000Z
DTEND;VALUE=DATE-TIME:20260516T053000Z
UID:103510856103
DESCRIPTION:J2・J3百年構想 EAST-Bグループ 第17節
LOCATION:ヤマハスタジアム
END:VEVENT
BEGIN:VEVENT
SUMMARY:J2・J3百年構想 藤枝-いわき
DTSTART;VALUE=DATE-TIME:20260523T050000Z
DTEND;VALUE=DATE-TIME:20260523T050000Z
UID:242871521907
DESCRIPTION:J2・J3百年構想 EAST-Bグループ 第18節
LOCATION:藤枝総合運動公園サッカー場
END:VEVENT
END:VCALENDAR
