BEGIN:VCALENDAR
VERSION:2.0
PRODID:-//chikkutakku.com//RDFCal 1.0//EN
X-WR-CALDESC:GoogleカレンダーやiCalendar形式情報を共有シェ
 アしましょう。近所のイベントから全国のイベントま
 で今日のイベント検索やスケジュールを決めるならち
 っくたっく
X-WR-CALNAME:ちっくたっく
X-WR-TIMEZONE:UTC
BEGIN:VEVENT
SUMMARY:スーパーマーケット宇宙
DTSTART;VALUE=DATE:20260420
DTEND;VALUE=DATE:20260421
UID:310760188405
DESCRIPTION:2026-04-21スーパーマーケット宇宙益田 ミリKADOKA
 WA
LOCATION:
END:VEVENT
BEGIN:VEVENT
SUMMARY:ツユクサナツコの一生
DTSTART;VALUE=DATE:20260421
DTEND;VALUE=DATE:20260422
UID:225990764092
DESCRIPTION:2026-04-22ツユクサナツコの一生益田 ミリ新潮社
LOCATION:
END:VEVENT
BEGIN:VEVENT
SUMMARY:くもをさがす
DTSTART;VALUE=DATE:20260422
DTEND;VALUE=DATE:20260423
UID:965390247633
DESCRIPTION:2026-04-23くもをさがす西 加奈子河出書房新社
LOCATION:
END:VEVENT
BEGIN:VEVENT
SUMMARY:最恐ホラー 嫌な記憶
DTSTART;VALUE=DATE:20260429
DTEND;VALUE=DATE:20260430
UID:871541499907
DESCRIPTION:2026-04-30最恐ホラー 嫌な記憶貴志 祐介/荻堂 顕
 講談社
LOCATION:
END:VEVENT
BEGIN:VEVENT
SUMMARY:本屋さんのある街で
DTSTART;VALUE=DATE:20260507
DTEND;VALUE=DATE:20260508
UID:165050651822
DESCRIPTION:2026-05-08本屋さんのある街で凪良 ゆう/瀬尾 ま
 いこ/坂木 司/一穂 ミチ/三浦 しをん文藝春秋
LOCATION:
END:VEVENT
BEGIN:VEVENT
SUMMARY:複雑化の教育論
DTSTART;VALUE=DATE:20260508
DTEND;VALUE=DATE:20260509
UID:221550994723
DESCRIPTION:2026-05-09複雑化の教育論内田 樹大和書房
LOCATION:
END:VEVENT
BEGIN:VEVENT
SUMMARY:AI脳クライシス デジタルは人から何を奪うのか
DTSTART;VALUE=DATE:20260510
DTEND;VALUE=DATE:20260511
UID:285397867139
DESCRIPTION:2026-05-11AI脳クライシス デジタルは人から何を
 奪うのか酒井 邦嘉/羽生 善治/ピーター・バラカン/千住
  博/柳田 邦男集英社インターナショナル
LOCATION:
END:VEVENT
BEGIN:VEVENT
SUMMARY:骸の爪［新装版］
DTSTART;VALUE=DATE:20260511
DTEND;VALUE=DATE:20260512
UID:109007055177
DESCRIPTION:2026-05-12骸の爪［新装版］道尾秀介幻冬舎
LOCATION:
END:VEVENT
END:VCALENDAR
