BEGIN:VCALENDAR
VERSION:2.0
PRODID:-//chikkutakku.com//RDFCal 1.0//EN
X-WR-CALDESC:GoogleカレンダーやiCalendar形式情報を共有シェ
 アしましょう。近所のイベントから全国のイベントま
 で今日のイベント検索やスケジュールを決めるならち
 っくたっく
X-WR-CALNAME:ちっくたっく
X-WR-TIMEZONE:UTC
BEGIN:VEVENT
SUMMARY:新装版 もやしもん（13）
DTSTART;VALUE=DATE:20260422
DTEND;VALUE=DATE:20260423
UID:256859278992
DESCRIPTION:2026-04-23新装版 もやしもん（13）石川 雅之講談
 社
LOCATION:
END:VEVENT
BEGIN:VEVENT
SUMMARY:【楽天ブックス限定デジタル特典】魔法少女リリ
 カルなのはMOVIE1st THE COMICS 2 新装版(オリジナルデジタル
 壁紙 DL)
DTSTART;VALUE=DATE:20260427
DTEND;VALUE=DATE:20260428
UID:365814603997
DESCRIPTION:2026-04-28【楽天ブックス限定デジタル特典】魔
 法少女リリカルなのはMOVIE1st THE COMICS 2 新装版(オリジナ
 ルデジタル壁紙 DL)都築真紀/長谷川光司Gakken
LOCATION:
END:VEVENT
BEGIN:VEVENT
SUMMARY:【楽天ブックス限定デジタル特典】魔法少女リリ
 カルなのはMOVIE1st THE COMICS 1 新装版(オリジナルデジタル
 壁紙 DL)
DTSTART;VALUE=DATE:20260427
DTEND;VALUE=DATE:20260428
UID:268193624221
DESCRIPTION:2026-04-28【楽天ブックス限定デジタル特典】魔
 法少女リリカルなのはMOVIE1st THE COMICS 1 新装版(オリジナ
 ルデジタル壁紙 DL)都築真紀/長谷川光司Gakken
LOCATION:
END:VEVENT
BEGIN:VEVENT
SUMMARY:【楽天ブックス限定先着特典】マクロスF ギャラ
 クシーライブ☆ファイナル 2025(限定盤)【Blu-ray】(ナッ
 プザック)
DTSTART;VALUE=DATE:20260428
DTEND;VALUE=DATE:20260429
UID:604974232343
DESCRIPTION:2026-04-29【楽天ブックス限定先着特典】マクロ
 スF ギャラクシーライブ☆ファイナル 2025(限定盤)【Blu-r
 ay】(ナップザック)シェリル・ノーム starring May'n/ランカ
 ・リー=中島愛(株)フライングドッグ
LOCATION:
END:VEVENT
BEGIN:VEVENT
SUMMARY:【楽天ブックス限定先着特典】マクロスF ギャラ
 クシーライブ☆ファイナル 2025(完全生産限定・ヤック
 デカルチャー特装盤)【Blu-ray】(ナップザック)
DTSTART;VALUE=DATE:20260428
DTEND;VALUE=DATE:20260429
UID:186440113333
DESCRIPTION:2026-04-29【楽天ブックス限定先着特典】マクロ
 スF ギャラクシーライブ☆ファイナル 2025(完全生産限定
 ・ヤックデカルチャー特装盤)【Blu-ray】(ナップザック)
 シェリル・ノーム starring May'n/ランカ・リー=中島愛(株)
 フライングドッグ
LOCATION:
END:VEVENT
BEGIN:VEVENT
SUMMARY:【楽天ブックス限定先着特典】マクロスF ギャラ
 クシーライブ☆ファイナル 2025(通常盤)【Blu-ray】(ナッ
 プザック)
DTSTART;VALUE=DATE:20260428
DTEND;VALUE=DATE:20260429
UID:314782407311
DESCRIPTION:2026-04-29【楽天ブックス限定先着特典】マクロ
 スF ギャラクシーライブ☆ファイナル 2025(通常盤)【Blu-r
 ay】(ナップザック)シェリル・ノーム starring May'n/ランカ
 ・リー=中島愛(株)フライングドッグ
LOCATION:
END:VEVENT
BEGIN:VEVENT
SUMMARY:マクロスF ギャラクシーライブ☆ファイナル 2025(
 限定盤)【Blu-ray】
DTSTART;VALUE=DATE:20260428
DTEND;VALUE=DATE:20260429
UID:135500948834
DESCRIPTION:2026-04-29マクロスF ギャラクシーライブ☆ファ
 イナル 2025(限定盤)【Blu-ray】シェリル・ノーム starring Ma
 y'n/ランカ・リー=中島愛(株)フライングドッグ
LOCATION:
END:VEVENT
BEGIN:VEVENT
SUMMARY:【楽天ブックス限定先着特典+早期予約特典】マ
 クロスF ギャラクシーライブ☆ファイナル 2025(通常盤)
 【Blu-ray】(ナップザック+バックステージパス風ネック
 ストラップ)
DTSTART;VALUE=DATE:20260428
DTEND;VALUE=DATE:20260429
UID:197551419338
DESCRIPTION:2026-04-29【楽天ブックス限定先着特典+早期予約
 特典】マクロスF ギャラクシーライブ☆ファイナル 2025(
 通常盤)【Blu-ray】(ナップザック+バックステージパス風
 ネックストラップ)シェリル・ノーム starring May'n/ランカ
 ・リー=中島愛(株)フライングドッグ
LOCATION:
END:VEVENT
BEGIN:VEVENT
SUMMARY:【楽天ブックス限定先着特典+早期予約特典】マ
 クロスF ギャラクシーライブ☆ファイナル 2025(完全生産
 限定・ヤックデカルチャー特装盤)【Blu-ray】(ナップザ
 ック+バックステージパス風ネックストラップ)
DTSTART;VALUE=DATE:20260428
DTEND;VALUE=DATE:20260429
UID:132054802234
DESCRIPTION:2026-04-29【楽天ブックス限定先着特典+早期予約
 特典】マクロスF ギャラクシーライブ☆ファイナル 2025(
 完全生産限定・ヤックデカルチャー特装盤)【Blu-ray】(
 ナップザック+バックステージパス風ネックストラップ)
 シェリル・ノーム starring May'n/ランカ・リー=中島愛(株)
 フライングドッグ
LOCATION:
END:VEVENT
BEGIN:VEVENT
SUMMARY:マクロスF ギャラクシーライブ☆ファイナル 2025(
 完全生産限定・ヤックデカルチャー特装盤)【Blu-ray】
DTSTART;VALUE=DATE:20260428
DTEND;VALUE=DATE:20260429
UID:356962648804
DESCRIPTION:2026-04-29マクロスF ギャラクシーライブ☆ファ
 イナル 2025(完全生産限定・ヤックデカルチャー特装盤)
 【Blu-ray】シェリル・ノーム starring May'n/ランカ・リー=
 中島愛(株)フライングドッグ
LOCATION:
END:VEVENT
BEGIN:VEVENT
SUMMARY:マクロスF ギャラクシーライブ☆ファイナル 2025(
 通常盤)【Blu-ray】
DTSTART;VALUE=DATE:20260428
DTEND;VALUE=DATE:20260429
UID:102080673559
DESCRIPTION:2026-04-29マクロスF ギャラクシーライブ☆ファ
 イナル 2025(通常盤)【Blu-ray】シェリル・ノーム starring Ma
 y'n/ランカ・リー=中島愛(株)フライングドッグ
LOCATION:
END:VEVENT
BEGIN:VEVENT
SUMMARY:【楽天ブックス限定先着特典+早期予約特典】マ
 クロスF ギャラクシーライブ☆ファイナル 2025(限定盤)
 【Blu-ray】(ナップザック+バックステージパス風ネック
 ストラップ)
DTSTART;VALUE=DATE:20260428
DTEND;VALUE=DATE:20260429
UID:128543514796
DESCRIPTION:2026-04-29【楽天ブックス限定先着特典+早期予約
 特典】マクロスF ギャラクシーライブ☆ファイナル 2025(
 限定盤)【Blu-ray】(ナップザック+バックステージパス風
 ネックストラップ)シェリル・ノーム starring May'n/ランカ
 ・リー=中島愛(株)フライングドッグ
LOCATION:
END:VEVENT
BEGIN:VEVENT
SUMMARY:北北西に曇と往け 続の１
DTSTART;VALUE=DATE:20260429
DTEND;VALUE=DATE:20260430
UID:315361990949
DESCRIPTION:2026-04-30北北西に曇と往け 続の１入江 亜季雪
 割草
LOCATION:
END:VEVENT
END:VCALENDAR
