BEGIN:VCALENDAR
VERSION:2.0
PRODID:-//chikkutakku.com//RDFCal 1.0//EN
X-WR-CALDESC:GoogleカレンダーやiCalendar形式情報を共有シェ
 アしましょう。近所のイベントから全国のイベントま
 で今日のイベント検索やスケジュールを決めるならち
 っくたっく
X-WR-CALNAME:ちっくたっく
X-WR-TIMEZONE:UTC
BEGIN:VEVENT
SUMMARY:保育内容(表現Ⅰ)B
DTSTART;VALUE=DATE-TIME:20260423T234000Z
DTEND;VALUE=DATE-TIME:20260424T011000Z
UID:689446864567
DESCRIPTION:(高橋(由)) 絵画
LOCATION:
END:VEVENT
BEGIN:VEVENT
SUMMARY:人間学
DTSTART;VALUE=DATE-TIME:20260424T012000Z
DTEND;VALUE=DATE-TIME:20260424T025000Z
UID:248390992545
DESCRIPTION:(桂井) 講堂
LOCATION:
END:VEVENT
BEGIN:VEVENT
SUMMARY:子どもの食と栄養ⅠA
DTSTART;VALUE=DATE-TIME:20260424T033000Z
DTEND;VALUE=DATE-TIME:20260424T050000Z
UID:277083782882
DESCRIPTION:(寺山) 調理
LOCATION:(寺山) 調理
END:VEVENT
BEGIN:VEVENT
SUMMARY:子どもの食と栄養ⅠA
DTSTART;VALUE=DATE-TIME:20260424T051000Z
DTEND;VALUE=DATE-TIME:20260424T064000Z
UID:735604280116
DESCRIPTION:(寺山) 調理
LOCATION:(寺山) 調理
END:VEVENT
BEGIN:VEVENT
SUMMARY:保育内容総論
DTSTART;VALUE=DATE-TIME:20260426T234000Z
DTEND;VALUE=DATE-TIME:20260427T011000Z
UID:337835010243
DESCRIPTION:(工藤) 301
LOCATION:
END:VEVENT
BEGIN:VEVENT
SUMMARY:◆補講 鍵盤楽器基礎
DTSTART;VALUE=DATE-TIME:20260427T012000Z
DTEND;VALUE=DATE-TIME:20260427T025000Z
UID:189567716979
DESCRIPTION:(前田恵) 音楽リズム室
LOCATION:(前田恵) 音楽リズム室
END:VEVENT
BEGIN:VEVENT
SUMMARY:保育者論
DTSTART;VALUE=DATE-TIME:20260427T033000Z
DTEND;VALUE=DATE-TIME:20260427T050000Z
UID:592322008531
DESCRIPTION:(吉田(耕)) 301
LOCATION:
END:VEVENT
BEGIN:VEVENT
SUMMARY:保育者論
DTSTART;VALUE=DATE-TIME:20260427T051000Z
DTEND;VALUE=DATE-TIME:20260427T064000Z
UID:167650007623
DESCRIPTION:(吉田(耕)) 301
LOCATION:
END:VEVENT
BEGIN:VEVENT
SUMMARY:手話の世界
DTSTART;VALUE=DATE-TIME:20260427T065000Z
DTEND;VALUE=DATE-TIME:20260427T082000Z
UID:888243602488
DESCRIPTION:(髙野) 301
LOCATION:
END:VEVENT
BEGIN:VEVENT
SUMMARY:鍵盤楽器基礎A(棚瀬/稲垣)心理.音楽.器楽
DTSTART;VALUE=DATE-TIME:20260427T234000Z
DTEND;VALUE=DATE-TIME:20260428T011000Z
UID:210893564108
DESCRIPTION:鍵盤楽器基礎A(棚瀬/稲垣)心理.音楽.器楽
LOCATION:
END:VEVENT
BEGIN:VEVENT
SUMMARY:鍵盤楽器基礎B(棚瀬/稲垣)心理.音楽.器楽
DTSTART;VALUE=DATE-TIME:20260428T012000Z
DTEND;VALUE=DATE-TIME:20260428T025000Z
UID:222344313998
DESCRIPTION:鍵盤楽器基礎B(棚瀬/稲垣)心理.音楽.器楽
LOCATION:
END:VEVENT
BEGIN:VEVENT
SUMMARY:体育実技Ⅰ
DTSTART;VALUE=DATE-TIME:20260428T033000Z
DTEND;VALUE=DATE-TIME:20260428T050000Z
UID:144191747864
DESCRIPTION:(川岸) ｱﾘｰﾅ
LOCATION:
END:VEVENT
BEGIN:VEVENT
SUMMARY:教育と発達の心理学
DTSTART;VALUE=DATE-TIME:20260428T051000Z
DTEND;VALUE=DATE-TIME:20260428T064000Z
UID:285290273374
DESCRIPTION:(赤坂) 301
LOCATION:
END:VEVENT
BEGIN:VEVENT
SUMMARY:社会福祉
DTSTART;VALUE=DATE-TIME:20260428T065000Z
DTEND;VALUE=DATE-TIME:20260428T082000Z
UID:304615100209
DESCRIPTION:(阿部) 301
LOCATION:
END:VEVENT
BEGIN:VEVENT
SUMMARY:保育原理
DTSTART;VALUE=DATE-TIME:20260429T234000Z
DTEND;VALUE=DATE-TIME:20260430T011000Z
UID:350839031952
DESCRIPTION:(上村) 301
LOCATION:
END:VEVENT
BEGIN:VEVENT
SUMMARY:子どもの保健
DTSTART;VALUE=DATE-TIME:20260430T012000Z
DTEND;VALUE=DATE-TIME:20260430T025000Z
UID:884802685569
DESCRIPTION:(嶋田) 301
LOCATION:(嶋田) 301
END:VEVENT
BEGIN:VEVENT
SUMMARY:乳児保育Ⅰ
DTSTART;VALUE=DATE-TIME:20260430T033000Z
DTEND;VALUE=DATE-TIME:20260430T050000Z
UID:322984521629
DESCRIPTION:(冨山) 301
LOCATION:
END:VEVENT
BEGIN:VEVENT
SUMMARY:保育内容(表現Ⅰ)B
DTSTART;VALUE=DATE-TIME:20260430T234000Z
DTEND;VALUE=DATE-TIME:20260501T011000Z
UID:219701293654
DESCRIPTION:(高橋(由)) 絵画
LOCATION:
END:VEVENT
BEGIN:VEVENT
SUMMARY:人間学
DTSTART;VALUE=DATE-TIME:20260501T012000Z
DTEND;VALUE=DATE-TIME:20260501T025000Z
UID:893739225370
DESCRIPTION:(桂井) 講堂
LOCATION:
END:VEVENT
BEGIN:VEVENT
SUMMARY:■休講 子どもの食と栄養Ⅰ
DTSTART;VALUE=DATE-TIME:20260501T033000Z
DTEND;VALUE=DATE-TIME:20260501T050000Z
UID:187538336725
DESCRIPTION:(寺山) 調理
LOCATION:(寺山) 調理
END:VEVENT
BEGIN:VEVENT
SUMMARY:■休講 子どもの食と栄養Ⅰ
DTSTART;VALUE=DATE-TIME:20260501T051000Z
DTEND;VALUE=DATE-TIME:20260501T064000Z
UID:303700483771
DESCRIPTION:(寺山) 調理
LOCATION:(寺山) 調理
END:VEVENT
BEGIN:VEVENT
SUMMARY:保育原理
DTSTART;VALUE=DATE-TIME:20260506T234000Z
DTEND;VALUE=DATE-TIME:20260507T011000Z
UID:626574284247
DESCRIPTION:(上村) 301
LOCATION:
END:VEVENT
BEGIN:VEVENT
SUMMARY:子どもの保健
DTSTART;VALUE=DATE-TIME:20260507T012000Z
DTEND;VALUE=DATE-TIME:20260507T025000Z
UID:229533522354
DESCRIPTION:(嶋田) 301
LOCATION:(嶋田) 301
END:VEVENT
BEGIN:VEVENT
SUMMARY:乳児保育Ⅰ
DTSTART;VALUE=DATE-TIME:20260507T033000Z
DTEND;VALUE=DATE-TIME:20260507T050000Z
UID:285333703827
DESCRIPTION:(冨山) 301
LOCATION:
END:VEVENT
BEGIN:VEVENT
SUMMARY:保育内容(表現Ⅰ)B
DTSTART;VALUE=DATE-TIME:20260507T234000Z
DTEND;VALUE=DATE-TIME:20260508T011000Z
UID:168546178868
DESCRIPTION:(高橋(由)) 絵画
LOCATION:
END:VEVENT
BEGIN:VEVENT
SUMMARY:人間学
DTSTART;VALUE=DATE-TIME:20260508T012000Z
DTEND;VALUE=DATE-TIME:20260508T025000Z
UID:158472726835
DESCRIPTION:(桂井) 講堂
LOCATION:
END:VEVENT
BEGIN:VEVENT
SUMMARY:子どもの食と栄養B
DTSTART;VALUE=DATE-TIME:20260508T033000Z
DTEND;VALUE=DATE-TIME:20260508T050000Z
UID:630342167703
DESCRIPTION:(寺山) 調理
LOCATION:(寺山) 調理
END:VEVENT
BEGIN:VEVENT
SUMMARY:子どもの食と栄養B
DTSTART;VALUE=DATE-TIME:20260508T051000Z
DTEND;VALUE=DATE-TIME:20260508T064000Z
UID:289572444164
DESCRIPTION:(寺山) 調理
LOCATION:(寺山) 調理
END:VEVENT
END:VCALENDAR
