BEGIN:VCALENDAR
VERSION:2.0
PRODID:-//chikkutakku.com//RDFCal 1.0//EN
X-WR-CALDESC:GoogleカレンダーやiCalendar形式情報を共有シェ
 アしましょう。近所のイベントから全国のイベントま
 で今日のイベント検索やスケジュールを決めるならち
 っくたっく
X-WR-CALNAME:ちっくたっく
X-WR-TIMEZONE:UTC
BEGIN:VEVENT
SUMMARY:生物・生物基礎
DTSTART;VALUE=DATE-TIME:20260430T080000Z
DTEND;VALUE=DATE-TIME:20260430T090000Z
UID:194967423729
DESCRIPTION:生物・生物基礎
LOCATION:
END:VEVENT
BEGIN:VEVENT
SUMMARY:物理・物理基礎
DTSTART;VALUE=DATE-TIME:20260430T100000Z
DTEND;VALUE=DATE-TIME:20260430T110000Z
UID:199370398200
DESCRIPTION:物理・物理基礎
LOCATION:
END:VEVENT
BEGIN:VEVENT
SUMMARY:スタンダード～ハイレベル受験英語
DTSTART;VALUE=DATE-TIME:20260501T080000Z
DTEND;VALUE=DATE-TIME:20260501T093000Z
UID:215784212758
DESCRIPTION:スタンダード～ハイレベル受験英語
LOCATION:
END:VEVENT
BEGIN:VEVENT
SUMMARY:数学 
DTSTART;VALUE=DATE-TIME:20260501T100000Z
DTEND;VALUE=DATE-TIME:20260501T113000Z
UID:211855302118
DESCRIPTION:数学 
LOCATION:
END:VEVENT
BEGIN:VEVENT
SUMMARY:スタンダード～ハイレベル受験英語
DTSTART;VALUE=DATE-TIME:20260508T080000Z
DTEND;VALUE=DATE-TIME:20260508T093000Z
UID:248890048786
DESCRIPTION:スタンダード～ハイレベル受験英語
LOCATION:
END:VEVENT
BEGIN:VEVENT
SUMMARY:日本史
DTSTART;VALUE=DATE-TIME:20260511T080000Z
DTEND;VALUE=DATE-TIME:20260511T093000Z
UID:867934822182
DESCRIPTION:日本史
LOCATION:
END:VEVENT
BEGIN:VEVENT
SUMMARY:小論文　みんなでトレーニング
DTSTART;VALUE=DATE-TIME:20260511T100000Z
DTEND;VALUE=DATE-TIME:20260511T113000Z
UID:103338111136
DESCRIPTION:小論文　みんなでトレーニング
LOCATION:
END:VEVENT
BEGIN:VEVENT
SUMMARY:地理
DTSTART;VALUE=DATE-TIME:20260512T080000Z
DTEND;VALUE=DATE-TIME:20260512T093000Z
UID:214834534845
DESCRIPTION:地理
LOCATION:
END:VEVENT
BEGIN:VEVENT
SUMMARY:世界史
DTSTART;VALUE=DATE-TIME:20260512T100000Z
DTEND;VALUE=DATE-TIME:20260512T113000Z
UID:957693487535
DESCRIPTION:世界史
LOCATION:
END:VEVENT
BEGIN:VEVENT
SUMMARY:英作文のための生成AI活用術
DTSTART;VALUE=DATE-TIME:20260512T120000Z
DTEND;VALUE=DATE-TIME:20260512T130000Z
UID:962369966745
DESCRIPTION:英作文のための生成AI活用術
LOCATION:
END:VEVENT
BEGIN:VEVENT
SUMMARY:政治・経済
DTSTART;VALUE=DATE-TIME:20260513T080000Z
DTEND;VALUE=DATE-TIME:20260513T093000Z
UID:714623980534
DESCRIPTION:政治・経済
LOCATION:
END:VEVENT
BEGIN:VEVENT
SUMMARY:理科特別授業
DTSTART;VALUE=DATE-TIME:20260514T080000Z
DTEND;VALUE=DATE-TIME:20260514T090000Z
UID:199883499666
DESCRIPTION:理科特別授業
LOCATION:
END:VEVENT
BEGIN:VEVENT
SUMMARY:スタンダード～ハイレベル受験英語
DTSTART;VALUE=DATE-TIME:20260515T080000Z
DTEND;VALUE=DATE-TIME:20260515T093000Z
UID:321086616503
DESCRIPTION:スタンダード～ハイレベル受験英語
LOCATION:
END:VEVENT
BEGIN:VEVENT
SUMMARY:数学 
DTSTART;VALUE=DATE-TIME:20260515T100000Z
DTEND;VALUE=DATE-TIME:20260515T113000Z
UID:288198983406
DESCRIPTION:数学 
LOCATION:
END:VEVENT
BEGIN:VEVENT
SUMMARY:世界史
DTSTART;VALUE=DATE-TIME:20260519T100000Z
DTEND;VALUE=DATE-TIME:20260519T113000Z
UID:240719398674
DESCRIPTION:世界史
LOCATION:
END:VEVENT
BEGIN:VEVENT
SUMMARY:ひろって、つなげて、正解！古文あてはめ「メソ
 ッド」
DTSTART;VALUE=DATE-TIME:20260520T080000Z
DTEND;VALUE=DATE-TIME:20260520T093000Z
UID:873246432958
DESCRIPTION:ひろって、つなげて、正解！古文あてはめ「
 メソッド」
LOCATION:
END:VEVENT
BEGIN:VEVENT
SUMMARY:生物・生物基礎
DTSTART;VALUE=DATE-TIME:20260521T080000Z
DTEND;VALUE=DATE-TIME:20260521T090000Z
UID:235671642094
DESCRIPTION:生物・生物基礎
LOCATION:
END:VEVENT
BEGIN:VEVENT
SUMMARY:物理・物理基礎
DTSTART;VALUE=DATE-TIME:20260521T100000Z
DTEND;VALUE=DATE-TIME:20260521T110000Z
UID:296202641122
DESCRIPTION:物理・物理基礎
LOCATION:
END:VEVENT
BEGIN:VEVENT
SUMMARY:スタンダード～ハイレベル受験英語
DTSTART;VALUE=DATE-TIME:20260522T080000Z
DTEND;VALUE=DATE-TIME:20260522T093000Z
UID:208820270069
DESCRIPTION:スタンダード～ハイレベル受験英語
LOCATION:
END:VEVENT
BEGIN:VEVENT
SUMMARY:数学 
DTSTART;VALUE=DATE-TIME:20260522T100000Z
DTEND;VALUE=DATE-TIME:20260522T113000Z
UID:139364672768
DESCRIPTION:数学 
LOCATION:
END:VEVENT
END:VCALENDAR
