BEGIN:VCALENDAR
VERSION:2.0
PRODID:-//chikkutakku.com//RDFCal 1.0//EN
X-WR-CALDESC:GoogleカレンダーやiCalendar形式情報を共有シェ
 アしましょう。近所のイベントから全国のイベントま
 で今日のイベント検索やスケジュールを決めるならち
 っくたっく
X-WR-CALNAME:ちっくたっく
X-WR-TIMEZONE:UTC
BEGIN:VEVENT
SUMMARY:香港科技大學教授演講
DTSTART;VALUE=DATE-TIME:20260430T070000Z
DTEND;VALUE=DATE-TIME:20260430T090000Z
UID:187394897789
DESCRIPTION:聯絡人: 何佳安
LOCATION:
END:VEVENT
BEGIN:VEVENT
SUMMARY:生化科技實驗法 (生技系/李昆達)
DTSTART;VALUE=DATE-TIME:20260506T041000Z
DTEND;VALUE=DATE-TIME:20260506T051000Z
UID:312345079043
DESCRIPTION:聯絡人: 張競文
LOCATION:
END:VEVENT
BEGIN:VEVENT
SUMMARY:生技系大學入學二階口試
DTSTART;VALUE=DATE-TIME:20260519T092000Z
DTEND;VALUE=DATE-TIME:20260519T140000Z
UID:317566743561
DESCRIPTION:聯絡人: 林雅玲
LOCATION:
END:VEVENT
BEGIN:VEVENT
SUMMARY:生技系大學入學二階口試
DTSTART;VALUE=DATE-TIME:20260520T092000Z
DTEND;VALUE=DATE-TIME:20260520T140000Z
UID:274055472429
DESCRIPTION:聯絡人: 林雅玲
LOCATION:
END:VEVENT
END:VCALENDAR
