BEGIN:VCALENDAR
VERSION:2.0
PRODID:-//chikkutakku.com//RDFCal 1.0//EN
X-WR-CALDESC:GoogleカレンダーやiCalendar形式情報を共有シェ
 アしましょう。近所のイベントから全国のイベントま
 で今日のイベント検索やスケジュールを決めるならち
 っくたっく
X-WR-CALNAME:ちっくたっく
X-WR-TIMEZONE:UTC
BEGIN:VEVENT
SUMMARY:くーねるまるた ぬーぼ（19）
DTSTART;VALUE=DATE:20260429
DTEND;VALUE=DATE:20260430
UID:431991957494
DESCRIPTION:2026-04-30くーねるまるた ぬーぼ（19）高尾 じん
 ぐ小学館
LOCATION:
END:VEVENT
BEGIN:VEVENT
SUMMARY:青春マッチングアプリ 1
DTSTART;VALUE=DATE:20260430
DTEND;VALUE=DATE:20260501
UID:271691600920
DESCRIPTION:2026-05-01青春マッチングアプリ 1宮花ゆう/江ノ
 島アビス/植田 亮ホビージャパン
LOCATION:
END:VEVENT
BEGIN:VEVENT
SUMMARY:はたらく細胞 猫（5）
DTSTART;VALUE=DATE:20260507
DTEND;VALUE=DATE:20260508
UID:143426750305
DESCRIPTION:2026-05-08はたらく細胞 猫（5）かいれ めく/蒼空
  チョコ/清水 茜講談社
LOCATION:
END:VEVENT
BEGIN:VEVENT
SUMMARY:鎌倉ものがたり・魔界編 鎌倉スタンプラリー
DTSTART;VALUE=DATE:20260510
DTEND;VALUE=DATE:20260511
UID:132547227857
DESCRIPTION:2026-05-11鎌倉ものがたり・魔界編 鎌倉スタンプ
 ラリー西岸良平双葉社
LOCATION:
END:VEVENT
END:VCALENDAR
