BEGIN:VCALENDAR
VERSION:2.0
PRODID:-//chikkutakku.com//RDFCal 1.0//EN
X-WR-CALDESC:GoogleカレンダーやiCalendar形式情報を共有シェ
 アしましょう。近所のイベントから全国のイベントま
 で今日のイベント検索やスケジュールを決めるならち
 っくたっく
X-WR-CALNAME:ちっくたっく
X-WR-TIMEZONE:UTC
BEGIN:VEVENT
SUMMARY:AI Seminar - Prabhat Nagarajan - Accelerating Deep Q-learning with
  the Mean-expansion Layer
DTSTART;VALUE=DATE-TIME:20260424T180000Z
DTEND;VALUE=DATE-TIME:20260424T190000Z
UID:109853668809
DESCRIPTION:Zoom link   Password: Spr!ng2023    For talk details and
  to RSVP for the pizza lunch\, see the AI Seminar webpage.Send questions 
 to bobbyjo@ualberta.ca
LOCATION:University Commons Room 2-108\, UCOMM-2-2-108 (36)
END:VEVENT
BEGIN:VEVENT
SUMMARY:AI Seminar - Dr. Amber Simpson
DTSTART;VALUE=DATE-TIME:20260501T180000Z
DTEND;VALUE=DATE-TIME:20260501T190000Z
UID:525346751448
DESCRIPTION:Zoom link   Password: Spr!ng2023    For talk details and
  to RSVP for the pizza lunch\, see the AI Seminar webpage.Send questions 
 to bobbyjo@ualberta.ca
LOCATION:Amii HQ 2nd floor event space at 10065 Jasper Ave
END:VEVENT
BEGIN:VEVENT
SUMMARY:AI Seminar - Dr. Liam McCoy - Superhuman Yet Fallible: Understandi
 ng the Clinical Capabilities of LLMs
DTSTART;VALUE=DATE-TIME:20260508T180000Z
DTEND;VALUE=DATE-TIME:20260508T190000Z
UID:239008694405
DESCRIPTION:Zoom link   Password: Spr!ng2023    For talk details and
  to RSVP for the pizza lunch\, see the AI Seminar webpage.Send questions 
 to bobbyjo@ualberta.ca
LOCATION:University Commons Room 2-108\, UCOMM-2-2-108 (36)
END:VEVENT
BEGIN:VEVENT
SUMMARY:AI Seminar - Dashti Ali - Topological Data Analysis for Medical Im
 aging
DTSTART;VALUE=DATE-TIME:20260515T180000Z
DTEND;VALUE=DATE-TIME:20260515T190000Z
UID:149656652996
DESCRIPTION:Zoom link   Password: Spr!ng2023    For talk details and
  to RSVP for the pizza lunch\, see the AI Seminar webpage.Send questions 
 to bobbyjo@ualberta.ca
LOCATION:University Commons Room 2-108\, UCOMM-2-2-108 (36)
END:VEVENT
END:VCALENDAR
