BEGIN:VCALENDAR
VERSION:2.0
PRODID:-//chikkutakku.com//RDFCal 1.0//EN
X-WR-CALDESC:GoogleカレンダーやiCalendar形式情報を共有シェ
 アしましょう。近所のイベントから全国のイベントま
 で今日のイベント検索やスケジュールを決めるならち
 っくたっく
X-WR-CALNAME:ちっくたっく
X-WR-TIMEZONE:UTC
BEGIN:VEVENT
SUMMARY:ようこそ実力至上主義の教室へ 2年生編 2nd Stage 2
DTSTART;VALUE=DATE:20260422
DTEND;VALUE=DATE:20260423
UID:266541557831
DESCRIPTION:2026-04-23ようこそ実力至上主義の教室へ 2年生
 編 2nd Stage 2駒田 ハチ/衣笠彰梧/トモセ シュンサクKADOKAW
 A
LOCATION:
END:VEVENT
BEGIN:VEVENT
SUMMARY:アラフォー賢者の異世界生活日記21
DTSTART;VALUE=DATE:20260423
DTEND;VALUE=DATE:20260424
UID:203465874377
DESCRIPTION:2026-04-24アラフォー賢者の異世界生活日記21寿
 安清/ジョンディーKADOKAWA
LOCATION:
END:VEVENT
BEGIN:VEVENT
SUMMARY:ノーゲーム・ノーライフ13 ゲーマー兄妹たちは『
 魔王』を討つ（すくう）ようです
DTSTART;VALUE=DATE:20260423
DTEND;VALUE=DATE:20260424
UID:127344541332
DESCRIPTION:2026-04-24ノーゲーム・ノーライフ13 ゲーマー兄
 妹たちは『魔王』を討つ（すくう）ようです榎宮 祐KADO
 KAWA
LOCATION:
END:VEVENT
BEGIN:VEVENT
SUMMARY:恋文と13歳の女優 8
DTSTART;VALUE=DATE:20260427
DTEND;VALUE=DATE:20260428
UID:175613531977
DESCRIPTION:2026-04-28恋文と13歳の女優 8じゃが芳文社
LOCATION:
END:VEVENT
BEGIN:VEVENT
SUMMARY:Only Sense Online 23 -オンリーセンス・オンラインー
DTSTART;VALUE=DATE:20260506
DTEND;VALUE=DATE:20260507
UID:153234620080
DESCRIPTION:2026-05-07Only Sense Online 23 -オンリーセンス・オン
 ラインー羽仁 倉雲/アロハ 座長/ゆきさんKADOKAWA
LOCATION:
END:VEVENT
BEGIN:VEVENT
SUMMARY:ダンジョンの中のひと（7）
DTSTART;VALUE=DATE:20260513
DTEND;VALUE=DATE:20260514
UID:180086231252
DESCRIPTION:2026-05-14ダンジョンの中のひと（7）双見酔双葉
 社
LOCATION:
END:VEVENT
BEGIN:VEVENT
SUMMARY:四度目は嫌な死属性魔術師（16）
DTSTART;VALUE=DATE:20260514
DTEND;VALUE=DATE:20260515
UID:605626159327
DESCRIPTION:2026-05-15四度目は嫌な死属性魔術師（16）デン
 スケ/ばん！一二三書房
LOCATION:
END:VEVENT
BEGIN:VEVENT
SUMMARY:クプルムの花嫁 8
DTSTART;VALUE=DATE:20260514
DTEND;VALUE=DATE:20260515
UID:849114176874
DESCRIPTION:2026-05-15クプルムの花嫁 8namoKADOKAWA
LOCATION:
END:VEVENT
BEGIN:VEVENT
SUMMARY:転生したらスライムだった件 囚われの暴風竜 15 
 （下）
DTSTART;VALUE=DATE:20260514
DTEND;VALUE=DATE:20260515
UID:200842658063
DESCRIPTION:2026-05-15転生したらスライムだった件 囚われの
 暴風竜 15 （下）伏瀬/もりょマイクロマガジン社
LOCATION:
END:VEVENT
BEGIN:VEVENT
SUMMARY:アラフォー賢者の異世界生活日記 ZERO -ソード・
 アンド・ソーサリス・ワールドー 1
DTSTART;VALUE=DATE:20260517
DTEND;VALUE=DATE:20260518
UID:269304645679
DESCRIPTION:2026-05-18アラフォー賢者の異世界生活日記 ZERO -
 ソード・アンド・ソーサリス・ワールドー 1羽鳥ぴよこ
 /寿安清フロンティアワークス
LOCATION:
END:VEVENT
END:VCALENDAR
