BEGIN:VCALENDAR
VERSION:2.0
PRODID:-//chikkutakku.com//RDFCal 1.0//EN
X-WR-CALDESC:GoogleカレンダーやiCalendar形式情報を共有シェ
 アしましょう。近所のイベントから全国のイベントま
 で今日のイベント検索やスケジュールを決めるならち
 っくたっく
X-WR-CALNAME:ちっくたっく
X-WR-TIMEZONE:UTC
BEGIN:VEVENT
SUMMARY:【早期予約特典】TAKE IT ROSY! (初回限定盤 2CD＋Photo
 book＋2SHOTフォトスタンド)(「TAKE IT ROSY！」オリジナルA5
 クリアファイル絵柄C)
DTSTART;VALUE=DATE:20260505
DTEND;VALUE=DATE:20260506
UID:234320507194
DESCRIPTION:2026-05-06【早期予約特典】TAKE IT ROSY! (初回限定
 盤 2CD＋Photobook＋2SHOTフォトスタンド)(「TAKE IT ROSY！」オ
 リジナルA5クリアファイル絵柄C)及川光博ビクターエン
 タテインメント
LOCATION:
END:VEVENT
BEGIN:VEVENT
SUMMARY:【早期予約特典】TAKE IT ROSY! (通常盤)(「TAKE IT ROSY
 ！」オリジナルA5クリアファイル絵柄C)
DTSTART;VALUE=DATE:20260505
DTEND;VALUE=DATE:20260506
UID:179582438031
DESCRIPTION:2026-05-06【早期予約特典】TAKE IT ROSY! (通常盤)(
 「TAKE IT ROSY！」オリジナルA5クリアファイル絵柄C)及川
 光博ビクターエンタテインメント
LOCATION:
END:VEVENT
BEGIN:VEVENT
SUMMARY:TAKE IT ROSY! (初回限定盤 2CD＋Photobook＋2SHOTフォトス
 タンド)
DTSTART;VALUE=DATE:20260505
DTEND;VALUE=DATE:20260506
UID:124780954860
DESCRIPTION:2026-05-06TAKE IT ROSY! (初回限定盤 2CD＋Photobook＋2SH
 OTフォトスタンド)及川光博ビクターエンタテインメン
 ト
LOCATION:
END:VEVENT
BEGIN:VEVENT
SUMMARY:TAKE IT ROSY! (通常盤)
DTSTART;VALUE=DATE:20260505
DTEND;VALUE=DATE:20260506
UID:140504953376
DESCRIPTION:2026-05-06TAKE IT ROSY! (通常盤)及川光博ビクターエ
 ンタテインメント
LOCATION:
END:VEVENT
BEGIN:VEVENT
SUMMARY:せかたびスペイン
DTSTART;VALUE=DATE:20260506
DTEND;VALUE=DATE:20260507
UID:191966124639
DESCRIPTION:2026-05-07せかたびスペインJTBパブリッシング 旅
 行ガイドブック 編集部JTBパブリッシング
LOCATION:
END:VEVENT
BEGIN:VEVENT
SUMMARY:フラメンコ ベスト
DTSTART;VALUE=DATE:20260512
DTEND;VALUE=DATE:20260513
UID:332409194532
DESCRIPTION:2026-05-13フラメンコ ベスト(V.A.)キングレコード
 (株)
LOCATION:
END:VEVENT
BEGIN:VEVENT
SUMMARY:スペイン語の認知言語学
DTSTART;VALUE=DATE:20260513
DTEND;VALUE=DATE:20260514
UID:726715419386
DESCRIPTION:2026-05-14スペイン語の認知言語学田林 洋一開拓
 社
LOCATION:
END:VEVENT
END:VCALENDAR
