BEGIN:VCALENDAR
VERSION:2.0
PRODID:-//chikkutakku.com//RDFCal 1.0//EN
X-WR-CALDESC:GoogleカレンダーやiCalendar形式情報を共有シェ
 アしましょう。近所のイベントから全国のイベントま
 で今日のイベント検索やスケジュールを決めるならち
 っくたっく
X-WR-CALNAME:ちっくたっく
X-WR-TIMEZONE:UTC
BEGIN:VEVENT
SUMMARY:新・小料理のどか屋 人情帖1 再起の灯
DTSTART;VALUE=DATE:20260426
DTEND;VALUE=DATE:20260427
UID:198875210779
DESCRIPTION:2026-04-27新・小料理のどか屋 人情帖1 再起の灯
 倉阪鬼一郎二見書房
LOCATION:
END:VEVENT
BEGIN:VEVENT
SUMMARY:60分でわかる！ LLMO 超入門
DTSTART;VALUE=DATE:20260426
DTEND;VALUE=DATE:20260427
UID:219477766782
DESCRIPTION:2026-04-2760分でわかる！ LLMO 超入門株式会社PLAN-
 Bマーケティングパートナーズ 出田 晴之技術評論社
LOCATION:
END:VEVENT
BEGIN:VEVENT
SUMMARY:睡眠を科学する
DTSTART;VALUE=DATE:20260426
DTEND;VALUE=DATE:20260427
UID:101632412474
DESCRIPTION:2026-04-27睡眠を科学するヘザー ダーウォル=ス
 ミス/櫻井 武東京書籍
LOCATION:
END:VEVENT
BEGIN:VEVENT
SUMMARY:ゼロからはじめる Galaxy S26／S26+／S26 Ultra スマー
 トガイド ［ドコモ／au／ソフトバンク／楽天モバイル
 ／SIMフリー対応版］
DTSTART;VALUE=DATE:20260426
DTEND;VALUE=DATE:20260427
UID:289216924045
DESCRIPTION:2026-04-27ゼロからはじめる Galaxy S26／S26+／S26 Ult
 ra スマートガイド ［ドコモ／au／ソフトバンク／楽天
 モバイル／SIMフリー対応版］技術評論社編集部技術評
 論社
LOCATION:
END:VEVENT
BEGIN:VEVENT
SUMMARY:怪と幽 vol.022 2026年5月
DTSTART;VALUE=DATE:20260426
DTEND;VALUE=DATE:20260427
UID:590707419080
DESCRIPTION:2026-04-27怪と幽 vol.022 2026年5月京極 夏彦/綿矢 
 りさ/小川 洋子/澤村伊智/乙 一/山白 朝子KADOKAWA
LOCATION:
END:VEVENT
BEGIN:VEVENT
SUMMARY:とらドラ！(12)
DTSTART;VALUE=DATE:20260426
DTEND;VALUE=DATE:20260427
UID:252324648572
DESCRIPTION:2026-04-27とらドラ！(12)竹宮 ゆゆこ/絶叫/ヤスKAD
 OKAWA
LOCATION:
END:VEVENT
BEGIN:VEVENT
SUMMARY:子ども脳疲労
DTSTART;VALUE=DATE:20260427
DTEND;VALUE=DATE:20260428
UID:302982848186
DESCRIPTION:2026-04-28子ども脳疲労成田 奈緒子日本文芸社
LOCATION:
END:VEVENT
BEGIN:VEVENT
SUMMARY:オフィスの魔力 人・金・夢を引き寄せる「儲か
 る会社」の作り方
DTSTART;VALUE=DATE:20260427
DTEND;VALUE=DATE:20260428
UID:198611658274
DESCRIPTION:2026-04-28オフィスの魔力 人・金・夢を引き寄せ
 る「儲かる会社」の作り方近藤 悦康幻冬舎
LOCATION:
END:VEVENT
BEGIN:VEVENT
SUMMARY:赤ちゃんのホンネ
DTSTART;VALUE=DATE:20260427
DTEND;VALUE=DATE:20260428
UID:341860884322
DESCRIPTION:2026-04-28赤ちゃんのホンネ森田綾クリエイツか
 もがわ
LOCATION:
END:VEVENT
BEGIN:VEVENT
SUMMARY:はじめての生成AI NotebookLM「超」活用術
DTSTART;VALUE=DATE:20260427
DTEND;VALUE=DATE:20260428
UID:630620559741
DESCRIPTION:2026-04-28はじめての生成AI NotebookLM「超」活用術
 大城一輝ソーテック社
LOCATION:
END:VEVENT
BEGIN:VEVENT
SUMMARY:ボールアンドチェイン 5
DTSTART;VALUE=DATE:20260427
DTEND;VALUE=DATE:20260428
UID:750096655194
DESCRIPTION:2026-04-28ボールアンドチェイン 5南Q太マガジン
 ハウス
LOCATION:
END:VEVENT
BEGIN:VEVENT
SUMMARY:【新装版】クレバテスー魔獣の王と赤子と屍の勇
 者ー 12
DTSTART;VALUE=DATE:20260427
DTEND;VALUE=DATE:20260428
UID:168050500104
DESCRIPTION:2026-04-28【新装版】クレバテスー魔獣の王と赤
 子と屍の勇者ー 12岩原 裕二KADOKAWA
LOCATION:
END:VEVENT
BEGIN:VEVENT
SUMMARY:倫敦スコーンの謎
DTSTART;VALUE=DATE:20260429
DTEND;VALUE=DATE:20260430
UID:299244984851
DESCRIPTION:2026-04-30倫敦スコーンの謎米澤穂信東京創元社
LOCATION:
END:VEVENT
BEGIN:VEVENT
SUMMARY:Google Pixel便利すぎる！テクニック2026（知らなか
 った使い方を新発見！）
DTSTART;VALUE=DATE:20260429
DTEND;VALUE=DATE:20260430
UID:385036686047
DESCRIPTION:2026-04-30Google Pixel便利すぎる！テクニック2026（
 知らなかった使い方を新発見！）standardsスタンダーズ
LOCATION:
END:VEVENT
BEGIN:VEVENT
SUMMARY:卑弥呼 -真説・邪馬台国伝ー（20）
DTSTART;VALUE=DATE:20260429
DTEND;VALUE=DATE:20260430
UID:943793354330
DESCRIPTION:2026-04-30卑弥呼 -真説・邪馬台国伝ー（20）リチ
 ャード・ウー/中村 真理子小学館
LOCATION:
END:VEVENT
BEGIN:VEVENT
SUMMARY:現代のグローバル企業の分析
DTSTART;VALUE=DATE:20260429
DTEND;VALUE=DATE:20260430
UID:229854886414
DESCRIPTION:2026-04-30現代のグローバル企業の分析企業分析
 研究会新日本出版社
LOCATION:
END:VEVENT
BEGIN:VEVENT
SUMMARY:プライド 風魔小太郎忍法帖（全2巻セット）
DTSTART;VALUE=DATE:20260429
DTEND;VALUE=DATE:20260430
UID:122246689477
DESCRIPTION:2026-04プライド 風魔小太郎忍法帖（全2巻セッ
 ト）小前亮/遠田志帆小峰書店
LOCATION:
END:VEVENT
BEGIN:VEVENT
SUMMARY:最恐ホラー 忌まわしい土地
DTSTART;VALUE=DATE:20260429
DTEND;VALUE=DATE:20260430
UID:321173163281
DESCRIPTION:2026-04-30最恐ホラー 忌まわしい土地福澤 徹三/
 矢樹 純講談社
LOCATION:
END:VEVENT
BEGIN:VEVENT
SUMMARY:最恐ホラー 嫌な記憶
DTSTART;VALUE=DATE:20260429
DTEND;VALUE=DATE:20260430
UID:282962085635
DESCRIPTION:2026-04-30最恐ホラー 嫌な記憶貴志 祐介/荻堂 顕
 講談社
LOCATION:
END:VEVENT
BEGIN:VEVENT
SUMMARY:本当にあった怖くて笑える話！全国小学生おばけ
 手帖（3冊セット）
DTSTART;VALUE=DATE:20260429
DTEND;VALUE=DATE:20260430
UID:677320674036
DESCRIPTION:2026-04本当にあった怖くて笑える話！全国小学
 生おばけ手帖（3冊セット）田辺青蛙/岩田すず静山社
LOCATION:
END:VEVENT
BEGIN:VEVENT
SUMMARY:脳をオフにせよ 仕事も人間関係もうまくいく集
 中術
DTSTART;VALUE=DATE:20260429
DTEND;VALUE=DATE:20260430
UID:168468797434
DESCRIPTION:2026-04-30脳をオフにせよ 仕事も人間関係もうま
 くいく集中術マルク・ティッヘラー/オスカル・デ・ボ
 ス/児島 修日経BP
LOCATION:
END:VEVENT
BEGIN:VEVENT
SUMMARY:北北西に曇と往け 続の１
DTSTART;VALUE=DATE:20260429
DTEND;VALUE=DATE:20260430
UID:278695155352
DESCRIPTION:2026-04-30北北西に曇と往け 続の１入江 亜季雪
 割草
LOCATION:
END:VEVENT
BEGIN:VEVENT
SUMMARY:銀色の道
DTSTART;VALUE=DATE:20260429
DTEND;VALUE=DATE:20260430
UID:115296076485
DESCRIPTION:2026-04銀色の道荒平渚文芸社
LOCATION:
END:VEVENT
BEGIN:VEVENT
SUMMARY:倫敦スコーンの謎
DTSTART;VALUE=DATE:20260429
DTEND;VALUE=DATE:20260430
UID:123371429689
DESCRIPTION:2026-04-30倫敦スコーンの謎米澤穂信東京創元社
LOCATION:
END:VEVENT
BEGIN:VEVENT
SUMMARY:レ・セルバン（9）
DTSTART;VALUE=DATE:20260429
DTEND;VALUE=DATE:20260430
UID:280668625771
DESCRIPTION:2026-04-30レ・セルバン（9）濱田 浩輔小学館
LOCATION:
END:VEVENT
BEGIN:VEVENT
SUMMARY:北北西に曇と往け 続の１
DTSTART;VALUE=DATE:20260429
DTEND;VALUE=DATE:20260430
UID:453078784116
DESCRIPTION:2026-04-30北北西に曇と往け 続の１入江 亜季雪
 割草
LOCATION:
END:VEVENT
BEGIN:VEVENT
SUMMARY:レ・セルバン（９）
DTSTART;VALUE=DATE:20260429
DTEND;VALUE=DATE:20260430
UID:223510703225
DESCRIPTION:2026-04-30レ・セルバン（９）濱田浩輔小学館
LOCATION:
END:VEVENT
BEGIN:VEVENT
SUMMARY:エンペラーズ 三国志（1）
DTSTART;VALUE=DATE:20260430
DTEND;VALUE=DATE:20260501
UID:290463473869
DESCRIPTION:2026-05-01エンペラーズ 三国志（1）赤名 修/北方
  謙三角川春樹事務所
LOCATION:
END:VEVENT
BEGIN:VEVENT
SUMMARY:新・美の常識 ― 腸×脳×肌  美のトライアングル
 が「きれい」をつくる
DTSTART;VALUE=DATE:20260430
DTEND;VALUE=DATE:20260501
UID:178288142631
DESCRIPTION:2026-05-01新・美の常識 ― 腸×脳×肌  美のトラ
 イアングルが「きれい」をつくる鈴木 稚子評言社
LOCATION:
END:VEVENT
BEGIN:VEVENT
SUMMARY:業務効率を200％アップ！AI＆ICT活用の最強仕事術
DTSTART;VALUE=DATE:20260430
DTEND;VALUE=DATE:20260501
UID:132917238694
DESCRIPTION:2026-05-01業務効率を200％アップ！AI＆ICT活用の
 最強仕事術八重山 智也明治図書出版
LOCATION:
END:VEVENT
BEGIN:VEVENT
SUMMARY:クライマックスネクロマンス　４巻
DTSTART;VALUE=DATE:20260430
DTEND;VALUE=DATE:20260501
UID:495972418374
DESCRIPTION:2026-05-01クライマックスネクロマンス　４巻水
 上悟志/瀬戸一里少年画報社
LOCATION:
END:VEVENT
BEGIN:VEVENT
SUMMARY:世界一わかりやすいGoogleサービス 最新版
DTSTART;VALUE=DATE:20260501
DTEND;VALUE=DATE:20260502
UID:464518573952
DESCRIPTION:2026-05-02世界一わかりやすいGoogleサービス 最新
 版ゲットナビ編集部株式会社ワン・パブリッシング
LOCATION:
END:VEVENT
BEGIN:VEVENT
SUMMARY:将棋世界 2026年 6月号 [雑誌]
DTSTART;VALUE=DATE:20260501
DTEND;VALUE=DATE:20260502
UID:161392575819
DESCRIPTION:2026-05-02将棋世界 2026年 6月号 [雑誌]マイナビ
LOCATION:
END:VEVENT
BEGIN:VEVENT
SUMMARY:口コミ時代のクリニック経営術
DTSTART;VALUE=DATE:20260502
DTEND;VALUE=DATE:20260503
UID:144767476468
DESCRIPTION:2026-05-03口コミ時代のクリニック経営術松本 学
 日本医事新報社
LOCATION:
END:VEVENT
BEGIN:VEVENT
SUMMARY:子どもの生活と遊びVol.4 生活 -こどもとともに生
 きる-
DTSTART;VALUE=DATE:20260504
DTEND;VALUE=DATE:20260505
UID:339982709980
DESCRIPTION:2026-05-05子どもの生活と遊びVol.4 生活 -こども
 とともに生きる-松本 崇史/久保田 幸年/森 道子/杉山 健
 人庭プレス
LOCATION:
END:VEVENT
BEGIN:VEVENT
SUMMARY:国際山岳医が教える 50歳からのスロー登山
DTSTART;VALUE=DATE:20260506
DTEND;VALUE=DATE:20260507
UID:140332917984
DESCRIPTION:2026-05-07国際山岳医が教える 50歳からのスロー
 登山大城和恵ビジネス社
LOCATION:
END:VEVENT
BEGIN:VEVENT
SUMMARY:Pythonによる はじめての地理空間データサイエン
 ス
DTSTART;VALUE=DATE:20260506
DTEND;VALUE=DATE:20260507
UID:232068823498
DESCRIPTION:2026-05-07Pythonによる はじめての地理空間データ
 サイエンス植杉大森北出版
LOCATION:
END:VEVENT
BEGIN:VEVENT
SUMMARY:東島丹三郎は仮面ライダーになりたい（18）
DTSTART;VALUE=DATE:20260506
DTEND;VALUE=DATE:20260507
UID:260518892298
DESCRIPTION:2026-05-07東島丹三郎は仮面ライダーになりたい
 （18）柴田 ヨクサルヒーローズ
LOCATION:
END:VEVENT
BEGIN:VEVENT
SUMMARY:ホラーの扉
DTSTART;VALUE=DATE:20260506
DTEND;VALUE=DATE:20260507
UID:326518679321
DESCRIPTION:2026-05-07ホラーの扉株式会社闇/澤村 伊智/芦花 
 公園/平山 夢明/雨穴/五味 弘文河出書房新社
LOCATION:
END:VEVENT
BEGIN:VEVENT
SUMMARY:Discover Japan (ディスカバー・ジャパン) 2026年 6月号
  [雑誌]
DTSTART;VALUE=DATE:20260506
DTEND;VALUE=DATE:20260507
UID:297728063868
DESCRIPTION:2026-05-07Discover Japan (ディスカバー・ジャパン) 2
 026年 6月号 [雑誌]ディスカバー・ジャパン
LOCATION:
END:VEVENT
BEGIN:VEVENT
SUMMARY:空き家と移住
DTSTART;VALUE=DATE:20260506
DTEND;VALUE=DATE:20260507
UID:298844794387
DESCRIPTION:2026-05-07空き家と移住垣谷美雨朝日新聞出版
LOCATION:
END:VEVENT
BEGIN:VEVENT
SUMMARY:本屋さんのある街で
DTSTART;VALUE=DATE:20260507
DTEND;VALUE=DATE:20260508
UID:350490490317
DESCRIPTION:2026-05-08本屋さんのある街で凪良 ゆう/瀬尾 ま
 いこ/坂木 司/一穂 ミチ/三浦 しをん文藝春秋
LOCATION:
END:VEVENT
BEGIN:VEVENT
SUMMARY:真夜中に彼女たちは 社労士のヒナコ
DTSTART;VALUE=DATE:20260507
DTEND;VALUE=DATE:20260508
UID:205905470334
DESCRIPTION:2026-05-08真夜中に彼女たちは 社労士のヒナコ水
 生 大海文藝春秋
LOCATION:
END:VEVENT
BEGIN:VEVENT
SUMMARY:るるぶ バリ島 '27
DTSTART;VALUE=DATE:20260507
DTEND;VALUE=DATE:20260508
UID:309281808761
DESCRIPTION:2026-05-08るるぶ バリ島 '27JTBパブリッシング 旅
 行ガイドブック 編集部JTBパブリッシング
LOCATION:
END:VEVENT
BEGIN:VEVENT
SUMMARY:るるぶ バリ島 '27 ちいサイズ
DTSTART;VALUE=DATE:20260507
DTEND;VALUE=DATE:20260508
UID:299092034533
DESCRIPTION:2026-05-08るるぶ バリ島 '27 ちいサイズJTBパブリ
 ッシング 旅行ガイドブック 編集部JTBパブリッシング
LOCATION:
END:VEVENT
BEGIN:VEVENT
SUMMARY:抗疲労・抗ストレス・睡眠改善食品の開発《普及
 版》
DTSTART;VALUE=DATE:20260507
DTEND;VALUE=DATE:20260508
UID:332962702190
DESCRIPTION:2026-05-08抗疲労・抗ストレス・睡眠改善食品の
 開発《普及版》井上和生/山崎英恵シーエムシー出版
LOCATION:
END:VEVENT
BEGIN:VEVENT
SUMMARY:クライマックスネクロマンス 4
DTSTART;VALUE=DATE:20260507
DTEND;VALUE=DATE:20260508
UID:382141331525
DESCRIPTION:2026-05-08クライマックスネクロマンス 4水上 悟
 志/瀬戸 一里少年画報社
LOCATION:
END:VEVENT
BEGIN:VEVENT
SUMMARY:ファイブスター物語 19
DTSTART;VALUE=DATE:20260508
DTEND;VALUE=DATE:20260509
UID:164011248851
DESCRIPTION:2026-05-09ファイブスター物語 19永野 護KADOKAWA
LOCATION:
END:VEVENT
BEGIN:VEVENT
SUMMARY:ソードアート・オンライン オルタナティブ ギャ
 ンブラーズ・オナー（1）
DTSTART;VALUE=DATE:20260508
DTEND;VALUE=DATE:20260509
UID:133628915962
DESCRIPTION:2026-05-09ソードアート・オンライン オルタナテ
 ィブ ギャンブラーズ・オナー（1）周藤 蓮/Enji/川原 礫K
 ADOKAWA
LOCATION:
END:VEVENT
BEGIN:VEVENT
SUMMARY:魔法科高校の劣等生 石田可奈画集(3) graduation
DTSTART;VALUE=DATE:20260508
DTEND;VALUE=DATE:20260509
UID:274970277599
DESCRIPTION:2026-05-09魔法科高校の劣等生 石田可奈画集(3) gr
 aduation石田 可奈/佐島 勤KADOKAWA
LOCATION:
END:VEVENT
BEGIN:VEVENT
SUMMARY:私を貶（けな）してください 屈辱を燃料にして
 、 成功をつかむ逆転戦略
DTSTART;VALUE=DATE:20260508
DTEND;VALUE=DATE:20260509
UID:173603775157
DESCRIPTION:2026-05-09私を貶（けな）してください 屈辱を燃
 料にして、 成功をつかむ逆転戦略さぎり(SAGIRIX）さく
 ら舎
LOCATION:
END:VEVENT
BEGIN:VEVENT
SUMMARY:こころげそう
DTSTART;VALUE=DATE:20260510
DTEND;VALUE=DATE:20260511
UID:480289346836
DESCRIPTION:2026-05-11こころげそう畠中 恵PHP研究所
LOCATION:
END:VEVENT
BEGIN:VEVENT
SUMMARY:AI脳クライシス デジタルは人から何を奪うのか
DTSTART;VALUE=DATE:20260510
DTEND;VALUE=DATE:20260511
UID:107757058755
DESCRIPTION:2026-05-11AI脳クライシス デジタルは人から何を
 奪うのか酒井 邦嘉/羽生 善治/ピーター・バラカン/千住
  博/柳田 邦男集英社インターナショナル
LOCATION:
END:VEVENT
BEGIN:VEVENT
SUMMARY:裏世界ピクニック（16）
DTSTART;VALUE=DATE:20260511
DTEND;VALUE=DATE:20260512
UID:551238564215
DESCRIPTION:2026-05-12裏世界ピクニック（16）宮澤伊織/水野
 英多/shirakabaスクウェア・エニックス
LOCATION:
END:VEVENT
BEGIN:VEVENT
SUMMARY:裏世界ピクニック 16巻
DTSTART;VALUE=DATE:20260511
DTEND;VALUE=DATE:20260512
UID:317152701897
DESCRIPTION:2026-05-12裏世界ピクニック 16巻宮澤伊織/水野英
 多/ｓｈｉｒａｋａｂａスクウェア・エニックス
LOCATION:
END:VEVENT
BEGIN:VEVENT
SUMMARY:手を動かして学ぶGoogleAppSheet Gemini連携&自動化編
DTSTART;VALUE=DATE:20260511
DTEND;VALUE=DATE:20260512
UID:102200954412
DESCRIPTION:2026-05-12手を動かして学ぶGoogleAppSheet Gemini連携&
 自動化編イルカのえっちゃんシーアンドアール研究所
LOCATION:
END:VEVENT
BEGIN:VEVENT
SUMMARY:裂神
DTSTART;VALUE=DATE:20260511
DTEND;VALUE=DATE:20260512
UID:959156440118
DESCRIPTION:2026-05-12裂神加門七海光文社
LOCATION:
END:VEVENT
BEGIN:VEVENT
SUMMARY:失踪人
DTSTART;VALUE=DATE:20260511
DTEND;VALUE=DATE:20260512
UID:723026446744
DESCRIPTION:2026-05-12失踪人小路幸也光文社
LOCATION:
END:VEVENT
BEGIN:VEVENT
SUMMARY:50歳からでも髪は増やせる！
DTSTART;VALUE=DATE:20260511
DTEND;VALUE=DATE:20260512
UID:231655987103
DESCRIPTION:2026-05-1250歳からでも髪は増やせる！久田 篤あ
 さ出版
LOCATION:
END:VEVENT
BEGIN:VEVENT
SUMMARY:FINAL FANTASY LOST STRANGER（14）
DTSTART;VALUE=DATE:20260511
DTEND;VALUE=DATE:20260512
UID:257843493681
DESCRIPTION:2026-05-12FINAL FANTASY LOST STRANGER（14）水瀬葉月/亀
 屋樹スクウェア・エニックス
LOCATION:
END:VEVENT
BEGIN:VEVENT
SUMMARY:Gemini AI活用 最強の教科書
DTSTART;VALUE=DATE:20260511
DTEND;VALUE=DATE:20260512
UID:638666127998
DESCRIPTION:2026-05-12Gemini AI活用 最強の教科書桑名 由美技
 術評論社
LOCATION:
END:VEVENT
BEGIN:VEVENT
SUMMARY:骸の爪［新装版］
DTSTART;VALUE=DATE:20260511
DTEND;VALUE=DATE:20260512
UID:927431755387
DESCRIPTION:2026-05-12骸の爪［新装版］道尾秀介幻冬舎
LOCATION:
END:VEVENT
BEGIN:VEVENT
SUMMARY:がんばれ、おめでとう、ありがとう
DTSTART;VALUE=DATE:20260511
DTEND;VALUE=DATE:20260512
UID:115512003223
DESCRIPTION:2026-05-12がんばれ、おめでとう、ありがとう朝
 倉かすみ幻冬舎
LOCATION:
END:VEVENT
BEGIN:VEVENT
SUMMARY:窮屈で自由な私の容れもの
DTSTART;VALUE=DATE:20260512
DTEND;VALUE=DATE:20260513
UID:315958321589
DESCRIPTION:2026-05-13窮屈で自由な私の容れもの蛭田亜紗子
 双葉社
LOCATION:
END:VEVENT
BEGIN:VEVENT
SUMMARY:科学的に証明された 突然死を招く習慣・長生き
 する習慣
DTSTART;VALUE=DATE:20260512
DTEND;VALUE=DATE:20260513
UID:884411555628
DESCRIPTION:2026-05-13科学的に証明された 突然死を招く習慣
 ・長生きする習慣歌島 大輔高橋書店
LOCATION:
END:VEVENT
BEGIN:VEVENT
SUMMARY:特捜取調室
DTSTART;VALUE=DATE:20260512
DTEND;VALUE=DATE:20260513
UID:537508837033
DESCRIPTION:2026-05-13特捜取調室佐藤 優/西村 尚芳新潮社
LOCATION:
END:VEVENT
BEGIN:VEVENT
SUMMARY:徒然チルドレン カラー版 5
DTSTART;VALUE=DATE:20260513
DTEND;VALUE=DATE:20260514
UID:184372118941
DESCRIPTION:2026-05-14徒然チルドレン カラー版 5若林 稔弥星
 海社
LOCATION:
END:VEVENT
BEGIN:VEVENT
SUMMARY:血契のアナスタシア 2
DTSTART;VALUE=DATE:20260513
DTEND;VALUE=DATE:20260514
UID:681291841613
DESCRIPTION:2026-05-14血契のアナスタシア 2冲方 丁/田中 ひ
 かるKADOKAWA
LOCATION:
END:VEVENT
BEGIN:VEVENT
SUMMARY:肥満脳のトリセツ 代謝の専門家が教える科学的
 ダイエット
DTSTART;VALUE=DATE:20260513
DTEND;VALUE=DATE:20260514
UID:101593991386
DESCRIPTION:2026-05-14肥満脳のトリセツ 代謝の専門家が教え
 る科学的ダイエット山田 陽介講談社
LOCATION:
END:VEVENT
BEGIN:VEVENT
SUMMARY:D07 地球の歩き方 西安 敦煌 ウルムチ シルクロー
 ドと中国西北部 2026〜2027
DTSTART;VALUE=DATE:20260513
DTEND;VALUE=DATE:20260514
UID:280351855373
DESCRIPTION:2026-05-14D07 地球の歩き方 西安 敦煌 ウルムチ 
 シルクロードと中国西北部 2026〜2027地球の歩き方編集
 室地球の歩き方
LOCATION:
END:VEVENT
BEGIN:VEVENT
SUMMARY:首無の如き祟るもの（1）
DTSTART;VALUE=DATE:20260513
DTEND;VALUE=DATE:20260514
UID:239486477276
DESCRIPTION:2026-05-14首無の如き祟るもの（1）仁藤すばる/
 三津田信三マッグガーデン
LOCATION:
END:VEVENT
BEGIN:VEVENT
SUMMARY:最後の晩餐
DTSTART;VALUE=DATE:20260514
DTEND;VALUE=DATE:20260515
UID:330360658982
DESCRIPTION:2026-05-15最後の晩餐江國 香織/金原 ひとみ/角田
  光代/寺地 はるな/原田 ひ香/藤野 千夜角川春樹事務所
LOCATION:
END:VEVENT
BEGIN:VEVENT
SUMMARY:ブレインサイエンス・レビュー2026
DTSTART;VALUE=DATE:20260514
DTEND;VALUE=DATE:20260515
UID:110675332625
DESCRIPTION:2026-05-15ブレインサイエンス・レビュー2026廣川
  信隆/板東 武彦アドスリー
LOCATION:
END:VEVENT
BEGIN:VEVENT
SUMMARY:起点
DTSTART;VALUE=DATE:20260514
DTEND;VALUE=DATE:20260515
UID:321716481210
DESCRIPTION:2026-05-15起点塩田 武士講談社
LOCATION:
END:VEVENT
BEGIN:VEVENT
SUMMARY:デストロ016（7）
DTSTART;VALUE=DATE:20260518
DTEND;VALUE=DATE:20260519
UID:125910204679
DESCRIPTION:2026-05-19デストロ016（7）高橋 慶太郎小学館
LOCATION:
END:VEVENT
BEGIN:VEVENT
SUMMARY:ドッグスレッド 8
DTSTART;VALUE=DATE:20260518
DTEND;VALUE=DATE:20260519
UID:726674875464
DESCRIPTION:2026-05-19ドッグスレッド 8野田 サトル集英社
LOCATION:
END:VEVENT
BEGIN:VEVENT
SUMMARY:慰謝料狩り 5
DTSTART;VALUE=DATE:20260518
DTEND;VALUE=DATE:20260519
UID:115068441215
DESCRIPTION:2026-05-19慰謝料狩り 5きづきあきら＋サトウナ
 ンキ集英社
LOCATION:
END:VEVENT
BEGIN:VEVENT
SUMMARY:ゼロからわかる！ネット広告の教科書
DTSTART;VALUE=DATE:20260518
DTEND;VALUE=DATE:20260519
UID:869168933074
DESCRIPTION:2026-05-19ゼロからわかる！ネット広告の教科書
 土居 靖典ナツメ社
LOCATION:
END:VEVENT
BEGIN:VEVENT
SUMMARY:DINERダイナー 26
DTSTART;VALUE=DATE:20260518
DTEND;VALUE=DATE:20260519
UID:172607533560
DESCRIPTION:2026-05-19DINERダイナー 26河合 孝典/平山 夢明集
 英社
LOCATION:
END:VEVENT
BEGIN:VEVENT
SUMMARY:そうだ、君を憎めばいいんだ
DTSTART;VALUE=DATE:20260519
DTEND;VALUE=DATE:20260520
UID:783234094069
DESCRIPTION:2026-05-20そうだ、君を憎めばいいんだ桜庭 一樹
 /斜線堂 有紀河出書房新社
LOCATION:
END:VEVENT
BEGIN:VEVENT
SUMMARY:最後の一行 black
DTSTART;VALUE=DATE:20260519
DTEND;VALUE=DATE:20260520
UID:821104193809
DESCRIPTION:2026-05-20最後の一行 black市塔 承/歌野 晶午/麻耶
  雄嵩/東川 篤哉講談社
LOCATION:
END:VEVENT
BEGIN:VEVENT
SUMMARY:そうだ、君を憎めばいいんだ
DTSTART;VALUE=DATE:20260519
DTEND;VALUE=DATE:20260520
UID:339353494640
DESCRIPTION:2026-05-20そうだ、君を憎めばいいんだ桜庭 一樹
 /斜線堂 有紀河出書房新社
LOCATION:
END:VEVENT
BEGIN:VEVENT
SUMMARY:エゴサ厳禁
DTSTART;VALUE=DATE:20260519
DTEND;VALUE=DATE:20260520
UID:304021137580
DESCRIPTION:2026-05-20エゴサ厳禁知念実希人双葉社
LOCATION:
END:VEVENT
BEGIN:VEVENT
SUMMARY:マルドゥック・アノニマス 11
DTSTART;VALUE=DATE:20260520
DTEND;VALUE=DATE:20260521
UID:718670452769
DESCRIPTION:2026-05-21マルドゥック・アノニマス 11冲方 丁早
 川書房
LOCATION:
END:VEVENT
BEGIN:VEVENT
SUMMARY:テクノ・クーデター
DTSTART;VALUE=DATE:20260520
DTEND;VALUE=DATE:20260521
UID:131076417177
DESCRIPTION:2026-05-21テクノ・クーデターマリエッチェ・ス
 ハーケ/江口 泰子早川書房
LOCATION:
END:VEVENT
BEGIN:VEVENT
SUMMARY:頭脳開発×学研教室 入学準備 2027年度版
DTSTART;VALUE=DATE:20260520
DTEND;VALUE=DATE:20260521
UID:112426847177
DESCRIPTION:2026-05-21頭脳開発×学研教室 入学準備 2027年度
 版頭脳開発・学研教室編集チームGakken
LOCATION:
END:VEVENT
BEGIN:VEVENT
SUMMARY:なごみの道
DTSTART;VALUE=DATE:20260520
DTEND;VALUE=DATE:20260521
UID:179372070889
DESCRIPTION:2026-05-21なごみの道茂木 健一郎早川書房
LOCATION:
END:VEVENT
BEGIN:VEVENT
SUMMARY:新版 羽生の頭脳６ 最強矢倉・森下システム
DTSTART;VALUE=DATE:20260520
DTEND;VALUE=DATE:20260521
UID:194379544529
DESCRIPTION:2026-05-21新版 羽生の頭脳６ 最強矢倉・森下シ
 ステムマイナビ出版
LOCATION:
END:VEVENT
BEGIN:VEVENT
SUMMARY:石田流は終わらない
DTSTART;VALUE=DATE:20260520
DTEND;VALUE=DATE:20260521
UID:134941993546
DESCRIPTION:2026-05-21石田流は終わらない菅野倫太郎マイナ
 ビ出版
LOCATION:
END:VEVENT
BEGIN:VEVENT
SUMMARY:2.43 清陰高校男子バレー部 next 4years 1
DTSTART;VALUE=DATE:20260520
DTEND;VALUE=DATE:20260521
UID:135697508525
DESCRIPTION:2026-05-212.43 清陰高校男子バレー部 next 4years 1壁
 井 ユカコ集英社
LOCATION:
END:VEVENT
BEGIN:VEVENT
SUMMARY:世界の終わりの世界録 14
DTSTART;VALUE=DATE:20260521
DTEND;VALUE=DATE:20260522
UID:241190949986
DESCRIPTION:2026-05-22世界の終わりの世界録 14雨水 龍/細音 
 啓/ふゆの 春秋KADOKAWA
LOCATION:
END:VEVENT
BEGIN:VEVENT
SUMMARY:輝ける星の下に
DTSTART;VALUE=DATE:20260521
DTEND;VALUE=DATE:20260522
UID:199772809593
DESCRIPTION:2026-05-22輝ける星の下に橋本 治河出書房新社
LOCATION:
END:VEVENT
BEGIN:VEVENT
SUMMARY:新装版 デルフィニア戦記
DTSTART;VALUE=DATE:20260521
DTEND;VALUE=DATE:20260522
UID:108025867207
DESCRIPTION:2026-05-22新装版 デルフィニア戦記茅田砂胡中央
 公論新社
LOCATION:
END:VEVENT
BEGIN:VEVENT
SUMMARY:ドストエフスキー全短篇 1
DTSTART;VALUE=DATE:20260521
DTEND;VALUE=DATE:20260522
UID:280996441378
DESCRIPTION:2026-05-22ドストエフスキー全短篇 1ドストエフ
 スキー/米川正夫中央公論新社
LOCATION:
END:VEVENT
BEGIN:VEVENT
SUMMARY:ドストエフスキー全短篇 2
DTSTART;VALUE=DATE:20260521
DTEND;VALUE=DATE:20260522
UID:181174384880
DESCRIPTION:2026-05-22ドストエフスキー全短篇 2ドストエフ
 スキー/米川正夫中央公論新社
LOCATION:
END:VEVENT
BEGIN:VEVENT
SUMMARY:猛き朝日
DTSTART;VALUE=DATE:20260521
DTEND;VALUE=DATE:20260522
UID:103580440176
DESCRIPTION:2026-05-22猛き朝日天野純希中央公論新社
LOCATION:
END:VEVENT
BEGIN:VEVENT
SUMMARY:魔王を倒したおじさん冒険者、ダンジョン育てま
 す（仮）
DTSTART;VALUE=DATE:20260521
DTEND;VALUE=DATE:20260522
UID:109118873816
DESCRIPTION:2026-05-22魔王を倒したおじさん冒険者、ダンジ
 ョン育てます（仮）白沢戌亥/柴乃櫂人スターツ出版
LOCATION:
END:VEVENT
END:VCALENDAR
