BEGIN:VCALENDAR
VERSION:2.0
PRODID:-//chikkutakku.com//RDFCal 1.0//EN
X-WR-CALDESC:GoogleカレンダーやiCalendar形式情報を共有シェ
 アしましょう。近所のイベントから全国のイベントま
 で今日のイベント検索やスケジュールを決めるならち
 っくたっく
X-WR-CALNAME:ちっくたっく
X-WR-TIMEZONE:UTC
BEGIN:VEVENT
SUMMARY:Student Mass 
DTSTART;VALUE=DATE-TIME:20260422T134000Z
DTEND;VALUE=DATE-TIME:20260422T144000Z
UID:321616643692
DESCRIPTION:Student Mass 
LOCATION:
END:VEVENT
BEGIN:VEVENT
SUMMARY:Trapshooting Palmer (A)
DTSTART;VALUE=DATE-TIME:20260422T204500Z
DTEND;VALUE=DATE-TIME:20260423T001500Z
UID:322978477450
DESCRIPTION:Trapshooting Palmer (A)
LOCATION:
END:VEVENT
BEGIN:VEVENT
SUMMARY:Giving Back Day (Rain Date)
DTSTART;VALUE=DATE:20260422
DTEND;VALUE=DATE:20260423
UID:150237029606
DESCRIPTION:Giving Back Day (Rain Date)
LOCATION:
END:VEVENT
BEGIN:VEVENT
SUMMARY:Seniors to State Capitol
DTSTART;VALUE=DATE:20260422
DTEND;VALUE=DATE:20260423
UID:237651896888
DESCRIPTION:Seniors to State Capitol
LOCATION:
END:VEVENT
BEGIN:VEVENT
SUMMARY:Coed Golf N. Iowa (H)
DTSTART;VALUE=DATE-TIME:20260423T211500Z
DTEND;VALUE=DATE-TIME:20260423T231500Z
UID:112157556382
DESCRIPTION:Coed Golf N. Iowa (H)
LOCATION:
END:VEVENT
BEGIN:VEVENT
SUMMARY:JH B Trk BGJH Relays (H)
DTSTART;VALUE=DATE-TIME:20260423T210000Z
DTEND;VALUE=DATE-TIME:20260424T010000Z
UID:280709296385
DESCRIPTION:JH B Trk BGJH Relays (H)
LOCATION:
END:VEVENT
BEGIN:VEVENT
SUMMARY:B Trk North Iowa (A)
DTSTART;VALUE=DATE-TIME:20260423T220000Z
DTEND;VALUE=DATE-TIME:20260424T013000Z
UID:126231076032
DESCRIPTION:B Trk North Iowa (A)
LOCATION:
END:VEVENT
BEGIN:VEVENT
SUMMARY:G Track ELC (A)
DTSTART;VALUE=DATE-TIME:20260424T213000Z
DTEND;VALUE=DATE-TIME:20260425T010000Z
UID:268673936006
DESCRIPTION:G Track ELC (A)
LOCATION:
END:VEVENT
BEGIN:VEVENT
SUMMARY:Baton Recital Practice in Auditorium
DTSTART;VALUE=DATE-TIME:20260424T210000Z
DTEND;VALUE=DATE-TIME:20260425T010000Z
UID:178210089811
DESCRIPTION:Baton Recital Practice in Auditorium
LOCATION:
END:VEVENT
BEGIN:VEVENT
SUMMARY:B Trk Pokey (A)
DTSTART;VALUE=DATE-TIME:20260424T213000Z
DTEND;VALUE=DATE-TIME:20260425T013000Z
UID:266320314649
DESCRIPTION:B Trk Pokey (A)
LOCATION:
END:VEVENT
BEGIN:VEVENT
SUMMARY:ILCC Aviation Day
DTSTART;VALUE=DATE:20260424
DTEND;VALUE=DATE:20260425
UID:164857311553
DESCRIPTION:ILCC Aviation Day
LOCATION:
END:VEVENT
BEGIN:VEVENT
SUMMARY:Baton Recital Practice in Auditorium
DTSTART;VALUE=DATE-TIME:20260425T190000Z
DTEND;VALUE=DATE-TIME:20260425T213000Z
UID:123115210935
DESCRIPTION:Baton Recital Practice in Auditorium
LOCATION:
END:VEVENT
BEGIN:VEVENT
SUMMARY:Baton Recital in Auditorium
DTSTART;VALUE=DATE-TIME:20260425T220000Z
DTEND;VALUE=DATE-TIME:20260426T010000Z
UID:291989317882
DESCRIPTION:Baton Recital in Auditorium
LOCATION:
END:VEVENT
BEGIN:VEVENT
SUMMARY:Drake Relays
DTSTART;VALUE=DATE:20260423
DTEND;VALUE=DATE:20260426
UID:287976892163
DESCRIPTION:Drake Relays
LOCATION:
END:VEVENT
BEGIN:VEVENT
SUMMARY:Mississippi Trip
DTSTART;VALUE=DATE:20260420
DTEND;VALUE=DATE:20260426
UID:997757117964
DESCRIPTION:Mississippi Trip
LOCATION:
END:VEVENT
BEGIN:VEVENT
SUMMARY:Coed Golf Forest City (A)
DTSTART;VALUE=DATE-TIME:20260427T211500Z
DTEND;VALUE=DATE-TIME:20260428T011500Z
UID:266768511524
DESCRIPTION:Coed Golf Forest City (A)
LOCATION:
END:VEVENT
BEGIN:VEVENT
SUMMARY:JH Coed Trk North Union (A)
DTSTART;VALUE=DATE-TIME:20260427T213000Z
DTEND;VALUE=DATE-TIME:20260428T013000Z
UID:267830290060
DESCRIPTION:JH Coed Trk North Union (A)
LOCATION:
END:VEVENT
BEGIN:VEVENT
SUMMARY:G Track Forest City (A)
DTSTART;VALUE=DATE-TIME:20260428T213000Z
DTEND;VALUE=DATE-TIME:20260429T010000Z
UID:240336455667
DESCRIPTION:G Track Forest City (A)
LOCATION:
END:VEVENT
BEGIN:VEVENT
SUMMARY:B Track Emmetsburg (A)
DTSTART;VALUE=DATE-TIME:20260428T220000Z
DTEND;VALUE=DATE-TIME:20260429T013000Z
UID:143199128570
DESCRIPTION:B Track Emmetsburg (A)
LOCATION:
END:VEVENT
BEGIN:VEVENT
SUMMARY:JH B Trk Belmond Klemme (A)
DTSTART;VALUE=DATE-TIME:20260428T213000Z
DTEND;VALUE=DATE-TIME:20260429T013000Z
UID:204348232272
DESCRIPTION:JH B Trk Belmond Klemme (A)
LOCATION:
END:VEVENT
BEGIN:VEVENT
SUMMARY:K-12th Student Mass
DTSTART;VALUE=DATE-TIME:20260429T134000Z
DTEND;VALUE=DATE-TIME:20260429T144000Z
UID:177928374491
DESCRIPTION:K-12th Student Mass
LOCATION:
END:VEVENT
BEGIN:VEVENT
SUMMARY:CYO Golf St. Ed's (A)
DTSTART;VALUE=DATE-TIME:20260429T153000Z
DTEND;VALUE=DATE-TIME:20260429T193000Z
UID:759478563178
DESCRIPTION:CYO Golf St. Ed's (A)
LOCATION:
END:VEVENT
BEGIN:VEVENT
SUMMARY:HS Art Show
DTSTART;VALUE=DATE-TIME:20260429T210000Z
DTEND;VALUE=DATE-TIME:20260430T000000Z
UID:122581910258
DESCRIPTION:HS Art Show
LOCATION:
END:VEVENT
BEGIN:VEVENT
SUMMARY:HS Band & Choir Concert
DTSTART;VALUE=DATE-TIME:20260430T000000Z
DTEND;VALUE=DATE-TIME:20260430T020000Z
UID:121198849015
DESCRIPTION:HS Band & Choir Concert
LOCATION:
END:VEVENT
BEGIN:VEVENT
SUMMARY:National DECA in Atlanta
DTSTART;VALUE=DATE:20260425
DTEND;VALUE=DATE:20260430
UID:318432190568
DESCRIPTION:National DECA in Atlanta
LOCATION:
END:VEVENT
BEGIN:VEVENT
SUMMARY:Coed Golf N. Union (H)
DTSTART;VALUE=DATE-TIME:20260430T211500Z
DTEND;VALUE=DATE-TIME:20260430T231500Z
UID:259147504162
DESCRIPTION:Coed Golf N. Union (H)
LOCATION:
END:VEVENT
BEGIN:VEVENT
SUMMARY:Friedmann Closed - GP Day Set Up
DTSTART;VALUE=DATE-TIME:20260430T180000Z
DTEND;VALUE=DATE-TIME:20260501T010000Z
UID:275680801010
DESCRIPTION:Friedmann Closed - GP Day Set Up
LOCATION:
END:VEVENT
BEGIN:VEVENT
SUMMARY:HS Coed Track N. Union (A)
DTSTART;VALUE=DATE-TIME:20260430T213000Z
DTEND;VALUE=DATE-TIME:20260501T020000Z
UID:189422603343
DESCRIPTION:HS Coed Track N. Union (A)
LOCATION:
END:VEVENT
BEGIN:VEVENT
SUMMARY:5th Grade Mass w/ Bishop in Sioux City
DTSTART;VALUE=DATE:20260430
DTEND;VALUE=DATE:20260501
UID:615240379803
DESCRIPTION:5th Grade Mass w/ Bishop in Sioux City
LOCATION:
END:VEVENT
BEGIN:VEVENT
SUMMARY:K-8th Prayer Service w/ Grandparents @ St. Cecelia
DTSTART;VALUE=DATE-TIME:20260501T140000Z
DTEND;VALUE=DATE-TIME:20260501T143000Z
UID:762522986163
DESCRIPTION:K-8th Prayer Service w/ Grandparents @ St. Cecelia
LOCATION:
END:VEVENT
BEGIN:VEVENT
SUMMARY:HS Grandparent's Day Lunch
DTSTART;VALUE=DATE-TIME:20260501T161500Z
DTEND;VALUE=DATE-TIME:20260501T174500Z
UID:156951361419
DESCRIPTION:HS Grandparent's Day Lunch
LOCATION:
END:VEVENT
BEGIN:VEVENT
SUMMARY:JH Coed Trk North Iowa (A)
DTSTART;VALUE=DATE-TIME:20260501T213000Z
DTEND;VALUE=DATE-TIME:20260502T013000Z
UID:205544283885
DESCRIPTION:JH Coed Trk North Iowa (A)
LOCATION:
END:VEVENT
BEGIN:VEVENT
SUMMARY:Grandparent's Day
DTSTART;VALUE=DATE:20260501
DTEND;VALUE=DATE:20260502
UID:191013505958
DESCRIPTION:Grandparent's Day
LOCATION:
END:VEVENT
BEGIN:VEVENT
SUMMARY:HS Art on Display in South Hallway
DTSTART;VALUE=DATE:20260427
DTEND;VALUE=DATE:20260502
UID:797138904822
DESCRIPTION:HS Art on Display in South Hallway
LOCATION:
END:VEVENT
BEGIN:VEVENT
SUMMARY:BGJH Quiz Bowl (H)
DTSTART;VALUE=DATE:20260502
DTEND;VALUE=DATE:20260503
UID:514179663714
DESCRIPTION:BGJH Quiz Bowl (H)
LOCATION:
END:VEVENT
BEGIN:VEVENT
SUMMARY:Confirmation Mass
DTSTART;VALUE=DATE-TIME:20260503T150000Z
DTEND;VALUE=DATE-TIME:20260503T170000Z
UID:462976441303
DESCRIPTION:Confirmation Mass
LOCATION:
END:VEVENT
BEGIN:VEVENT
SUMMARY:Senior Dog Show
DTSTART;VALUE=DATE-TIME:20260504T131500Z
DTEND;VALUE=DATE-TIME:20260504T141500Z
UID:847226860769
DESCRIPTION:Senior Dog Show
LOCATION:
END:VEVENT
BEGIN:VEVENT
SUMMARY:Coed Golf Eagle Grove (A)
DTSTART;VALUE=DATE-TIME:20260504T211500Z
DTEND;VALUE=DATE-TIME:20260504T231500Z
UID:854448881029
DESCRIPTION:Coed Golf Eagle Grove (A)
LOCATION:
END:VEVENT
BEGIN:VEVENT
SUMMARY:Trapshooting Ventura (A)
DTSTART;VALUE=DATE-TIME:20260504T204500Z
DTEND;VALUE=DATE-TIME:20260505T001500Z
UID:337949118065
DESCRIPTION:Trapshooting Ventura (A)
LOCATION:
END:VEVENT
BEGIN:VEVENT
SUMMARY:5th/6th Band/Choir Concert
DTSTART;VALUE=DATE-TIME:20260505T000000Z
DTEND;VALUE=DATE-TIME:20260505T010000Z
UID:228816388485
DESCRIPTION:5th/6th Band/Choir Concert
LOCATION:
END:VEVENT
BEGIN:VEVENT
SUMMARY:Fine Arts Banquet
DTSTART;VALUE=DATE-TIME:20260505T123000Z
DTEND;VALUE=DATE-TIME:20260505T131500Z
UID:228084141740
DESCRIPTION:Fine Arts Banquet
LOCATION:
END:VEVENT
BEGIN:VEVENT
SUMMARY:JH G Track Belmond/Klemme (A)
DTSTART;VALUE=DATE-TIME:20260505T213000Z
DTEND;VALUE=DATE-TIME:20260506T010000Z
UID:209873126123
DESCRIPTION:JH G Track Belmond/Klemme (A)
LOCATION:
END:VEVENT
BEGIN:VEVENT
SUMMARY:JH B Track Lake Mills (A)
DTSTART;VALUE=DATE-TIME:20260505T213000Z
DTEND;VALUE=DATE-TIME:20260506T010000Z
UID:217256131382
DESCRIPTION:JH B Track Lake Mills (A)
LOCATION:
END:VEVENT
BEGIN:VEVENT
SUMMARY:Student Mass K - 11
DTSTART;VALUE=DATE-TIME:20260506T134000Z
DTEND;VALUE=DATE-TIME:20260506T144000Z
UID:174804855676
DESCRIPTION:Student Mass K - 11
LOCATION:
END:VEVENT
BEGIN:VEVENT
SUMMARY:Senior Practice in Auditorium
DTSTART;VALUE=DATE-TIME:20260506T131500Z
DTEND;VALUE=DATE-TIME:20260506T144500Z
UID:336419011496
DESCRIPTION:Senior Practice in Auditorium
LOCATION:
END:VEVENT
BEGIN:VEVENT
SUMMARY:Baccalaureate Mass
DTSTART;VALUE=DATE-TIME:20260507T000000Z
DTEND;VALUE=DATE-TIME:20260507T013000Z
UID:213122191800
DESCRIPTION:Baccalaureate Mass
LOCATION:
END:VEVENT
BEGIN:VEVENT
SUMMARY:Coed Golf Algona (H)
DTSTART;VALUE=DATE-TIME:20260507T211500Z
DTEND;VALUE=DATE-TIME:20260507T231500Z
UID:168350106014
DESCRIPTION:Coed Golf Algona (H)
LOCATION:
END:VEVENT
BEGIN:VEVENT
SUMMARY:Coed Conference Track Meet North Union (A) Armstrong
DTSTART;VALUE=DATE-TIME:20260507T210000Z
DTEND;VALUE=DATE-TIME:20260508T010000Z
UID:317549919373
DESCRIPTION:Coed Conference Track Meet North Union (A) Armstrong
LOCATION:
END:VEVENT
BEGIN:VEVENT
SUMMARY:TIC Art Show
DTSTART;VALUE=DATE:20260507
DTEND;VALUE=DATE:20260508
UID:130751137289
DESCRIPTION:TIC Art Show
LOCATION:
END:VEVENT
BEGIN:VEVENT
SUMMARY:JH B Trk Algona (A)
DTSTART;VALUE=DATE-TIME:20260508T213000Z
DTEND;VALUE=DATE-TIME:20260509T013000Z
UID:110682537378
DESCRIPTION:JH B Trk Algona (A)
LOCATION:
END:VEVENT
BEGIN:VEVENT
SUMMARY:Senior's Last Day
DTSTART;VALUE=DATE:20260508
DTEND;VALUE=DATE:20260509
UID:538569877104
DESCRIPTION:Senior's Last Day
LOCATION:
END:VEVENT
BEGIN:VEVENT
SUMMARY:Large Group Music Contest
DTSTART;VALUE=DATE:20260508
DTEND;VALUE=DATE:20260509
UID:754319725459
DESCRIPTION:Large Group Music Contest
LOCATION:
END:VEVENT
BEGIN:VEVENT
SUMMARY:Senior Semester Tests
DTSTART;VALUE=DATE:20260507
DTEND;VALUE=DATE:20260509
UID:187976421368
DESCRIPTION:Senior Semester Tests
LOCATION:
END:VEVENT
BEGIN:VEVENT
SUMMARY:Trapshooting (H)
DTSTART;VALUE=DATE-TIME:20260509T150000Z
DTEND;VALUE=DATE-TIME:20260509T190000Z
UID:132827846937
DESCRIPTION:Trapshooting (H)
LOCATION:
END:VEVENT
BEGIN:VEVENT
SUMMARY:Commencement
DTSTART;VALUE=DATE-TIME:20260510T190000Z
DTEND;VALUE=DATE-TIME:20260510T200000Z
UID:241795064317
DESCRIPTION:Commencement
LOCATION:
END:VEVENT
BEGIN:VEVENT
SUMMARY:B TIC Golf Belmond/Klemme (A)
DTSTART;VALUE=DATE-TIME:20260511T150000Z
DTEND;VALUE=DATE-TIME:20260511T190000Z
UID:326237570362
DESCRIPTION:B TIC Golf Belmond/Klemme (A)
LOCATION:
END:VEVENT
BEGIN:VEVENT
SUMMARY:G TIC Golf W. Hancock (A)
DTSTART;VALUE=DATE-TIME:20260511T150000Z
DTEND;VALUE=DATE-TIME:20260511T190000Z
UID:336174094735
DESCRIPTION:G TIC Golf W. Hancock (A)
LOCATION:
END:VEVENT
BEGIN:VEVENT
SUMMARY:JH G Trk BGJH Relays (H)
DTSTART;VALUE=DATE-TIME:20260511T210000Z
DTEND;VALUE=DATE-TIME:20260512T010000Z
UID:140122064526
DESCRIPTION:JH G Trk BGJH Relays (H)
LOCATION:
END:VEVENT
BEGIN:VEVENT
SUMMARY:School Board Meeting @ BG
DTSTART;VALUE=DATE-TIME:20260512T180000Z
DTEND;VALUE=DATE-TIME:20260512T200000Z
UID:247852667271
DESCRIPTION:School Board Meeting @ BG
LOCATION:
END:VEVENT
BEGIN:VEVENT
SUMMARY:JH Band/Choir Concert
DTSTART;VALUE=DATE-TIME:20260513T000000Z
DTEND;VALUE=DATE-TIME:20260513T010000Z
UID:362056986849
DESCRIPTION:JH Band/Choir Concert
LOCATION:
END:VEVENT
BEGIN:VEVENT
SUMMARY:Student Mass
DTSTART;VALUE=DATE-TIME:20260513T134000Z
DTEND;VALUE=DATE-TIME:20260513T144000Z
UID:141923891589
DESCRIPTION:Student Mass
LOCATION:
END:VEVENT
BEGIN:VEVENT
SUMMARY:3rd - 6th Grades Due 
DTSTART;VALUE=DATE-TIME:20260513T150000Z
DTEND;VALUE=DATE-TIME:20260513T150000Z
UID:168180171700
DESCRIPTION:3rd - 6th Grades Due 
LOCATION:
END:VEVENT
BEGIN:VEVENT
SUMMARY:Tentative 3rd - 6th Track Meet
DTSTART;VALUE=DATE-TIME:20260513T150000Z
DTEND;VALUE=DATE-TIME:20260513T170000Z
UID:489800486948
DESCRIPTION:Tentative 3rd - 6th Track Meet
LOCATION:
END:VEVENT
BEGIN:VEVENT
SUMMARY:B Sectional Golf - TBA
DTSTART;VALUE=DATE-TIME:20260513T150000Z
DTEND;VALUE=DATE-TIME:20260513T190000Z
UID:302442998013
DESCRIPTION:B Sectional Golf - TBA
LOCATION:
END:VEVENT
BEGIN:VEVENT
SUMMARY:8th Grade Celebration
DTSTART;VALUE=DATE:20260513
DTEND;VALUE=DATE:20260514
UID:250516563535
DESCRIPTION:8th Grade Celebration
LOCATION:
END:VEVENT
BEGIN:VEVENT
SUMMARY:Coed District Track - TBD
DTSTART;VALUE=DATE-TIME:20260514T210000Z
DTEND;VALUE=DATE-TIME:20260515T020000Z
UID:184996886483
DESCRIPTION:Coed District Track - TBD
LOCATION:
END:VEVENT
BEGIN:VEVENT
SUMMARY:G Sectional Golf - TBA
DTSTART;VALUE=DATE-TIME:20260515T150000Z
DTEND;VALUE=DATE-TIME:20260515T190000Z
UID:155358854919
DESCRIPTION:G Sectional Golf - TBA
LOCATION:
END:VEVENT
BEGIN:VEVENT
SUMMARY:Semester Tests
DTSTART;VALUE=DATE:20260514
DTEND;VALUE=DATE:20260516
UID:170066030392
DESCRIPTION:Semester Tests
LOCATION:
END:VEVENT
BEGIN:VEVENT
SUMMARY:Trapshooting (H)
DTSTART;VALUE=DATE-TIME:20260516T150000Z
DTEND;VALUE=DATE-TIME:20260516T190000Z
UID:317734454372
DESCRIPTION:Trapshooting (H)
LOCATION:
END:VEVENT
BEGIN:VEVENT
SUMMARY:End of School Dismissal
DTSTART;VALUE=DATE-TIME:20260518T170000Z
DTEND;VALUE=DATE-TIME:20260518T170000Z
UID:127127244451
DESCRIPTION:End of School Dismissal
LOCATION:
END:VEVENT
BEGIN:VEVENT
SUMMARY:Parish Busing
DTSTART;VALUE=DATE-TIME:20260518T170000Z
DTEND;VALUE=DATE-TIME:20260518T180000Z
UID:293153366565
DESCRIPTION:Parish Busing
LOCATION:
END:VEVENT
BEGIN:VEVENT
SUMMARY:B Golf Districts TBA
DTSTART;VALUE=DATE-TIME:20260518T150000Z
DTEND;VALUE=DATE-TIME:20260518T190000Z
UID:233417183868
DESCRIPTION:B Golf Districts TBA
LOCATION:
END:VEVENT
BEGIN:VEVENT
SUMMARY:JH B Track TIC Meet Garner (A)
DTSTART;VALUE=DATE-TIME:20260518T210000Z
DTEND;VALUE=DATE-TIME:20260519T013000Z
UID:115608500168
DESCRIPTION:JH B Track TIC Meet Garner (A)
LOCATION:
END:VEVENT
BEGIN:VEVENT
SUMMARY:JH G Track TIC Meet Forest City (A)
DTSTART;VALUE=DATE-TIME:20260518T210000Z
DTEND;VALUE=DATE-TIME:20260519T013000Z
UID:317140700217
DESCRIPTION:JH G Track TIC Meet Forest City (A)
LOCATION:
END:VEVENT
BEGIN:VEVENT
SUMMARY:End of 4th Qtr 2nd Semester
DTSTART;VALUE=DATE:20260518
DTEND;VALUE=DATE:20260519
UID:108598390719
DESCRIPTION:End of 4th Qtr 2nd Semester
LOCATION:
END:VEVENT
BEGIN:VEVENT
SUMMARY:Semester Tests
DTSTART;VALUE=DATE:20260518
DTEND;VALUE=DATE:20260519
UID:266357410107
DESCRIPTION:Semester Tests
LOCATION:
END:VEVENT
BEGIN:VEVENT
SUMMARY:7th - 12 Grades Due by Noon
DTSTART;VALUE=DATE-TIME:20260519T170000Z
DTEND;VALUE=DATE-TIME:20260519T180000Z
UID:336389306681
DESCRIPTION:7th - 12 Grades Due by Noon
LOCATION:
END:VEVENT
BEGIN:VEVENT
SUMMARY:Professional Development
DTSTART;VALUE=DATE:20260519
DTEND;VALUE=DATE:20260520
UID:135466840467
DESCRIPTION:Professional Development
LOCATION:
END:VEVENT
BEGIN:VEVENT
SUMMARY:G Regional Golf - TBA
DTSTART;VALUE=DATE-TIME:20260520T150000Z
DTEND;VALUE=DATE-TIME:20260520T190000Z
UID:520158579837
DESCRIPTION:G Regional Golf - TBA
LOCATION:
END:VEVENT
BEGIN:VEVENT
SUMMARY:Trapshooting (H)
DTSTART;VALUE=DATE-TIME:20260520T204500Z
DTEND;VALUE=DATE-TIME:20260521T001500Z
UID:101922347487
DESCRIPTION:Trapshooting (H)
LOCATION:
END:VEVENT
BEGIN:VEVENT
SUMMARY:AHS Last Day
DTSTART;VALUE=DATE:20260520
DTEND;VALUE=DATE:20260521
UID:333275586148
DESCRIPTION:AHS Last Day
LOCATION:
END:VEVENT
BEGIN:VEVENT
SUMMARY:School Board Meeting @ BG
DTSTART;VALUE=DATE-TIME:20250918T050000Z
DTEND;VALUE=DATE-TIME:20260521T050000Z
UID:204209499686
DESCRIPTION:School Board Meeting @ BG
LOCATION:
END:VEVENT
END:VCALENDAR
