BEGIN:VCALENDAR
VERSION:2.0
PRODID:-//chikkutakku.com//RDFCal 1.0//EN
X-WR-CALDESC:GoogleカレンダーやiCalendar形式情報を共有シェ
 アしましょう。近所のイベントから全国のイベントま
 で今日のイベント検索やスケジュールを決めるならち
 っくたっく
X-WR-CALNAME:ちっくたっく
X-WR-TIMEZONE:UTC
BEGIN:VEVENT
SUMMARY:Portola West McDowell: Dinner
DTSTART;VALUE=DATE-TIME:20260422T000000Z
DTEND;VALUE=DATE-TIME:20260422T030000Z
UID:237120645527
DESCRIPTION:\n====SFF====\nBooked Location: Portola West McDowell: Dinner 
 \nBooked Date: 4/21/26 \nBooked Truck: Buzznbeez \n\nTo Unbook: Login to S
 FF and go to My Events\nDo not remove this event (SFF will remove it if yo
 u cancel or transfer) \n\nGenerated by SFF\n===STREETFOODFINDER.COM===\n
LOCATION:5231 W McDowell Rd\, Phoenix\, AZ 85043\, USA
END:VEVENT
BEGIN:VEVENT
SUMMARY:Navona
DTSTART;VALUE=DATE-TIME:20260423T000000Z
DTEND;VALUE=DATE-TIME:20260423T030000Z
UID:577165817468
DESCRIPTION:\n====SFF====\nBooked Location: Navona \nBooked Date: 4/22/26 
 \nBooked Truck: Buzznbeez \n\nTo Unbook: Login to SFF and go to My Events\
 nDo not remove this event (SFF will remove it if you cancel or transfer) \
 n\nGenerated by SFF\n===STREETFOODFINDER.COM===\n
LOCATION:10141 E Williams Fld Rd\, Mesa\, AZ 85212\, USA
END:VEVENT
BEGIN:VEVENT
SUMMARY:Marina Heights
DTSTART;VALUE=DATE-TIME:20260512T180000Z
DTEND;VALUE=DATE-TIME:20260512T210000Z
UID:298760146530
DESCRIPTION:\n====SFF====\nBooked Location: Marina Heights \nBooked Date: 
 5/12/26 \nBooked Truck: Buzznbeez \n\nTo Unbook: Login to SFF and go to My
  Events\nDo not remove this event (SFF will remove it if you cancel or tra
 nsfer) \n\nGenerated by SFF\n===STREETFOODFINDER.COM===\n
LOCATION:300 E Rio Salado Pkwy\, Tempe\, AZ 85281\, USA
END:VEVENT
END:VCALENDAR
