BEGIN:VCALENDAR
VERSION:2.0
PRODID:-//chikkutakku.com//RDFCal 1.0//EN
X-WR-CALDESC:GoogleカレンダーやiCalendar形式情報を共有シェ
 アしましょう。近所のイベントから全国のイベントま
 で今日のイベント検索やスケジュールを決めるならち
 っくたっく
X-WR-CALNAME:ちっくたっく
X-WR-TIMEZONE:UTC
BEGIN:VEVENT
SUMMARY:Anselm\, B & D
DTSTART;VALUE=DATE:20260420
DTEND;VALUE=DATE:20260421
UID:173323565823
DESCRIPTION:Today's Color: White  \nToday's Rank: Opt. Mem.\n
LOCATION:
END:VEVENT
BEGIN:VEVENT
SUMMARY:Wednesday of the Third Week of Easter
DTSTART;VALUE=DATE:20260421
DTEND;VALUE=DATE:20260422
UID:304937862215
DESCRIPTION:Today's Color: White  \nToday's Rank: Weekday  \n
LOCATION:
END:VEVENT
BEGIN:VEVENT
SUMMARY:George\, M\; Adalbert\, B & M
DTSTART;VALUE=DATE:20260422
DTEND;VALUE=DATE:20260423
UID:209645826149
DESCRIPTION:Today's Color: White  \nToday's Rank: Opt. Mem.\n
LOCATION:
END:VEVENT
BEGIN:VEVENT
SUMMARY:Fidelis of Sigmaringen\, P & M
DTSTART;VALUE=DATE:20260423
DTEND;VALUE=DATE:20260424
UID:471542157583
DESCRIPTION:Today's Color: White  \nToday's Rank: Opt. Mem.\n
LOCATION:
END:VEVENT
BEGIN:VEVENT
SUMMARY:Mark\, Evangelist
DTSTART;VALUE=DATE:20260424
DTEND;VALUE=DATE:20260425
UID:299328359941
DESCRIPTION:Today's Color: Red    \nToday's Rank: Feast    \n
LOCATION:
END:VEVENT
BEGIN:VEVENT
SUMMARY:Fourth Sunday of Easter
DTSTART;VALUE=DATE:20260425
DTEND;VALUE=DATE:20260426
UID:112624773691
DESCRIPTION:Today's Color: White  \nToday's Rank: Sunday   \n
LOCATION:
END:VEVENT
BEGIN:VEVENT
SUMMARY:Monday of the Fourth Week of Easter
DTSTART;VALUE=DATE:20260426
DTEND;VALUE=DATE:20260427
UID:983748866205
DESCRIPTION:Today's Color: White  \nToday's Rank: Weekday  \n
LOCATION:
END:VEVENT
BEGIN:VEVENT
SUMMARY:Peter Chanel\, P & M\; Louis Mary de Montfort\, P
DTSTART;VALUE=DATE:20260427
DTEND;VALUE=DATE:20260428
UID:161373114643
DESCRIPTION:Today's Color: White  \nToday's Rank: Opt. Mem.\n
LOCATION:
END:VEVENT
BEGIN:VEVENT
SUMMARY:Catherine of Siena\, V & D
DTSTART;VALUE=DATE:20260428
DTEND;VALUE=DATE:20260429
UID:157742912304
DESCRIPTION:Today's Color: White  \nToday's Rank: Memorial \n
LOCATION:
END:VEVENT
BEGIN:VEVENT
SUMMARY:Pius V\, Po
DTSTART;VALUE=DATE:20260429
DTEND;VALUE=DATE:20260430
UID:286079414937
DESCRIPTION:Today's Color: White  \nToday's Rank: Opt. Mem.\n
LOCATION:
END:VEVENT
BEGIN:VEVENT
SUMMARY:Joseph the Worker
DTSTART;VALUE=DATE:20260430
DTEND;VALUE=DATE:20260501
UID:224141384094
DESCRIPTION:Today's Color: White  \nToday's Rank: Opt. Mem.\n
LOCATION:
END:VEVENT
BEGIN:VEVENT
SUMMARY:Athanasius\, B & D
DTSTART;VALUE=DATE:20260501
DTEND;VALUE=DATE:20260502
UID:986104824230
DESCRIPTION:Today's Color: White  \nToday's Rank: Memorial \n
LOCATION:
END:VEVENT
BEGIN:VEVENT
SUMMARY:Fifth Sunday of Easter
DTSTART;VALUE=DATE:20260502
DTEND;VALUE=DATE:20260503
UID:285241258733
DESCRIPTION:Today's Color: White  \nToday's Rank: Sunday   \n
LOCATION:
END:VEVENT
BEGIN:VEVENT
SUMMARY:Monday of the Fifth Week of Easter
DTSTART;VALUE=DATE:20260503
DTEND;VALUE=DATE:20260504
UID:957118976802
DESCRIPTION:Today's Color: White  \nToday's Rank: Weekday  \n
LOCATION:
END:VEVENT
BEGIN:VEVENT
SUMMARY:Tuesday of the Fifth Week of Easter
DTSTART;VALUE=DATE:20260504
DTEND;VALUE=DATE:20260505
UID:169269634845
DESCRIPTION:Today's Color: White  \nToday's Rank: Weekday  \n
LOCATION:
END:VEVENT
BEGIN:VEVENT
SUMMARY:Wednesday of the Fifth Week of Easter
DTSTART;VALUE=DATE:20260505
DTEND;VALUE=DATE:20260506
UID:631291687653
DESCRIPTION:Today's Color: White  \nToday's Rank: Weekday  \n
LOCATION:
END:VEVENT
BEGIN:VEVENT
SUMMARY:Thursday of the Fifth Week of Easter
DTSTART;VALUE=DATE:20260506
DTEND;VALUE=DATE:20260507
UID:241848872010
DESCRIPTION:Today's Color: White  \nToday's Rank: Weekday  \n
LOCATION:
END:VEVENT
BEGIN:VEVENT
SUMMARY:Friday of the Fifth Week of Easter
DTSTART;VALUE=DATE:20260507
DTEND;VALUE=DATE:20260508
UID:130211586210
DESCRIPTION:Today's Color: White  \nToday's Rank: Weekday  \n
LOCATION:
END:VEVENT
BEGIN:VEVENT
SUMMARY:Saturday of the Fifth Week of Easter
DTSTART;VALUE=DATE:20260508
DTEND;VALUE=DATE:20260509
UID:152750987952
DESCRIPTION:Today's Color: White  \nToday's Rank: Weekday  \n
LOCATION:
END:VEVENT
BEGIN:VEVENT
SUMMARY:Sixth Sunday of Easter
DTSTART;VALUE=DATE:20260509
DTEND;VALUE=DATE:20260510
UID:314124926319
DESCRIPTION:Today's Color: White  \nToday's Rank: Sunday   \n
LOCATION:
END:VEVENT
BEGIN:VEVENT
SUMMARY:Monday of the Sixth Week of Easter
DTSTART;VALUE=DATE:20260510
DTEND;VALUE=DATE:20260511
UID:249274403756
DESCRIPTION:Today's Color: White  \nToday's Rank: Weekday  \n
LOCATION:
END:VEVENT
BEGIN:VEVENT
SUMMARY:Nereus and Achilleus\, Mm\; Pancras\, M
DTSTART;VALUE=DATE:20260511
DTEND;VALUE=DATE:20260512
UID:112397782397
DESCRIPTION:Today's Color: White  \nToday's Rank: Opt. Mem.\n
LOCATION:
END:VEVENT
BEGIN:VEVENT
SUMMARY:Our Lady of Fatima
DTSTART;VALUE=DATE:20260512
DTEND;VALUE=DATE:20260513
UID:244619682465
DESCRIPTION:Today's Color: White  \nToday's Rank: Opt. Mem.\n
LOCATION:
END:VEVENT
BEGIN:VEVENT
SUMMARY:Ascension of the Lord
DTSTART;VALUE=DATE:20260513
DTEND;VALUE=DATE:20260514
UID:303989537820
DESCRIPTION:Today's Color: White  \nToday's Rank: SOLEMNITY\n
LOCATION:
END:VEVENT
BEGIN:VEVENT
SUMMARY:Isidore\, Farmer
DTSTART;VALUE=DATE:20260514
DTEND;VALUE=DATE:20260515
UID:631786722908
DESCRIPTION:Today's Color: White  \nToday's Rank: Opt. Mem.\n
LOCATION:
END:VEVENT
BEGIN:VEVENT
SUMMARY:Saturday of the Sixth Week of Easter
DTSTART;VALUE=DATE:20260515
DTEND;VALUE=DATE:20260516
UID:132971449412
DESCRIPTION:Today's Color: White  \nToday's Rank: Weekday  \n
LOCATION:
END:VEVENT
BEGIN:VEVENT
SUMMARY:Seventh Sunday of Easter
DTSTART;VALUE=DATE:20260516
DTEND;VALUE=DATE:20260517
UID:209626154800
DESCRIPTION:Today's Color: White  \nToday's Rank: Sunday   \n
LOCATION:
END:VEVENT
BEGIN:VEVENT
SUMMARY:John I\, Po & M
DTSTART;VALUE=DATE:20260517
DTEND;VALUE=DATE:20260518
UID:638515323482
DESCRIPTION:Today's Color: White  \nToday's Rank: Opt. Mem.\n
LOCATION:
END:VEVENT
BEGIN:VEVENT
SUMMARY:Tuesday of the Seventh Week of Easter
DTSTART;VALUE=DATE:20260518
DTEND;VALUE=DATE:20260519
UID:373309095629
DESCRIPTION:Today's Color: White  \nToday's Rank: Weekday  \n
LOCATION:
END:VEVENT
BEGIN:VEVENT
SUMMARY:Bernardine of Siena\, P
DTSTART;VALUE=DATE:20260519
DTEND;VALUE=DATE:20260520
UID:727675836972
DESCRIPTION:Today's Color: White  \nToday's Rank: Opt. Mem.\n
LOCATION:
END:VEVENT
END:VCALENDAR
