BEGIN:VCALENDAR
VERSION:2.0
PRODID:-//chikkutakku.com//RDFCal 1.0//EN
X-WR-CALDESC:GoogleカレンダーやiCalendar形式情報を共有シェ
 アしましょう。近所のイベントから全国のイベントま
 で今日のイベント検索やスケジュールを決めるならち
 っくたっく
X-WR-CALNAME:ちっくたっく
X-WR-TIMEZONE:UTC
BEGIN:VEVENT
SUMMARY:【仮予約4/24迄】10:00～13:00
DTSTART;VALUE=DATE-TIME:20260424T010000Z
DTEND;VALUE=DATE-TIME:20260424T040000Z
UID:159078674821
DESCRIPTION:【仮予約4/24迄】10:00～13:00
LOCATION:
END:VEVENT
BEGIN:VEVENT
SUMMARY:【仮予約4/24迄】17:00～19:00
DTSTART;VALUE=DATE-TIME:20260424T080000Z
DTEND;VALUE=DATE-TIME:20260424T100000Z
UID:324632516144
DESCRIPTION:★
LOCATION:
END:VEVENT
BEGIN:VEVENT
SUMMARY:【本予約M様】11:30～15:30
DTSTART;VALUE=DATE-TIME:20260425T023000Z
DTEND;VALUE=DATE-TIME:20260425T063000Z
UID:144741402579
DESCRIPTION:【本予約M様】11:30～15:30
LOCATION:
END:VEVENT
BEGIN:VEVENT
SUMMARY:入室
DTSTART;VALUE=DATE-TIME:20260426T021500Z
DTEND;VALUE=DATE-TIME:20260426T031500Z
UID:354942276998
DESCRIPTION:入室
LOCATION:
END:VEVENT
BEGIN:VEVENT
SUMMARY:【本予約MD様】11:30～17:00
DTSTART;VALUE=DATE-TIME:20260426T023000Z
DTEND;VALUE=DATE-TIME:20260426T080000Z
UID:336464976593
DESCRIPTION:【本予約MD様】11:30～17:00
LOCATION:
END:VEVENT
BEGIN:VEVENT
SUMMARY:清掃
DTSTART;VALUE=DATE-TIME:20260426T080000Z
DTEND;VALUE=DATE-TIME:20260426T083000Z
UID:260075613301
DESCRIPTION:清掃
LOCATION:
END:VEVENT
BEGIN:VEVENT
SUMMARY:【本予約王魏青玉様】15:00～18:00
DTSTART;VALUE=DATE-TIME:20260429T060000Z
DTEND;VALUE=DATE-TIME:20260429T090000Z
UID:108988408353
DESCRIPTION:【本予約王魏青玉様】15:00～18:00
LOCATION:
END:VEVENT
BEGIN:VEVENT
SUMMARY:【本予約がおめう様】11:00～16:00
DTSTART;VALUE=DATE-TIME:20260503T020000Z
DTEND;VALUE=DATE-TIME:20260503T070000Z
UID:129250726104
DESCRIPTION:【本予約がおめう様】11:00～16:00
LOCATION:
END:VEVENT
BEGIN:VEVENT
SUMMARY:入室
DTSTART;VALUE=DATE-TIME:20260504T034500Z
DTEND;VALUE=DATE-TIME:20260504T044500Z
UID:126705447134
DESCRIPTION:入室
LOCATION:
END:VEVENT
BEGIN:VEVENT
SUMMARY:【本予約K様】13：00～16：00
DTSTART;VALUE=DATE-TIME:20260504T040000Z
DTEND;VALUE=DATE-TIME:20260504T070000Z
UID:317233255069
DESCRIPTION:【本予約K様】13：00～16：00
LOCATION:
END:VEVENT
BEGIN:VEVENT
SUMMARY:清掃
DTSTART;VALUE=DATE-TIME:20260504T070000Z
DTEND;VALUE=DATE-TIME:20260504T073000Z
UID:309847797235
DESCRIPTION:清掃
LOCATION:
END:VEVENT
BEGIN:VEVENT
SUMMARY:入室
DTSTART;VALUE=DATE-TIME:20260517T004500Z
DTEND;VALUE=DATE-TIME:20260517T014500Z
UID:636762186248
DESCRIPTION:入室
LOCATION:
END:VEVENT
BEGIN:VEVENT
SUMMARY:【本予約かすみやたまる様】10：00～14：00
DTSTART;VALUE=DATE-TIME:20260517T010000Z
DTEND;VALUE=DATE-TIME:20260517T050000Z
UID:488961384225
DESCRIPTION:【本予約かすみやたまる様】10：00～14：00
LOCATION:
END:VEVENT
BEGIN:VEVENT
SUMMARY:清掃
DTSTART;VALUE=DATE-TIME:20260517T050000Z
DTEND;VALUE=DATE-TIME:20260517T053000Z
UID:191638468393
DESCRIPTION:清掃
LOCATION:
END:VEVENT
END:VCALENDAR
