BEGIN:VCALENDAR
VERSION:2.0
PRODID:-//chikkutakku.com//RDFCal 1.0//EN
X-WR-CALDESC:GoogleカレンダーやiCalendar形式情報を共有シェ
 アしましょう。近所のイベントから全国のイベントま
 で今日のイベント検索やスケジュールを決めるならち
 っくたっく
X-WR-CALNAME:ちっくたっく
X-WR-TIMEZONE:UTC
BEGIN:VEVENT
SUMMARY:CCS Thursday evening TT series - Acton Circuit
DTSTART;VALUE=DATE-TIME:20260423T174500Z
DTEND;VALUE=DATE-TIME:20260423T184500Z
UID:146379865892
DESCRIPTION:CCS Thursday evening TT series - Acton Circuit
LOCATION:Lavenham\, Sudbury CO10\, UK
END:VEVENT
BEGIN:VEVENT
SUMMARY:CCS Thursday evening TT series - Colchester Northern Gateway
DTSTART;VALUE=DATE-TIME:20260430T180000Z
DTEND;VALUE=DATE-TIME:20260430T190000Z
UID:136986186046
DESCRIPTION:CCS Thursday evening TT series - Colchester Northern Gateway
LOCATION:Colchester Northern Gateway Track
END:VEVENT
BEGIN:VEVENT
SUMMARY:CCS Thursday evening TT series - Brent Eleigh
DTSTART;VALUE=DATE-TIME:20260507T180000Z
DTEND;VALUE=DATE-TIME:20260507T190000Z
UID:244438999277
DESCRIPTION:CCS Thursday evening TT series - Brent Eleigh
LOCATION:Lavenham\, Sudbury CO10\, UK
END:VEVENT
BEGIN:VEVENT
SUMMARY:CCS Thursday evening TT series - Acton Circuit
DTSTART;VALUE=DATE-TIME:20260514T180000Z
DTEND;VALUE=DATE-TIME:20260514T190000Z
UID:323639045226
DESCRIPTION:CCS Thursday evening TT series - Acton Circuit
LOCATION:Lavenham\, Sudbury CO10\, UK
END:VEVENT
END:VCALENDAR
