BEGIN:VCALENDAR
VERSION:2.0
PRODID:-//chikkutakku.com//RDFCal 1.0//EN
X-WR-CALDESC:GoogleカレンダーやiCalendar形式情報を共有シェ
 アしましょう。近所のイベントから全国のイベントま
 で今日のイベント検索やスケジュールを決めるならち
 っくたっく
X-WR-CALNAME:ちっくたっく
X-WR-TIMEZONE:UTC
BEGIN:VEVENT
SUMMARY: A東京 - FE名古屋
DTSTART;VALUE=DATE-TIME:20260422T100500Z
DTEND;VALUE=DATE-TIME:20260422T120500Z
UID:288848872318
DESCRIPTION:
LOCATION:TOYOTA ARENA TOKYO
END:VEVENT
BEGIN:VEVENT
SUMMARY: FE名古屋 - 長崎
DTSTART;VALUE=DATE-TIME:20260425T063500Z
DTEND;VALUE=DATE-TIME:20260425T083500Z
UID:921245728876
DESCRIPTION:
LOCATION:名古屋市枇杷島スポーツセンター
END:VEVENT
BEGIN:VEVENT
SUMMARY: FE名古屋 - 長崎
DTSTART;VALUE=DATE-TIME:20260426T063500Z
DTEND;VALUE=DATE-TIME:20260426T083500Z
UID:162082829786
DESCRIPTION:
LOCATION:名古屋市枇杷島スポーツセンター
END:VEVENT
BEGIN:VEVENT
SUMMARY: 島根 - FE名古屋
DTSTART;VALUE=DATE-TIME:20260502T060500Z
DTEND;VALUE=DATE-TIME:20260502T080500Z
UID:221334827794
DESCRIPTION:
LOCATION:カミアリーナ
END:VEVENT
BEGIN:VEVENT
SUMMARY: 島根 - FE名古屋
DTSTART;VALUE=DATE-TIME:20260503T050500Z
DTEND;VALUE=DATE-TIME:20260503T070500Z
UID:233914851543
DESCRIPTION:
LOCATION:カミアリーナ
END:VEVENT
END:VCALENDAR
