BEGIN:VCALENDAR
VERSION:2.0
PRODID:-//chikkutakku.com//RDFCal 1.0//EN
X-WR-CALDESC:GoogleカレンダーやiCalendar形式情報を共有シェ
 アしましょう。近所のイベントから全国のイベントま
 で今日のイベント検索やスケジュールを決めるならち
 っくたっく
X-WR-CALNAME:ちっくたっく
X-WR-TIMEZONE:UTC
BEGIN:VEVENT
SUMMARY:[3年生]練習@赤羽小(15:00-17:00)
DTSTART;VALUE=DATE-TIME:20251121T150000Z
DTEND;VALUE=DATE-TIME:20260423T150000Z
UID:112782505804
DESCRIPTION:[3年生]練習@赤羽小(15:00-17:00)
LOCATION:北区立赤羽小学校\, 日本、〒115-0045 東京都北区
 赤羽１丁目２４−６
END:VEVENT
BEGIN:VEVENT
SUMMARY:[4\,5\,6年生]練習@八幡小(15:00-17:00)
DTSTART;VALUE=DATE-TIME:20251121T150000Z
DTEND;VALUE=DATE-TIME:20260423T150000Z
UID:110282985232
DESCRIPTION:[4\,5\,6年生]練習@八幡小(15:00-17:00)
LOCATION:北区立八幡小学校\, 日本、〒115-0053 東京都北区
 赤羽台３丁目１８−５
END:VEVENT
BEGIN:VEVENT
SUMMARY:[5\,6年生]練習@八幡小(15:00-17:00)
DTSTART;VALUE=DATE-TIME:20260424T150000Z
DTEND;VALUE=DATE-TIME:20260424T150000Z
UID:150592827917
DESCRIPTION:[5\,6年生]練習@八幡小(15:00-17:00)
LOCATION:北区立八幡小学校\, 日本、〒115-0053 東京都北区
 赤羽台３丁目１８−５
END:VEVENT
BEGIN:VEVENT
SUMMARY:!場所変更![年長\,1\,2年生]練習@八幡小(15:00-17:00)
DTSTART;VALUE=DATE-TIME:20260425T060000Z
DTEND;VALUE=DATE-TIME:20260425T080000Z
UID:952818264221
DESCRIPTION:!場所変更![年長\,1\,2年生]練習@八幡小(15:00-17:00
 )
LOCATION:北区立八幡小学校\, 日本、〒115-0053 東京都北区
 赤羽台３丁目１８−５
END:VEVENT
BEGIN:VEVENT
SUMMARY:[3\,4年生]練習@赤羽小(15:00-17:00)
DTSTART;VALUE=DATE-TIME:20260425T150000Z
DTEND;VALUE=DATE-TIME:20260425T150000Z
UID:623790390833
DESCRIPTION:[3\,4年生]練習@赤羽小(15:00-17:00)
LOCATION:北区立赤羽小学校\, 日本、〒115-0045 東京都北区
 赤羽１丁目２４−６
END:VEVENT
BEGIN:VEVENT
SUMMARY:[5\,6年生]練習@八幡小(15:00-17:00)
DTSTART;VALUE=DATE-TIME:20260425T150000Z
DTEND;VALUE=DATE-TIME:20260425T150000Z
UID:746808940795
DESCRIPTION:[5\,6年生]練習@八幡小(15:00-17:00)
LOCATION:北区立八幡小学校\, 日本、〒115-0053 東京都北区
 赤羽台３丁目１８−５
END:VEVENT
BEGIN:VEVENT
SUMMARY:!場所変更![3年生]練習@八幡小(13:00-15:00)
DTSTART;VALUE=DATE-TIME:20260426T040000Z
DTEND;VALUE=DATE-TIME:20260426T060000Z
UID:108423950362
DESCRIPTION:!場所変更![3年生]練習@八幡小(13:00-15:00)
LOCATION:北区立八幡小学校\, 日本、〒115-0053 東京都北区
 赤羽台３丁目１８−５
END:VEVENT
BEGIN:VEVENT
SUMMARY:!場所変更![年長\,1\,2年生]練習@八幡小(15:00-17:00)
DTSTART;VALUE=DATE-TIME:20260426T040000Z
DTEND;VALUE=DATE-TIME:20260426T060000Z
UID:106539793371
DESCRIPTION:!場所変更![年長\,1\,2年生]練習@八幡小(15:00-17:00
 )
LOCATION:北区立八幡小学校\, 日本、〒115-0053 東京都北区
 赤羽台３丁目１８−５
END:VEVENT
BEGIN:VEVENT
SUMMARY:[4年生]中学年リーグ@浮間Ｇ
DTSTART;VALUE=DATE-TIME:20260426T060000Z
DTEND;VALUE=DATE-TIME:20260426T080000Z
UID:139141873616
DESCRIPTION:[4年生]中学年リーグ@浮間Ｇ
LOCATION:浮間子どもスポーツ広場\, 日本、〒115-0051 東京
 都北区浮間４丁目２７−１
END:VEVENT
BEGIN:VEVENT
SUMMARY:[5\,6年生]練習@赤羽小(10:00 - 12:00)
DTSTART;VALUE=DATE-TIME:20260502T010000Z
DTEND;VALUE=DATE-TIME:20260502T030000Z
UID:847393905960
DESCRIPTION:[5\,6年生]練習@赤羽小(10:00 - 12:00)
LOCATION:北区立赤羽小学校\, 日本、〒115-0045 東京都北区
 赤羽１丁目２４−６
END:VEVENT
BEGIN:VEVENT
SUMMARY:[5\,6年生]練習@赤羽小(10:00 - 12:00)
DTSTART;VALUE=DATE-TIME:20260417T150000Z
DTEND;VALUE=DATE-TIME:20260514T150000Z
UID:124739243375
DESCRIPTION:[5\,6年生]練習@赤羽小(10:00 - 12:00)
LOCATION:北区立赤羽小学校\, 日本、〒115-0045 東京都北区
 赤羽１丁目２４−６
END:VEVENT
BEGIN:VEVENT
SUMMARY:[5\,6年生]練習@八幡小(10:00 - 12:00)
DTSTART;VALUE=DATE-TIME:20260515T150000Z
DTEND;VALUE=DATE-TIME:20260515T150000Z
UID:305295382802
DESCRIPTION:[5\,6年生]練習@八幡小(10:00 - 12:00)
LOCATION:北区立八幡小学校\, 日本、〒115-0053 東京都北区
 赤羽台３丁目１８−５
END:VEVENT
END:VCALENDAR
