BEGIN:VCALENDAR
VERSION:2.0
PRODID:-//chikkutakku.com//RDFCal 1.0//EN
X-WR-CALDESC:GoogleカレンダーやiCalendar形式情報を共有シェ
 アしましょう。近所のイベントから全国のイベントま
 で今日のイベント検索やスケジュールを決めるならち
 っくたっく
X-WR-CALNAME:ちっくたっく
X-WR-TIMEZONE:UTC
BEGIN:VEVENT
SUMMARY:โครงการ “พิพิธภัณฑ์ทัน
 ตกรรมจากรากฐานประวัติศาส
 ตร์สู่การแกะรอยฟัน” ข่าวป
 ระชาสัมพันธ์จาก : หน่วยพิพ
 ิธภัณฑ์และหอจดหมายเหตุ
DTSTART;VALUE=DATE:20260423
DTEND;VALUE=DATE:20260424
UID:112592798718
DESCRIPTION:โครงการ “พิพิธภัณฑ์ทั
 นตกรรมจากรากฐานประวัติศา
 สตร์สู่การแกะรอยฟัน”เรีย
 นรู้เบื้องหลังวิชาชีพทัน
 ตแพทย์ลงมือปฏิบัติจริง (Hands-
 on) กับทีมสหวิชาชีพณ คณะทันต
 แพทยศาสตร์ มหาวิทยาลัยมหิ
 ดลวันที่ 24 เมษายน 2569 สอบถามเ
 พิ่มเติมศูนย์การศึกษาต่อ
 เนื่องและบริการวิชาการโท
 ร. 02 200 7642 (ในวันและเวลาราชการ)
 ศึกษารายละเอียดโครงการแล
 ะลงทะเบียนได้ที่ :https://forms.gle/mSie4K
 VtLjveaQix8ข่าวประชาสัมพันธ์จาก :
  หน่วยพิพิธภัณฑ์และหอจดหม
 ายเหตุhttps://dt.mahidol.ac.th/news/news-20260224-1/
LOCATION:ณ คณะทันตแพทยศาสตร์ มหา
 วิทยาลัยมหิดล
END:VEVENT
BEGIN:VEVENT
SUMMARY:กิจกรรมให้คำปรึกษาผลงา
 นคุณภาพ เดือนเมษายน ได้รับ
 ข้อเสนอแนะเพื่อปรับปรุงแ
 ก้ไขผลงานคุณภาพก่อนส่งปร
 ะกวด  ข่าวประชาสัมพันธ์จาก
  : งานบริหารคุณภาพ
DTSTART;VALUE=DATE:20260426
DTEND;VALUE=DATE:20260427
UID:255763310919
DESCRIPTION:🧐 ขอเชิญบุคลากรที่สนใ
 จเข้าร่วมกิจกรรมให้คำปรึ
 กษาผลงานคุณภาพ เดือนเมษาย
 น ได้รับข้อเสนอแนะเพื่อปร
 ับปรุงแก้ไขผลงานคุณภาพก่
 อนส่งประกวด ข่าวประชาสัมพ
 ันธ์จาก : งานบริหารคุณภาพ ⏰
 กำหนดการ :  27 เมษายน 2569 เวลา 09.00
  น. 📍สถานที่ : ณ ห้องประชุม B7 
 ชั้น 7 อาคารเฉลิมพระเกียรต
 ิ 50 พรรษาลงทะเบียนร่วมกิจก
 รรม ได้ที่ https://docs.google.com/forms/d/e/1FAIpQLSeNL
 mxCtGCkIkJGgA6lGL8tFuoH10pSoaPtmH0oxt6HSSZb7Q/viewform หมดเขต
 ลงทะเบียน  20 เมษายน 2569  ☎️ติด
 ต่อสอบถาม : งานบริหารคุณภา
 พ ชั้น 11 โทร 02 200 7610-12
LOCATION:ณ ห้องประชุม B7 ชั้น 7 อาคา
 รเฉลิมพระเกียรติ 50 พรรษา
END:VEVENT
BEGIN:VEVENT
SUMMARY:ตลาดนัดขยะรีไซเคิลของช
 าวทันตฯ มหิดล เดือนเมษายน 25
 69  ข่าวประชาสัมพันธ์จาก : หน
 ่วยสิ่งแวดล้อมและอนุรักษ
 ์พลังงาน
DTSTART;VALUE=DATE-TIME:20260429T060000Z
DTEND;VALUE=DATE-TIME:20260429T073000Z
UID:141772136774
DESCRIPTION:🚮 ตลาดนัดขยะรีไซเคิลข
 องชาวทันตฯ มหิดล เดือนเมษา
 ยน 2569ข่าวประชาสัมพันธ์จาก : 
 หน่วยสิ่งแวดล้อมและอนุรั
 กษ์พลังงาน📆 วันเวลาที่เริ
 ่มงาน :29 เมษายน 2569 เวลา 13.00 – 14.30 
 น.📍 สถานที่จำหน่าย :ณ บริเว
 ณลานอเนกประสงค์ ชั้น 1อาคา
 รเฉลิมพระเกียรติ 50 พรรษาLink 
 ข่าวประชาสัมพันธ์ : https://dt.mahidol.a
 c.th/news/news-20260408-6/
LOCATION:
END:VEVENT
BEGIN:VEVENT
SUMMARY:กิจกรรม “Prompt Engineering ขั้นพื้
 นฐาน” ภายใต้โครงการเสริมส
 ร้างทักษะ AI เพื่อเพิ่มประส
 ิทธิภาพในการทำงาน (AI for Development Pr
 ogram)  ข่าวประชาสัมพันธ์จาก : ห
 น่วยพัฒนาทรัพยากรบุคคล งา
 นทรัพยากรบุคคล
DTSTART;VALUE=DATE-TIME:20260429T060000Z
DTEND;VALUE=DATE-TIME:20260429T090000Z
UID:102706753868
DESCRIPTION:🖥️ ขอเชิญบุคลากรสังกั
 ดคณะทันตแพทยศาสตร์ มหาวิท
 ยาลัยมหิดล เข้าร่วมกิจกรร
 ม “Prompt Engineering ขั้นพื้นฐาน” ภาย
 ใต้โครงการเสริมสร้างทักษ
 ะ AI เพื่อเพิ่มประสิทธิภาพใ
 นการทำงาน (AI for Development Program)ข่าวปร
 ะชาสัมพันธ์จาก : หน่วยพัฒน
 าทรัพยากรบุคคล งานทรัพยาก
 รบุคคลวิทยากรโดย ผู้ช่วยศ
 าสตราจารย์ ดร.ทวีศักดิ์ สม
 านชื่นรองผู้อำนวยการฝ่าย
 เทคโนโลยีดิจิทัล หอสมุดแล
 ะคลังความรู้มหาวิทยาลัยม
 หิดล⏰ วันเวลาที่เริ่มงาน : 2
 9 เมษายน 2569 เวลา 13.00 - 16.00 น. (ลงทะเ
 บียน เวลา 12.45 น.)📍 สถานที่ : ณ ห
 ้องประชุม 304 - 305 ชั้น 3 อาคารเฉ
 ลิมพระเกียรติ 50 พรรษา🔹 ลงท
 ะเบียนเข้าร่วมโครงการ ได้
 ที่ : https://docs.google.com/forms/d/e/1FAIpQLSeX5IdENraY7_Zajj4M6m
 BRdbabyC3T7fpSdMc0EWMkV9ZpAQ/viewformลงทะเบียนตั้
 งแต่บัดนี้ จนถึง วันจันทร์
 ที่ 20 เมษายน 2569 หรือจนกว่าจะ
 เต็ม✳️ หมายเหตุ ผู้ที่ลงทะ
 เบียนเข้าร่วมกิจกรรมล่วง
 หน้ามีสิทธิ์ลุ้นรับเงินร
 างวัล 500 บาท จำนวน 3 รางวัล
LOCATION:ณ ห้องประชุม 304 - 305 ชั้น 3 อ
 าคารเฉลิมพระเกียรติ 50 พรรษ
 า
END:VEVENT
BEGIN:VEVENT
SUMMARY:Digital Era in Dentistry: Intraoral Scanner & CBCT โดยภา
 ควิชารังสีวิทยาช่องปากแล
 ะแม็กซิลโลเฟเชียล ร่วมกับ 
 ศูนย์การศึกษาต่อเนื่องแล
 ะบริการวิชาการ คณะทันตแพท
 ยศาสตร์ มหาวิทยาลัยมหิดล
DTSTART;VALUE=DATE-TIME:20260429T010000Z
DTEND;VALUE=DATE-TIME:20260429T093000Z
UID:102449990558
DESCRIPTION:☢️ Digital Era in Dentistry: Intraoral Scanner &amp\; CBCT
 โดยภาควิชารังสีวิทยาช่อง
 ปากและแม็กซิลโลเฟเชียล ร่
 วมกับ ศูนย์การศึกษาต่อเนื
 ่องและบริการวิชาการ คณะทั
 นตแพทยศาสตร์ มหาวิทยาลัยม
 หิดล✍️ขอเชิญร่วมรับฟัง แล
 กเปลี่ยนประสบการณ์ เรียนร
 ู้โปรแกรมของเครื่อง CBCT และ
 ทดลองใช้ Intraoral Scannerข่าวประชาส
 ัมพันธ์จาก : ศูนย์การศึกษา
 ต่อเนื่องและบริการวิชากา
 ร📅 วันเวลาที่เริ่มงาน : 29 เม
 ษายน 2569 เวลา 8.00 - 16.30 น.📍 Onsite: ณ ห้อ
 งประชุมเทพรัตนทันตกิจสโม
 สร ชั้น 4อาคารเฉลิมพระเกีย
 รติ 50 พรรษา🎥 Online: ถ่ายทอดสดผ่
 านกลุ่มปิด Facebook(สามารถรับชม
 ย้อนหลังได้หนึ่งเดือนทั้
 งรูปแบบ online และ onsite)ลงทะเบียน
 ได้ที่ https://dtcon.mahidol.ac.th/view/1100✨ผู้ลง
 ทะเบียนเข้าร่วม รับ CDEC 6 หน่
 วยกิจกรรม✨Link ข่าวประชาสัมพ
 ันธ์ : https://dt.mahidol.ac.th/news/news-20260129-2/
LOCATION:ณ ห้องประชุมเทพรัตนทัน
 ตกิจสโมสร ชั้น 4 อาคารเฉลิม
 พระเกียรติ 50 พรรษา
END:VEVENT
BEGIN:VEVENT
SUMMARY:ขอเชิญคณาจารย์ นักวิจั
 ย และผู้ปฏิบัติงานที่เกี่
 ยวข้องกับ เชื้อโรค พิษจากส
 ัตว์ และเทคโนโลยีชีวภาพสม
 ัยใหม่ เข้าร่วมอบรม หลักสู
 ตรความปลอดภัยทางชีวภาพ แล
 ะการรักษาความปลอดภัยทางช
 ีวภาพ (รับจำนวนจำกัดเพียง 15
  ท่าน)  ข่าวประชาสัมพันธ์จา
 ก : สำนักงานการวิจัย
DTSTART;VALUE=DATE:20260428
DTEND;VALUE=DATE:20260430
UID:278683690188
DESCRIPTION:ขอเชิญคณาจารย์ นักวิจ
 ัย และผู้ปฏิบัติงานที่เกี
 ่ยวข้องกับเชื้อโรค พิษจาก
 สัตว์ และเทคโนโลยีชีวภาพส
 มัยใหม่เข้าร่วมอบรม หลักส
 ูตรความปลอดภัยทางชีวภาพ แ
 ละการรักษาความปลอดภัยทาง
 ชีวภาพ(รับจำนวนจำกัดเพียง 
 15 ท่าน)ข่าวประชาสัมพันธ์จา
 ก : สำนักงานการวิจัย⏰ วันเว
 ลาที่เริ่มงาน : 29 - 30 เมษายน 2569
 📍 สถานที่ : ณ ห้องประชุม ชั้
 น 3 อาคารเฉลิมพระเกียรติ 50 พ
 รรษา (ส่วนหลัง)📌ผู้สนใจสาม
 ารถส่งใบสมัครได้ที่ สำนัก
 งานการวิจัย ชั้น 7 อาคารปฏิ
 บัติการวิจัยระหว่างวันที
 ่ 30 มีนาคม - 10 เมษายน 2569กำหนดก
 ารและใบสมัคร : https://dt.mahidol.ac.th/wp-content
 /uploads/2026/03/form-20250323.pdf✳️ หมายเหตุ : ผู
 ้เข้ารับการอบรมต้องมีเวล
 าเข้าร่วมอบรมไม่น้อยกว่า 8
 0% ของระยะเวลาอบรมทั้งหมด แ
 ละต้องผ่านเกณฑ์การทดสอบ 70% 
 ขึ้นไป จึงจะมีสิทธิ์ได้รั
 บใบรับรองผ่านการอบรม (Certificate)
 ⚠️ ขอสงวนสิทธิ์ในการรับผู
 ้สมัครตามลำดับก่อน–หลัง☎
 ️ ติดต่อสอบถาม  สำนักงานกา
 รวิจัย โทร. 7620
LOCATION:ณ ห้องประชุม ชั้น 3 อาคาร
 เฉลิมพระเกียรติ 50 พรรษา (ส่
 วนหลัง)
END:VEVENT
BEGIN:VEVENT
SUMMARY:กิจกรรมตลาดคุณธรรม MUDENT Mora
 l Market ประจำปีงบประมาณ 2569  ข่าว
 ประชาสัมพันธ์จาก : คณะทำงา
 นจัดทำและขับเคลื่อนแผนปฏ
 ิบัติการส่งเสริมคุณธรรม
DTSTART;VALUE=DATE-TIME:20260512T010000Z
DTEND;VALUE=DATE-TIME:20260512T053000Z
UID:178158806180
DESCRIPTION:ขอเชิญคณาจารย์ บุคลาก
 รชาวทันตฯ มหิดล ทุกท่าน ร่
 วมกิจกรรมตลาดคุณธรรม MUDENT Moral 
 Marketประจำปีงบประมาณ 2569ข่าวปร
 ะชาสัมพันธ์จาก : คณะทำงานจ
 ัดทำและขับเคลื่อนแผนปฏิบ
 ัติการส่งเสริมคุณธรรม⏰วั
 นเวลาที่เริ่มงาน : 12 พฤษภาค
 ม 2569 เวลา 08.00 - 12.30 น .📍สถานที่ : ณ 
 ห้องประชุมเทพรัตนทันตกิจ
 สโมสร ชั้น 4 อาคารเฉลิมพระเ
 กียรติ 50 พรรษากำหนดการและล
 งทะเบียน ได้ที่ : https://docs.google.com/form
 s/d/e/1FAIpQLScq6hpxDgs4In5-zUI_LymGMeSALepQPqOmH7Tn7-IdjESiUw/viewform 
 ลงทะเบียนตั้งแต่บัดนี้ - ว
 ันที่ 8 พฤษภาคม 2569พิเศษ 150 คนแ
 รก !! ที่ลงทะเบียนก่อนจะได้
 รับ "ถุงผ้าคุณธรรม" และของร
 างวัลอีกมากมาย📞 ติดต่อสอบ
 ถาม : หน่วยกฎหมาย 02 200 7566
LOCATION:ณ ห้องประชุมเทพรัตนทัน
 ตกิจสโมสร ชั้น 4 อาคารเฉลิม
 พระเกียรติ 50 พรรษา
END:VEVENT
BEGIN:VEVENT
SUMMARY:อบรม หลักสูตรการฝึกอบร
 มทันตกรรมผู้สูงอายุ สาขาเ
 วชศาสตร์ช่องปาก ระยะสั้น 4 
 เดือน เรื่อง “การจัดการ ดู
 แล และการรักษาผู้ป่วยสูงอ
 ายุที่มีรอยโรคช่องปากที่
 พบบ่อย” รุ่นที่ 3 พ.ศ. 2569 👵
DTSTART;VALUE=DATE:20260510
DTEND;VALUE=DATE:20260515
UID:232831662186
DESCRIPTION:📣เปิดรับสมัครผู้เข้า
 ร่วมอบรม หลักสูตรการฝึกอบ
 รมทันตกรรมผู้สูงอายุ สาขา
 เวชศาสตร์ช่องปาก ระยะสั้น 
 4 เดือนเรื่อง “การจัดการ ดู
 แล และการรักษาผู้ป่วยสูงอ
 ายุที่มีรอยโรคช่องปากที่
 พบบ่อย” รุ่นที่ 3 พ.ศ. 2569 👵โดย
 ภาควิชาเวชศาสตร์ช่องปากแ
 ละปริทันตวิทยา ร่วมกับศูน
 ย์การศึกษาต่อเนื่องและบร
 ิการวิชาการ คณะทันตแพทยศา
 สตร์ มหาวิทยาลัยมหิดลข่าว
 ประชาสัมพันธ์จาก : ศูนย์กา
 รศึกษาต่อเนื่องและบริการ
 วิชาการ🗓️ ระยะเวลาการฝึกอ
 บรม ระหว่างเดือนพฤษภาคม – 
 เดือนสิงหาคม 2569โดยแบ่งเป็น
  4 modules🔸Module 1: วันที่ 11-15 พฤษภาคม 256
 9🔸Module 2: วันที่ 8-12 มิถุนายน 2569🔸Mo
 dule 3: วันที่ 6-10 กรกฎาคม 2569🔸Module 4: 
 วันที่ 3-7 สิงหาคม 2569📍 ครอบคล
 ุมการบรรยาย อภิปราย/นำเสนอ
 กรณีผู้ป่วย สัมมนาบทความท
 างวิชาการ การฝึกปฏิบัติจร
 ิงในคลินิก สังเกตการณ์ และ
 การศึกษาดูงานลงทะเบียนได
 ้ที่ https://dtcon.mahidol.ac.th/view/1101💷 ค่าลงท
 ะเบียน 65\,000 บาท/คน✨ พิเศษสำหร
 ับผู้เข้าร่วมอบรม✨ ผู้เข้
 ารับการอบรม จะได้ฟังบรรยา
 ยแบบ online โครงการศึกษาต่อเนื
 ่องและบริการวิชาการ ภาควิ
 ชาเวชศาสตร์ช่องปากและปริ
 ทันตวิทยา เรื่อง Practical Approaches to OPM
 Ds: Perspectives from Oral Medicine\, Oral Pathology\, and Oral Surgery 
 ในวันที่ 31 มีนาคม - 1 เมษายน 2569
  (ฟรี โดยไม่เสียค่าลงทะเบี
 ยน)Link ข่าวประชาสัมพันธ์ : https://
 dt.mahidol.ac.th/news/news-20260129-3/
LOCATION:
END:VEVENT
BEGIN:VEVENT
SUMMARY:งาน Postgraduate Journey at DTMU เรียนต่อท
 ี่ไหนดี? เรียนต่อที่ทันตฯ 
 มหิดล  ข่าวประชาสัมพันธ์จา
 ก : งานบริหารการศึกษาหลังป
 ริญญา
DTSTART;VALUE=DATE-TIME:20260518T020000Z
DTEND;VALUE=DATE-TIME:20260518T090000Z
UID:143109030706
DESCRIPTION:ขอเชิญ ทันตแพทย์และบุ
 คลากรที่สนใจศึกษาต่อในระ
 ดับหลังปริญญาเข้าร่วมงาน P
 ostgraduate Journey at DTMUเรียนต่อที่ไหนด
 ี? เรียนต่อที่ทันตฯ มหิดลข
 ่าวประชาสัมพันธ์จาก : งานบ
 ริหารการศึกษาหลังปริญญาว
 ิทยากร โดย👩‍🔬รองศาสตราจา
 รย์ ทันตแพทย์หญิงประภาศรี 
 ริรัตนพงษ์รองคณบดีฝ่ายวิ
 ชาการและการศึกษาหลังปริญ
 ญา👨‍🔬อาจารย์ ทันตแพทย์ปิ
 ยะวุฒิ ฐิติศักดิ์โยธิน👩‍
 🔬ผู้ช่วยศาสตราจารย์ ทันตแ
 พทย์หญิงสุขกาญจน์ เต็มคำข
 วัญผู้ช่วยคณบดีฝ่ายวิชาก
 ารและการศึกษาหลังปริญญา👨
 ‍🔬อาจารย์ ทันตแพทย์สิทธิช
 ัย ทับสุวรรณ์⏰ วันเวลาที่เ
 ริ่มงาน : 18 พฤษภาคม 2569 เวลา 09.00 -
  16.00 น.📍สถานที่ : ณ ห้องประชุม
 เทพรัตนทันตกิจสโมสร ชั้น 4 
 อาคารเฉลิมพระเกียรติ 50 พรร
 ษาเปิดรับลงทะเบียน ถึง 18 เม
 ษายน 2569 (ไม่มีค่าลงทะเบียน) 
 ได้ที่ : https://docs.google.com/forms/d/e/1FAIpQLSeCCCaoWZvLw
 xwI8Y6Lp-okbO4KniakUx8qPuTqhPZmGdj63g/viewform(ได้รับใบเ
 กียรติบัตรการเข้าร่วมงาน 
 ผู้ลงทะเบียนได้รับ CDEC 5.5 credits)
 ☎️ ติดต่อสอบถาม : งานบริหาร
 การศึกษาหลังปริญญา โทร. 02 200 7
 642📧 dtmucdec@mahidol.ac.thLink ข่าวประชาสัมพ
 ันธ์ : https://dt.mahidol.ac.th/news/news-20260306-2/
LOCATION:ณ ห้องประชุมเทพรัตนทัน
 ตกิจสโมสร ชั้น 4 อาคารเฉลิม
 พระเกียรติ 50 พรรษา
END:VEVENT
BEGIN:VEVENT
SUMMARY:🧑‍🤝‍🧑 สัมมนาบุคลากรสา
 ยวิชาการ และผู้ช่วยอาจารย
 ์ DTMU Impact in Action  ข่าวประชาสัมพัน
 ธ์จาก : คณะทันตแพทยศาสตร์ ม
 หาวิทยาลัยมหิดล
DTSTART;VALUE=DATE:20260519
DTEND;VALUE=DATE:20260521
UID:558954682500
DESCRIPTION:🧑‍🤝‍🧑 สัมมนาบุคลากรส
 ายวิชาการ และผู้ช่วยอาจาร
 ย์DTMU Impact in Actionข่าวประชาสัมพัน
 ธ์จาก : คณะทันตแพทยศาสตร์ ม
 หาวิทยาลัยมหิดล⏰ วันเวลาท
 ี่เริ่มงาน :20-21 พฤษภาคม 2569📍 ส
 ถานที่ :ณ คณะทันตแพทยศาสตร
 ์ มหาวิทยาลัยมหิดลDTMU Core Value :♥
 ️Dedication♥️Trustworthy♥️Mindset of Excellence♥️UnityLink 
 ข่าวประชาสัมพันธ์ : https://dt.mahidol.a
 c.th/news/news-20260320-2/
LOCATION:ณ คณะทันตแพทยศาสตร์ มหา
 วิทยาลัยมหิดล
END:VEVENT
END:VCALENDAR
