BEGIN:VCALENDAR
VERSION:2.0
PRODID:-//chikkutakku.com//RDFCal 1.0//EN
X-WR-CALDESC:GoogleカレンダーやiCalendar形式情報を共有シェ
 アしましょう。近所のイベントから全国のイベントま
 で今日のイベント検索やスケジュールを決めるならち
 っくたっく
X-WR-CALNAME:ちっくたっく
X-WR-TIMEZONE:UTC
BEGIN:VEVENT
SUMMARY:【楽天ブックス限定先着特典】TVアニメ『違国日
 記』オリジナル・サウンドトラック LP【アナログ盤】(A
 4クリアファイル)
DTSTART;VALUE=DATE:20260421
DTEND;VALUE=DATE:20260422
UID:927310198055
DESCRIPTION:2026-04-22【楽天ブックス限定先着特典】TVアニ
 メ『違国日記』オリジナル・サウンドトラック LP【ア
 ナログ盤】(A4クリアファイル)牛尾憲輔(株)ポニーキャ
 ニオン
LOCATION:
END:VEVENT
BEGIN:VEVENT
SUMMARY:『超宇宙刑事ギャバン インフィニティ』オリジ
 ナル・サウンドトラック
DTSTART;VALUE=DATE:20260421
DTEND;VALUE=DATE:20260422
UID:115981764154
DESCRIPTION:2026-04-22『超宇宙刑事ギャバン インフィニティ
 』オリジナル・サウンドトラック園田健太郎、奈良悠
 樹/May'n/大西洋平/towana/Hyuga Yamada日本コロムビア(株)
LOCATION:
END:VEVENT
BEGIN:VEVENT
SUMMARY:【楽天ブックス限定配送BOX】【楽天ブックス限定
 同時購入特典】ULTRA (初回生産限定盤A (CD＋Blu-ray)＋初回
 生産限定盤B (CD＋Booklet)＋通常盤 (CD Only)セット）(コン
 パクトミラー（約53×85mm 厚さ5mm）)
DTSTART;VALUE=DATE:20260421
DTEND;VALUE=DATE:20260422
UID:146116616352
DESCRIPTION:2026-04-22【楽天ブックス限定配送BOX】【楽天ブ
 ックス限定同時購入特典】ULTRA (初回生産限定盤A (CD＋Bl
 u-ray)＋初回生産限定盤B (CD＋Booklet)＋通常盤 (CD Only)セッ
 ト）(コンパクトミラー（約53×85mm 厚さ5mm）)Hiromitsu Kitay
 ama(株)ポニーキャニオン
LOCATION:
END:VEVENT
BEGIN:VEVENT
SUMMARY:【楽天ブックス限定先着特典】ULTRA (初回生産限
 定盤A CD＋Blu-ray)(オリジナルステッカー（10cm角）)
DTSTART;VALUE=DATE:20260421
DTEND;VALUE=DATE:20260422
UID:102011573250
DESCRIPTION:2026-04-22【楽天ブックス限定先着特典】ULTRA (初
 回生産限定盤A CD＋Blu-ray)(オリジナルステッカー（10cm角
 ）)Hiromitsu Kitayama(株)ポニーキャニオン
LOCATION:
END:VEVENT
BEGIN:VEVENT
SUMMARY:ULTRA (初回生産限定盤A CD＋DVD)
DTSTART;VALUE=DATE:20260421
DTEND;VALUE=DATE:20260422
UID:419899982453
DESCRIPTION:2026-04-22ULTRA (初回生産限定盤A CD＋DVD)Hiromitsu Kit
 ayama(株)ポニーキャニオン
LOCATION:
END:VEVENT
BEGIN:VEVENT
SUMMARY:【楽天ブックス限定先着特典】ULTRA (初回生産限
 定盤B CD＋Booklet)(オリジナルステッカー（10cm角）)
DTSTART;VALUE=DATE:20260421
DTEND;VALUE=DATE:20260422
UID:119289186258
DESCRIPTION:2026-04-22【楽天ブックス限定先着特典】ULTRA (初
 回生産限定盤B CD＋Booklet)(オリジナルステッカー（10cm角
 ）)Hiromitsu Kitayama(株)ポニーキャニオン
LOCATION:
END:VEVENT
BEGIN:VEVENT
SUMMARY:【楽天ブックス限定配送BOX】【楽天ブックス限定
 同時購入特典】ULTRA (初回生産限定盤A (CD＋DVD)＋初回生
 産限定盤B (CD＋Booklet)＋通常盤 (CD Only)セット）(コンパ
 クトミラー（約53×85mm 厚さ5mm）)
DTSTART;VALUE=DATE:20260421
DTEND;VALUE=DATE:20260422
UID:202508955678
DESCRIPTION:2026-04-22【楽天ブックス限定配送BOX】【楽天ブ
 ックス限定同時購入特典】ULTRA (初回生産限定盤A (CD＋DV
 D)＋初回生産限定盤B (CD＋Booklet)＋通常盤 (CD Only)セット
 ）(コンパクトミラー（約53×85mm 厚さ5mm）)Hiromitsu Kitayama
 (株)ポニーキャニオン
LOCATION:
END:VEVENT
BEGIN:VEVENT
SUMMARY:ULTRA (初回生産限定盤A CD＋Blu-ray)
DTSTART;VALUE=DATE:20260421
DTEND;VALUE=DATE:20260422
UID:430852308751
DESCRIPTION:2026-04-22ULTRA (初回生産限定盤A CD＋Blu-ray)Hiromitsu
  Kitayama(株)ポニーキャニオン
LOCATION:
END:VEVENT
BEGIN:VEVENT
SUMMARY:【楽天ブックス限定先着特典】ULTRA (初回生産限
 定盤A CD＋DVD)(オリジナルステッカー（10cm角）)
DTSTART;VALUE=DATE:20260421
DTEND;VALUE=DATE:20260422
UID:251742145354
DESCRIPTION:2026-04-22【楽天ブックス限定先着特典】ULTRA (初
 回生産限定盤A CD＋DVD)(オリジナルステッカー（10cm角）)
 Hiromitsu Kitayama(株)ポニーキャニオン
LOCATION:
END:VEVENT
BEGIN:VEVENT
SUMMARY:【楽天ブックス限定先着特典】ULTRA 通常盤 (CD Only
 )(オリジナルステッカー（10cm角）)
DTSTART;VALUE=DATE:20260421
DTEND;VALUE=DATE:20260422
UID:111074230384
DESCRIPTION:2026-04-22【楽天ブックス限定先着特典】ULTRA 通
 常盤 (CD Only)(オリジナルステッカー（10cm角）)Hiromitsu Kit
 ayama(株)ポニーキャニオン
LOCATION:
END:VEVENT
BEGIN:VEVENT
SUMMARY:筒井康隆、九十歳のあとさき
DTSTART;VALUE=DATE:20260421
DTEND;VALUE=DATE:20260422
UID:122628008908
DESCRIPTION:2026-04-22筒井康隆、九十歳のあとさき筒井 康隆
 新潮社
LOCATION:
END:VEVENT
BEGIN:VEVENT
SUMMARY:不良老人の文学論
DTSTART;VALUE=DATE:20260421
DTEND;VALUE=DATE:20260422
UID:167758450060
DESCRIPTION:2026-04-22不良老人の文学論筒井 康隆新潮社
LOCATION:
END:VEVENT
BEGIN:VEVENT
SUMMARY:新装版 もやしもん（13）
DTSTART;VALUE=DATE:20260422
DTEND;VALUE=DATE:20260423
UID:955557864402
DESCRIPTION:2026-04-23新装版 もやしもん（13）石川 雅之講談
 社
LOCATION:
END:VEVENT
BEGIN:VEVENT
SUMMARY:【楽天ブックス限定先着特典】マクロスF ギャラ
 クシーライブ☆ファイナル 2025(通常盤)【Blu-ray】(ナッ
 プザック)
DTSTART;VALUE=DATE:20260428
DTEND;VALUE=DATE:20260429
UID:967563876187
DESCRIPTION:2026-04-29【楽天ブックス限定先着特典】マクロ
 スF ギャラクシーライブ☆ファイナル 2025(通常盤)【Blu-r
 ay】(ナップザック)シェリル・ノーム starring May'n/ランカ
 ・リー=中島愛(株)フライングドッグ
LOCATION:
END:VEVENT
BEGIN:VEVENT
SUMMARY:【楽天ブックス限定先着特典】マクロスF ギャラ
 クシーライブ☆ファイナル 2025(完全生産限定・ヤック
 デカルチャー特装盤)【Blu-ray】(ナップザック)
DTSTART;VALUE=DATE:20260428
DTEND;VALUE=DATE:20260429
UID:543073465908
DESCRIPTION:2026-04-29【楽天ブックス限定先着特典】マクロ
 スF ギャラクシーライブ☆ファイナル 2025(完全生産限定
 ・ヤックデカルチャー特装盤)【Blu-ray】(ナップザック)
 シェリル・ノーム starring May'n/ランカ・リー=中島愛(株)
 フライングドッグ
LOCATION:
END:VEVENT
BEGIN:VEVENT
SUMMARY:【先着特典】BANG!! / SAVE YOUR HEART / オドロウゼ！ (
 通常盤)(Snow Manロゴ入り箸(約20cm))
DTSTART;VALUE=DATE:20260428
DTEND;VALUE=DATE:20260429
UID:695234161968
DESCRIPTION:2026-04-29【先着特典】BANG!! / SAVE YOUR HEART / オド
 ロウゼ！ (通常盤)(Snow Manロゴ入り箸(約20cm))Snow Man(株)MEN
 T RECORDING
LOCATION:
END:VEVENT
BEGIN:VEVENT
SUMMARY:BANG!! / SAVE YOUR HEART / オドロウゼ！ (通常盤) (特典
 なし)
DTSTART;VALUE=DATE:20260428
DTEND;VALUE=DATE:20260429
UID:433183892888
DESCRIPTION:2026-04-29BANG!! / SAVE YOUR HEART / オドロウゼ！ (通
 常盤) (特典なし)Snow Man(株)MENT RECORDING
LOCATION:
END:VEVENT
BEGIN:VEVENT
SUMMARY:【先着特典】BANG!! / SAVE YOUR HEART / オドロウゼ！ (
 初回盤A CD＋DVD)(メタリックフォトカード2枚組(約89×127mm
 ))
DTSTART;VALUE=DATE:20260428
DTEND;VALUE=DATE:20260429
UID:841668962708
DESCRIPTION:2026-04-29【先着特典】BANG!! / SAVE YOUR HEART / オド
 ロウゼ！ (初回盤A CD＋DVD)(メタリックフォトカード2枚
 組(約89×127mm))Snow Man(株)MENT RECORDING
LOCATION:
END:VEVENT
BEGIN:VEVENT
SUMMARY:BANG!! / SAVE YOUR HEART / オドロウゼ！ (初回盤B CD＋DVD
 ) (特典なし)
DTSTART;VALUE=DATE:20260428
DTEND;VALUE=DATE:20260429
UID:108077107137
DESCRIPTION:2026-04-29BANG!! / SAVE YOUR HEART / オドロウゼ！ (初
 回盤B CD＋DVD) (特典なし)Snow Man(株)MENT RECORDING
LOCATION:
END:VEVENT
BEGIN:VEVENT
SUMMARY:BANG!! / SAVE YOUR HEART / オドロウゼ！ (初回盤A CD＋DVD
 ) (特典なし)
DTSTART;VALUE=DATE:20260428
DTEND;VALUE=DATE:20260429
UID:223471376921
DESCRIPTION:2026-04-29BANG!! / SAVE YOUR HEART / オドロウゼ！ (初
 回盤A CD＋DVD) (特典なし)Snow Man(株)MENT RECORDING
LOCATION:
END:VEVENT
BEGIN:VEVENT
SUMMARY:【先着特典】BANG!! / SAVE YOUR HEART / オドロウゼ！ (
 初回盤B CD＋DVD)(A4サイズステッカーシート(すのチルも
 オドロウゼ！ver.))
DTSTART;VALUE=DATE:20260428
DTEND;VALUE=DATE:20260429
UID:248689609286
DESCRIPTION:2026-04-29【先着特典】BANG!! / SAVE YOUR HEART / オド
 ロウゼ！ (初回盤B CD＋DVD)(A4サイズステッカーシート(す
 のチルもオドロウゼ！ver.))Snow Man(株)MENT RECORDING
LOCATION:
END:VEVENT
BEGIN:VEVENT
SUMMARY:BANG!! / SAVE YOUR HEART / オドロウゼ！ (初回盤A＋初回
 盤B＋通常盤セット) (特典なし)
DTSTART;VALUE=DATE:20260428
DTEND;VALUE=DATE:20260429
UID:175249158884
DESCRIPTION:2026-04-29BANG!! / SAVE YOUR HEART / オドロウゼ！ (初
 回盤A＋初回盤B＋通常盤セット) (特典なし)Snow Man(株)MENT
  RECORDING
LOCATION:
END:VEVENT
BEGIN:VEVENT
SUMMARY:【先着特典】BANG!! / SAVE YOUR HEART / オドロウゼ！ (
 初回盤A＋初回盤B＋通常盤セット)(メタリックフォトカ
 ード2枚組+A4サイズステッカーシート+Snow Manロゴ入り箸)
DTSTART;VALUE=DATE:20260428
DTEND;VALUE=DATE:20260429
UID:722625088777
DESCRIPTION:2026-04-29【先着特典】BANG!! / SAVE YOUR HEART / オド
 ロウゼ！ (初回盤A＋初回盤B＋通常盤セット)(メタリッ
 クフォトカード2枚組+A4サイズステッカーシート+Snow Man
 ロゴ入り箸)Snow Man(株)MENT RECORDING
LOCATION:
END:VEVENT
BEGIN:VEVENT
SUMMARY:【先着特典】THE IDOLM@STER CINDERELLA GIRLS シンデレラ
 ガール総選挙 SONG COLLECTION(A4クリアファイル)
DTSTART;VALUE=DATE:20260428
DTEND;VALUE=DATE:20260429
UID:284241551663
DESCRIPTION:2026-04-29【先着特典】THE IDOLM@STER CINDERELLA GIRLS 
 シンデレラガール総選挙 SONG COLLECTION(A4クリアファイル)
 (ゲーム・ミュージック)日本コロムビア(株)
LOCATION:
END:VEVENT
BEGIN:VEVENT
SUMMARY:【楽天ブックス限定先着特典+早期予約特典】マ
 クロスF ギャラクシーライブ☆ファイナル 2025(限定盤)
 【Blu-ray】(ナップザック+バックステージパス風ネック
 ストラップ)
DTSTART;VALUE=DATE:20260428
DTEND;VALUE=DATE:20260429
UID:136593207219
DESCRIPTION:2026-04-29【楽天ブックス限定先着特典+早期予約
 特典】マクロスF ギャラクシーライブ☆ファイナル 2025(
 限定盤)【Blu-ray】(ナップザック+バックステージパス風
 ネックストラップ)シェリル・ノーム starring May'n/ランカ
 ・リー=中島愛(株)フライングドッグ
LOCATION:
END:VEVENT
BEGIN:VEVENT
SUMMARY:マクロスF ギャラクシーライブ☆ファイナル 2025(
 通常盤)【Blu-ray】
DTSTART;VALUE=DATE:20260428
DTEND;VALUE=DATE:20260429
UID:787710592698
DESCRIPTION:2026-04-29マクロスF ギャラクシーライブ☆ファ
 イナル 2025(通常盤)【Blu-ray】シェリル・ノーム starring Ma
 y'n/ランカ・リー=中島愛(株)フライングドッグ
LOCATION:
END:VEVENT
BEGIN:VEVENT
SUMMARY:マクロスF ギャラクシーライブ☆ファイナル 2025(
 完全生産限定・ヤックデカルチャー特装盤)【Blu-ray】
DTSTART;VALUE=DATE:20260428
DTEND;VALUE=DATE:20260429
UID:131119007266
DESCRIPTION:2026-04-29マクロスF ギャラクシーライブ☆ファ
 イナル 2025(完全生産限定・ヤックデカルチャー特装盤)
 【Blu-ray】シェリル・ノーム starring May'n/ランカ・リー=
 中島愛(株)フライングドッグ
LOCATION:
END:VEVENT
BEGIN:VEVENT
SUMMARY:【楽天ブックス限定先着特典+早期予約特典】マ
 クロスF ギャラクシーライブ☆ファイナル 2025(完全生産
 限定・ヤックデカルチャー特装盤)【Blu-ray】(ナップザ
 ック+バックステージパス風ネックストラップ)
DTSTART;VALUE=DATE:20260428
DTEND;VALUE=DATE:20260429
UID:320244977726
DESCRIPTION:2026-04-29【楽天ブックス限定先着特典+早期予約
 特典】マクロスF ギャラクシーライブ☆ファイナル 2025(
 完全生産限定・ヤックデカルチャー特装盤)【Blu-ray】(
 ナップザック+バックステージパス風ネックストラップ)
 シェリル・ノーム starring May'n/ランカ・リー=中島愛(株)
 フライングドッグ
LOCATION:
END:VEVENT
BEGIN:VEVENT
SUMMARY:【楽天ブックス限定先着特典+早期予約特典】マ
 クロスF ギャラクシーライブ☆ファイナル 2025(通常盤)
 【Blu-ray】(ナップザック+バックステージパス風ネック
 ストラップ)
DTSTART;VALUE=DATE:20260428
DTEND;VALUE=DATE:20260429
UID:755513783238
DESCRIPTION:2026-04-29【楽天ブックス限定先着特典+早期予約
 特典】マクロスF ギャラクシーライブ☆ファイナル 2025(
 通常盤)【Blu-ray】(ナップザック+バックステージパス風
 ネックストラップ)シェリル・ノーム starring May'n/ランカ
 ・リー=中島愛(株)フライングドッグ
LOCATION:
END:VEVENT
BEGIN:VEVENT
SUMMARY:マクロスF ギャラクシーライブ☆ファイナル 2025(
 限定盤)【Blu-ray】
DTSTART;VALUE=DATE:20260428
DTEND;VALUE=DATE:20260429
UID:303152498147
DESCRIPTION:2026-04-29マクロスF ギャラクシーライブ☆ファ
 イナル 2025(限定盤)【Blu-ray】シェリル・ノーム starring Ma
 y'n/ランカ・リー=中島愛(株)フライングドッグ
LOCATION:
END:VEVENT
BEGIN:VEVENT
SUMMARY:【楽天ブックス限定先着特典】どきどきデエト【
 Blu-ray付生産限定盤】(アクリルスタンド(50mm角+30mm角台
 座印刷アリ))
DTSTART;VALUE=DATE:20260428
DTEND;VALUE=DATE:20260429
UID:225630937518
DESCRIPTION:2026-04-29【楽天ブックス限定先着特典】どきど
 きデエト【Blu-ray付生産限定盤】(アクリルスタンド(50mm
 角+30mm角台座印刷アリ))Poppin'Party(株)ブシロードミュー
 ジック
LOCATION:
END:VEVENT
BEGIN:VEVENT
SUMMARY:【楽天ブックス限定先着特典+同時購入特典】ど
 きどきデエト【通常盤】＋Fear Nothing【通常盤】(缶バッ
 ジ57mm(2種)+Poppin'Party＆Roselia特製デザインA3ポスター(シ
 ークレット有))
DTSTART;VALUE=DATE:20260428
DTEND;VALUE=DATE:20260429
UID:285259428095
DESCRIPTION:2026-04-29【楽天ブックス限定先着特典+同時購入
 特典】どきどきデエト【通常盤】＋Fear Nothing【通常盤
 】(缶バッジ57mm(2種)+Poppin'Party＆Roselia特製デザインA3ポ
 スター(シークレット有))Poppin'Party/Roselia(株)ブシロード
 ミュージック
LOCATION:
END:VEVENT
BEGIN:VEVENT
SUMMARY:【楽天ブックス限定先着特典+同時購入特典】ど
 きどきデエト【通常盤】＋Fear Nothing【Blu-ray付生産限定
 盤】(缶バッジ57mm(Poppin'Party)＋アクリルスタンド(50mm角+3
 0mm角台座印刷アリ) (Roselia)+Poppin'Party＆Roselia特製デザイ
 ンA3ポスター(シークレット有))
DTSTART;VALUE=DATE:20260428
DTEND;VALUE=DATE:20260429
UID:248585977450
DESCRIPTION:2026-04-29【楽天ブックス限定先着特典+同時購入
 特典】どきどきデエト【通常盤】＋Fear Nothing【Blu-ray付
 生産限定盤】(缶バッジ57mm(Poppin'Party)＋アクリルスタン
 ド(50mm角+30mm角台座印刷アリ) (Roselia)+Poppin'Party＆Roselia特
 製デザインA3ポスター(シークレット有))Poppin'Party/Roselia(
 株)ブシロードミュージック
LOCATION:
END:VEVENT
BEGIN:VEVENT
SUMMARY:【楽天ブックス限定先着特典+同時購入特典】ど
 きどきデエト【Blu-ray付生産限定盤】＋Fear Nothing【Blu-ray
 付生産限定盤】(アクリルスタンド(50mm角+30mm角台座印刷
 アリ) (2種)+Poppin'Party＆Roselia特製デザインA3ポスター(シ
 ークレット有))
DTSTART;VALUE=DATE:20260428
DTEND;VALUE=DATE:20260429
UID:147409563108
DESCRIPTION:2026-04-29【楽天ブックス限定先着特典+同時購入
 特典】どきどきデエト【Blu-ray付生産限定盤】＋Fear Nothi
 ng【Blu-ray付生産限定盤】(アクリルスタンド(50mm角+30mm角
 台座印刷アリ) (2種)+Poppin'Party＆Roselia特製デザインA3ポ
 スター(シークレット有))Poppin'Party/Roselia(株)ブシロード
 ミュージック
LOCATION:
END:VEVENT
BEGIN:VEVENT
SUMMARY:【楽天ブックス限定先着特典+同時購入特典】ど
 きどきデエト【Blu-ray付生産限定盤】＋Fear Nothing【通常
 盤】(アクリルスタンド(50mm角+30mm角台座印刷アリ)(Poppin'
 Party)＋缶バッジ57mm（Roselia）+Poppin'Party＆Roselia特製デザ
 インA3ポスター(シークレット有))
DTSTART;VALUE=DATE:20260428
DTEND;VALUE=DATE:20260429
UID:328492521726
DESCRIPTION:2026-04-29【楽天ブックス限定先着特典+同時購入
 特典】どきどきデエト【Blu-ray付生産限定盤】＋Fear Nothi
 ng【通常盤】(アクリルスタンド(50mm角+30mm角台座印刷ア
 リ)(Poppin'Party)＋缶バッジ57mm（Roselia）+Poppin'Party＆Roselia
 特製デザインA3ポスター(シークレット有))Poppin'Party/Rosel
 ia(株)ブシロードミュージック
LOCATION:
END:VEVENT
BEGIN:VEVENT
SUMMARY:【楽天ブックス限定先着特典】どきどきデエト【
 通常盤】(缶バッジ57mm)
DTSTART;VALUE=DATE:20260428
DTEND;VALUE=DATE:20260429
UID:182532859074
DESCRIPTION:2026-04-29【楽天ブックス限定先着特典】どきど
 きデエト【通常盤】(缶バッジ57mm)Poppin'Party(株)ブシロー
 ドミュージック
LOCATION:
END:VEVENT
BEGIN:VEVENT
SUMMARY:どきどきデエト【Blu-ray付生産限定盤】
DTSTART;VALUE=DATE:20260428
DTEND;VALUE=DATE:20260429
UID:292093886290
DESCRIPTION:2026-04-29どきどきデエト【Blu-ray付生産限定盤】
 Poppin'Party(株)ブシロードミュージック
LOCATION:
END:VEVENT
BEGIN:VEVENT
SUMMARY:【楽天ブックス限定先着特典】マクロスF ギャラ
 クシーライブ☆ファイナル 2025(限定盤)【Blu-ray】(ナッ
 プザック)
DTSTART;VALUE=DATE:20260428
DTEND;VALUE=DATE:20260429
UID:301674302274
DESCRIPTION:2026-04-29【楽天ブックス限定先着特典】マクロ
 スF ギャラクシーライブ☆ファイナル 2025(限定盤)【Blu-r
 ay】(ナップザック)シェリル・ノーム starring May'n/ランカ
 ・リー=中島愛(株)フライングドッグ
LOCATION:
END:VEVENT
BEGIN:VEVENT
SUMMARY:『ファイナルファンタジーXIII』 アドラブルアー
 ツ ライトニング (フィギュア)
DTSTART;VALUE=DATE:20260429
DTEND;VALUE=DATE:20260430
UID:278647485174
DESCRIPTION:2026-04『ファイナルファンタジーXIII』 アドラ
 ブルアーツ ライトニング (フィギュア)スクウェア・エ
 ニックス
LOCATION:
END:VEVENT
BEGIN:VEVENT
SUMMARY:ブリングアーツ 『ファイナルファンタジーVII』 
 エアリス・ゲインズブール ミスリルロッドVer. (フィギ
 ュア)
DTSTART;VALUE=DATE:20260429
DTEND;VALUE=DATE:20260430
UID:144682523563
DESCRIPTION:2026-04ブリングアーツ 『ファイナルファンタジ
 ーVII』 エアリス・ゲインズブール ミスリルロッドVer. (
 フィギュア)スクウェア・エニックス
LOCATION:
END:VEVENT
BEGIN:VEVENT
SUMMARY:【特典】シニガミ姫と異書館ノ怪物 Switch2版(【初
 回外付特典】木製しおり)
DTSTART;VALUE=DATE:20260429
DTEND;VALUE=DATE:20260430
UID:149085428626
DESCRIPTION:2026-04-30【特典】シニガミ姫と異書館ノ怪物 Swi
 tch2版(【初回外付特典】木製しおり)日本一ソフトウェ
 ア
LOCATION:
END:VEVENT
BEGIN:VEVENT
SUMMARY:【特典】シニガミ姫と異書館ノ怪物 Switch版(【初
 回外付特典】木製しおり)
DTSTART;VALUE=DATE:20260429
DTEND;VALUE=DATE:20260430
UID:137635290949
DESCRIPTION:2026-04-30【特典】シニガミ姫と異書館ノ怪物 Swi
 tch版(【初回外付特典】木製しおり)日本一ソフトウェア
LOCATION:
END:VEVENT
BEGIN:VEVENT
SUMMARY:【特典】シニガミ姫と異書館ノ怪物 PS5版(【初回
 外付特典】木製しおり)
DTSTART;VALUE=DATE:20260429
DTEND;VALUE=DATE:20260430
UID:748350442270
DESCRIPTION:2026-04-30【特典】シニガミ姫と異書館ノ怪物 PS5
 版(【初回外付特典】木製しおり)日本一ソフトウェア
LOCATION:
END:VEVENT
BEGIN:VEVENT
SUMMARY:ファイナルファンタジー XIV ミュージックコレク
 ションキーチェーン バイナルシリーズ Vol. 2 1BOX=6個入
DTSTART;VALUE=DATE:20260429
DTEND;VALUE=DATE:20260430
UID:318738167113
DESCRIPTION:2026-04ファイナルファンタジー XIV ミュージッ
 クコレクションキーチェーン バイナルシリーズ Vol. 2 1B
 OX=6個入スクウェア・エニックス
LOCATION:
END:VEVENT
BEGIN:VEVENT
SUMMARY:ファイナルファンタジー XIV ミュージックコレク
 ションキーチェーン バイナルシリーズ Vol. 1 1BOX=6個入
DTSTART;VALUE=DATE:20260429
DTEND;VALUE=DATE:20260430
UID:184218777753
DESCRIPTION:2026-04ファイナルファンタジー XIV ミュージッ
 クコレクションキーチェーン バイナルシリーズ Vol. 1 1B
 OX=6個入スクウェア・エニックス
LOCATION:
END:VEVENT
BEGIN:VEVENT
SUMMARY:『ドラゴンクエスト』 スマイルスライム まきつ
 きぬいぐるみ スライム
DTSTART;VALUE=DATE:20260429
DTEND;VALUE=DATE:20260430
UID:208800569416
DESCRIPTION:2026-04『ドラゴンクエスト』 スマイルスライム
  まきつきぬいぐるみ スライムスクウェア・エニックス
LOCATION:
END:VEVENT
BEGIN:VEVENT
SUMMARY:エツコ・ブランニュー・デイ たまゆらの快楽
DTSTART;VALUE=DATE:20260501
DTEND;VALUE=DATE:20260502
UID:190272543386
DESCRIPTION:2026-05-02エツコ・ブランニュー・デイ たまゆら
 の快楽堀北実来／辻さくら／愛宝すず
LOCATION:
END:VEVENT
BEGIN:VEVENT
SUMMARY:Hatsuboshi Gakuen Remix Album 「ReCollection」vol.1
DTSTART;VALUE=DATE:20260512
DTEND;VALUE=DATE:20260513
UID:273228431111
DESCRIPTION:2026-05-13Hatsuboshi Gakuen Remix Album 「ReCollection」vol.
 1初星学園
LOCATION:
END:VEVENT
BEGIN:VEVENT
SUMMARY:部屋とガラクタと私 (初回生産限定盤 CD＋Blu-ray)
DTSTART;VALUE=DATE:20260512
DTEND;VALUE=DATE:20260513
UID:962268353168
DESCRIPTION:2026-05-13部屋とガラクタと私 (初回生産限定盤 C
 D＋Blu-ray)ミーマイナー(株)ソニー・ミュージックレーベ
 ルズ
LOCATION:
END:VEVENT
BEGIN:VEVENT
SUMMARY:【楽天ブックス限定先着特典】部屋とガラクタと
 私 (初回生産限定盤 CD＋Blu-ray)(品目未定)
DTSTART;VALUE=DATE:20260512
DTEND;VALUE=DATE:20260513
UID:243636616247
DESCRIPTION:2026-05-13【楽天ブックス限定先着特典】部屋と
 ガラクタと私 (初回生産限定盤 CD＋Blu-ray)(品目未定)ミ
 ーマイナー(株)ソニー・ミュージックレーベルズ
LOCATION:
END:VEVENT
BEGIN:VEVENT
SUMMARY:【楽天ブックス限定先着特典】部屋とガラクタと
 私(品目未定)
DTSTART;VALUE=DATE:20260512
DTEND;VALUE=DATE:20260513
UID:149019158133
DESCRIPTION:2026-05-13【楽天ブックス限定先着特典】部屋と
 ガラクタと私(品目未定)ミーマイナー(株)ソニー・ミュ
 ージックレーベルズ
LOCATION:
END:VEVENT
BEGIN:VEVENT
SUMMARY:【先着特典】circle(ステッカー)
DTSTART;VALUE=DATE:20260512
DTEND;VALUE=DATE:20260513
UID:867980530638
DESCRIPTION:2026-05-13【先着特典】circle(ステッカー)goethegoeth
 e
LOCATION:
END:VEVENT
END:VCALENDAR
