BEGIN:VCALENDAR
VERSION:2.0
PRODID:-//chikkutakku.com//RDFCal 1.0//EN
X-WR-CALDESC:GoogleカレンダーやiCalendar形式情報を共有シェ
 アしましょう。近所のイベントから全国のイベントま
 で今日のイベント検索やスケジュールを決めるならち
 っくたっく
X-WR-CALNAME:ちっくたっく
X-WR-TIMEZONE:UTC
BEGIN:VEVENT
SUMMARY:Lima Police Chief Curtis Hile
DTSTART;VALUE=DATE-TIME:20260427T160000Z
DTEND;VALUE=DATE-TIME:20260427T170000Z
UID:140291285069
DESCRIPTION:Lima Police Chief Curtis Hile
LOCATION:Veterans Memorial Civic and Convention Center\, 7 Town Square\, L
 ima\, OH 45801\, USA
END:VEVENT
BEGIN:VEVENT
SUMMARY:Past Presidents' Luncheon
DTSTART;VALUE=DATE-TIME:20260428T160000Z
DTEND;VALUE=DATE-TIME:20260428T170000Z
UID:765136959957
DESCRIPTION:Past Presidents' Luncheon
LOCATION:Shawnee Country Club\, 1700 Shawnee Rd\, Lima\, OH 45805\, USA
END:VEVENT
BEGIN:VEVENT
SUMMARY:Bath High School Interact Club
DTSTART;VALUE=DATE-TIME:20260504T160000Z
DTEND;VALUE=DATE-TIME:20260504T170000Z
UID:260538843961
DESCRIPTION:Bath High School Interact Club
LOCATION:Veterans Memorial Civic and Convention Center\, 7 Town Square\, L
 ima\, OH 45801\, USA
END:VEVENT
BEGIN:VEVENT
SUMMARY:Cinco de Mayo Social
DTSTART;VALUE=DATE-TIME:20260505T203000Z
DTEND;VALUE=DATE-TIME:20260506T000000Z
UID:752443332385
DESCRIPTION:Cinco de Mayo Social
LOCATION:Cancun Mexican restaurant Lima\, 2613 Elida Rd\, Lima\, OH 45805\
 , USA
END:VEVENT
BEGIN:VEVENT
SUMMARY:Blood Clinic
DTSTART;VALUE=DATE-TIME:20260509T103000Z
DTEND;VALUE=DATE-TIME:20260509T133000Z
UID:339013578927
DESCRIPTION:Blood Clinic
LOCATION:Senior Citizens Services\, 3400 W Elm St\, Lima\, OH 45807\, USA
END:VEVENT
BEGIN:VEVENT
SUMMARY:Allen Lima Youth Leadership Graduation
DTSTART;VALUE=DATE-TIME:20260511T160000Z
DTEND;VALUE=DATE-TIME:20260511T170000Z
UID:148735526023
DESCRIPTION:Allen Lima Youth Leadership Graduation
LOCATION:Veterans Memorial Civic and Convention Center\, 7 Town Square\, L
 ima\, OH 45801\, USA
END:VEVENT
BEGIN:VEVENT
SUMMARY:Mental Health
DTSTART;VALUE=DATE-TIME:20260518T160000Z
DTEND;VALUE=DATE-TIME:20260518T170000Z
UID:218343740354
DESCRIPTION:Mental Health
LOCATION:Veterans Memorial Civic and Convention Center\, 7 Town Square\, L
 ima\, OH 45801\, USA
END:VEVENT
BEGIN:VEVENT
SUMMARY:No Meeting - Happy Memorial Day!
DTSTART;VALUE=DATE-TIME:20260525T160000Z
DTEND;VALUE=DATE-TIME:20260525T170000Z
UID:259734418022
DESCRIPTION:No Meeting - Happy Memorial Day!
LOCATION:
END:VEVENT
END:VCALENDAR
