BEGIN:VCALENDAR
VERSION:2.0
PRODID:-//chikkutakku.com//RDFCal 1.0//EN
X-WR-CALDESC:GoogleカレンダーやiCalendar形式情報を共有シェ
 アしましょう。近所のイベントから全国のイベントま
 で今日のイベント検索やスケジュールを決めるならち
 っくたっく
X-WR-CALNAME:ちっくたっく
X-WR-TIMEZONE:UTC
BEGIN:VEVENT
SUMMARY:Alabama State Holiday —  (Traitors) Memorial Day ☎️334-242-7
 100
DTSTART;VALUE=DATE-TIME:20260427T050000Z
DTEND;VALUE=DATE-TIME:20260428T050000Z
UID:277633572880
DESCRIPTION:Dear south of the Mason Dixon line.\nYou lost. That means no h
 olidays. \nLove\, the country who LET you back in.
LOCATION:Birmingham\, AL\, USA
END:VEVENT
BEGIN:VEVENT
SUMMARY:Latvia Independence
DTSTART;VALUE=DATE-TIME:20260504T050000Z
DTEND;VALUE=DATE-TIME:20260505T050000Z
UID:260789406379
DESCRIPTION:1990 left Soviet Union losers
LOCATION:Riga\, Latvia
END:VEVENT
BEGIN:VEVENT
SUMMARY:Estonia Independence
DTSTART;VALUE=DATE-TIME:20260508T050000Z
DTEND;VALUE=DATE-TIME:20260509T050000Z
UID:227181620765
DESCRIPTION:1990 left Soviet losers
LOCATION:Tallinn\, Estonia
END:VEVENT
END:VCALENDAR
