BEGIN:VCALENDAR
VERSION:2.0
PRODID:-//chikkutakku.com//RDFCal 1.0//EN
X-WR-CALDESC:GoogleカレンダーやiCalendar形式情報を共有シェ
 アしましょう。近所のイベントから全国のイベントま
 で今日のイベント検索やスケジュールを決めるならち
 っくたっく
X-WR-CALNAME:ちっくたっく
X-WR-TIMEZONE:UTC
BEGIN:VEVENT
SUMMARY:【東京】Negicco＠Negicco 2026 live：Make Up Prelude supporte
 d byサトウ食品
DTSTART;VALUE=DATE-TIME:20260426T080000Z
DTEND;VALUE=DATE-TIME:20260426T110000Z
UID:536165263474
DESCRIPTION:【Negicco 2026 live：Make Up Prelude supported byサトウ
 食品】\n日時：2026年4月26日（日）開場16:00／開演17:00\n
 会場：Spotify O-EAST\n出演：Negicco\nチケット：\n（１）１F
 オールスタンディング（一般）（整理番号順入場）￥5\
 ,500（税込）\n（２）１Fオールスタンディング（学割）
 （整理番号順入場）￥2\,500（税込）\n（３）２F全指定
 席（一般）￥7\,000（税込）\n（４）２F全指定席（学割
 ）￥4\,000（税込）\n※入場時別途ドリンク代￥600必要\n
 ※各チケットは上限に達し次第終了となります。\n※車
 椅子エリアをご用意させていただきます。\n※本公演は
 「紙チケット」となります。\n〈スタンディングについ
 て〉\n・12歳以上はチケットが必要となります。（12歳
 未満、保護者1名同伴につき1名入場可）\n・前方に「女
 性・子供（12歳未満）限定エリア」を設けさせていただ
 きます。\n（付き添いであれば男性の保護者1名同伴可
 ）\n・２Fに車椅子エリアを設けさせていただきます。\n
 （車椅子の方は１F席のチケットでも２F車椅子エリアに
 ご入場いただけます。）\n（スペース確保の都合上、ご
 希望の方は必ず、公演の1週間前までにSOGOTOKYOまでご連
 絡ください。）\n＜学割チケットについて・12歳未満の
 方について＞\n・学割チケットをご購入の方、12歳未満
 の方は、ご入場の際、公的身分証明書をご用意くださ
 い。\n（例：健康保険証、住民票、戸籍謄本、学生証な
 ど）\n・学割対象者は小学生・中学生・高校生・大学生
 ・専門学校生となります。\n〈指定席について〉\n・指
 定席は数に限りがございます。\n・指定席はご高齢の方
 、お子様連れの方、足の不自由な方など、長時間スタ
 ンディングが厳しい方のための席となります。ご協力
 よろしくお願いします。\n・4歳未満ひざ上無料、ただ
 し4歳未満でも席が必要な場合は有料となります。
LOCATION:Spotify O-EAST\, 日本、〒150-0043 東京都渋谷区道玄坂
 ２丁目１４−８
END:VEVENT
BEGIN:VEVENT
SUMMARY:【埼玉】Negicco＠ゴールデンウィークの八木橋百
 貨店で感謝祭 2026
DTSTART;VALUE=DATE-TIME:20260502T070000Z
DTEND;VALUE=DATE-TIME:20260502T090000Z
UID:223606316616
DESCRIPTION:●イベント詳細タイトル：ゴールデンウィー
 クの八木橋百貨店で感謝祭 2026イベント内容：トーク＆
 ライブ＆大抽選会日程：2026年5月2日（土）開場15:30／開
 演16:00会場：八木橋百貨店　8階カトレアホール（埼玉
 県熊谷市　仲町74）出演：Negiccoチケット：（１）全自
 由席（一般） ￥3\,500（税込）（２）全自由席（学割） 
 ￥1\,500（税込）※本公演は『紙チケット』となります
 。※チケット記載の整理番号順での入場となります。
 ※時間に遅れた場合は最後尾からの入場となります。
 ご了承ください。※4歳未満ひざ上無料、ただし4歳未満
 でも席が必要な場合は有料となります。※車椅子エリ
 アを用意させていただきます。＜学割チケットについ
 て＞・学割チケットをご購入の方はご入場の際、公的
 身分証明書をご用意ください。（例：健康保険証、住
 民票、戸籍謄本、学生証など）・学割対象者は小学生
 未満、小学生・中学生・高校生・大学生・専門学校生
 となります。《チケット発売日》・Negicco House～Negicco 
 公式ファンクラブ～会員先行抽選受付■受付期間：2026
 年1月13日(火)18:00～2026年1月27日(火)23:59まで※チケット
 受付はお一人様5枚までとなります。■抽選結果確認・
 入金期間：店頭決済をご選択された方：2026年1月30日(金
 )15:00～2026年2月3日(火)23:00までクレジット決済をご選択
 された方：2026年1月30日(金)15:00～公演日当日まで※クレ
 ジット決済は当選時に決済されます。■チケット引取
 期間2026年2月28日(土)12:00～公演日当日までお申込みはこ
 ちら・HP&amp\;SNS抽選先行受付■受付期間：2026年2月6日(
 金)19:00～2026年2月17日(火)23:59まで※チケット受付はお一
 人様5枚までとなります。■抽選結果確認・入金期間：
 店頭決済をご選択された方：2026年2月20日(金)15:00～2026
 年2月23日(月)23:00までクレジット決済をご選択された方
 ：2026年2月20日(金)15:00～公演日当日まで※クレジット決
 済は当選時に決済されます。■チケット引取期間2026年2
 月28日(土)12:00～公演日当日までお申し込みこちら！https
 ://l-tike.com/negicco/・一般発売2026年2月28日(土)12:00～https://
 l-tike.com/negicco/【問い合わせ】EHクリエイターズ info@negic
 co.net
LOCATION:八木橋百貨店\, 日本、〒360-8502 埼玉県熊谷市仲
 町７４
END:VEVENT
BEGIN:VEVENT
SUMMARY:Negicco＠スケッチャーズアウトレット アークガレ
 リア長岡店　オープニングキャンペーン　Negiccoトーク
 ショー
DTSTART;VALUE=DATE-TIME:20260505T040000Z
DTEND;VALUE=DATE-TIME:20260505T050000Z
UID:319179229534
DESCRIPTION:https://negicco.net/news/detail/75998「スケッチャーズ
 アウトレット アークガレリア長岡店」オープニングキ
 ャンペーン5月5日(火・祝)Negiccoトークショーカリフォル
 ニア州ロサンゼルスに本社を置く「SKECHERS（スケッチャ
 ーズ）」が、新潟県内1号店となる 「スケッチャーズア
 ウトレット アークガレリア長岡店」 を2026年4月8日(水)
 に長岡市堺町にオープンします。オープン記念として
 、4月8日(水)～5月4日(月・祝) の期間中に税込10\,000円以
 上お買い上げのお客様を対象に、Negiccoトークショー参
 加券や直筆サイン入りグッズが当たる抽選会を実施し
 ます。＜抽選特典＞• A賞：5月5日(火・祝)開催「Negicco
 」トークショー招待券（40名）• B賞：「Negicco」直筆サ
 イン入りスケッチャーズエコバッグ（50名）• C賞：オ
 ープン記念クーポンチケット（3\,000名）※A賞は当日13:0
 0までに来店可能な方が対象※B賞は4月8日(水)13:00以降に
 引き換え可能※C賞は1会計10\,000円(税込)以上で1\,000円引
 き＜スケッチャーズアウトレット アークガレリア長岡
 店 概要＞所在地：〒940-2024　新潟県長岡市堺町字浦田2-
 6TEL：025-822-5614営業時間：10:00～20:00定休日：1月1日（元
 日）詳細は下記をご確認ください。https://prtimes.jp/main/ht
 ml/rd/p/000000057.000074058.html
LOCATION:スケッチャーズ アウトレット アークガレリア長
 岡店\, 日本、〒940-2024 新潟県長岡市堺町字浦田2−６
END:VEVENT
BEGIN:VEVENT
SUMMARY:Negicco＠古町どんどん2026春
DTSTART;VALUE=DATE-TIME:20260510T040000Z
DTEND;VALUE=DATE-TIME:20260510T043000Z
UID:137046354562
DESCRIPTION:【５番町】\n12:00-12:30 courtesea\n13:00-13:30 Negicco\n\
 n【７番町】\n15:30-16:00 courtesea\n16:30-17:00 Negicco
LOCATION:５番町\, 日本、〒951-8063 新潟県新潟市中央区古
 町通５番町
END:VEVENT
BEGIN:VEVENT
SUMMARY:Negicco＠古町どんどん2026春
DTSTART;VALUE=DATE-TIME:20260510T073000Z
DTEND;VALUE=DATE-TIME:20260510T080000Z
UID:181496439757
DESCRIPTION:【５番町】\n12:00-12:30 courtesea\n13:00-13:30 Negicco\n\
 n【７番町】\n15:30-16:00 courtesea\n16:30-17:00 Negicco
LOCATION:７番町\, 日本、〒951-8063 新潟県新潟市中央区古
 町通７番町
END:VEVENT
BEGIN:VEVENT
SUMMARY:【東京】Negicco＠月刊PAM Presents.「ANSWER」VOL.10
DTSTART;VALUE=DATE-TIME:20260520T103000Z
DTEND;VALUE=DATE-TIME:20260520T120000Z
UID:166297456223
DESCRIPTION:5月20日（水）OPEN 19:00／START  19:30 @ 新宿MARZ月
 刊PAM Presents.「ANSWER」VOL.10出演月刊PAM / Negiccoチケットは
 本日22:00発売！https://t-dv.com/answer10優先入場チケット：35
 00（1D別）一般チケット：3000（1D別）
LOCATION:新宿MARZ\, 日本、〒160-0021 東京都新宿区歌舞伎町
 ２丁目４５−１ 第一 トキワビル B1
END:VEVENT
END:VCALENDAR
